Workbook

Sheet КЛАДС СЕРВИНТРЕГА
A1: город | B1: ID CIUDAD ORIGEN | C1: DANE CIUDAD ORIGEN | D1: REGIONAL ORIGEN | E1: NOMBRE CIUDAD ORIGEN | F1: FRECUENCIA ORIGEN | G1: ID CIUDAD DESTINO | H1: DANE | I1: CIUDAD DESTINO | J1: REGIONAL DESTINO | K1: NOMBRE CIUDAD DESTINO | L1: город | M1: FRECUENCIA DESTINO | N1: TIEMPO ENTREGA COMERCIAL (DÃ­as) | O1: TIEMPO ENTREGA COMERCIAL (Minutos) | P1: TIPO TRAYECTO | Q1: RESTRICCION FISICA
A2: ACACIAS | B2: 10 | C2: 11001000 | D2: BOGOTA | E2: BOGOTA-CUNDINAMARCA | F2: LUN, MAR, MIE, JUE, VIE, SAB | G2: 149 | H2: 50006 | I2: 0 | J2: LLANOS | K2: ACACIAS-META | L2: ACACIAS | N2: 2 | O2: 2880 | P2: ZONAL | Q2: PESO: 500 kgs LARGO: 300 cms ANCHO: 300 cms ALTO: 300 cms | R2: =VLOOKUP(A2,'[1]КЛАДР РАНЕЕ ЗАГРУЖЕННЫЙ'!A:A,1,0) -> ACACIAS
A3: ACAPULCO | B3: 10 | C3: 11001000 | D3: BOGOTA | E3: BOGOTA-CUNDINAMARCA | F3: LUN, MAR, MIE, JUE, VIE, SAB | G3: 881 | H3: 68307 | I3: 7 | J3: ORIENTE | K3: ACAPULCO-SANTANDER(CENTPOBL) | L3: ACAPULCO | M3: MAR, JUE, SAB | N3: 1 | O3: 1440 | P3: NACIONAL | Q3: PESO: 50 kgs LARGO: 50 cms ANCHO: 50 cms ALTO: 50 cms | R3: =VLOOKUP(A3,'[1]КЛАДР РАНЕЕ ЗАГРУЖЕННЫЙ'!A:A,1,0) -> ACAPULCO
A4: AGUA DE DIOS | B4: 10 | C4: 11001000 | D4: BOGOTA | E4: BOGOTA-CUNDINAMARCA | F4: LUN, MAR, MIE, JUE, VIE, SAB | G4: 280 | H4: 25001 | I4: 0 | J4: REGIONAL CENTRO | K4: AGUA DE DIOS-CUNDINAMARCA | L4: AGUA DE DIOS | N4: 1 | O4: 1440 | P4: ZONAL | Q4: PESO: 50 kgs LARGO: 150 cms ANCHO: 100 cms ALTO: 100 cms | R4: =VLOOKUP(A4,'[1]КЛАДР РАНЕЕ ЗАГРУЖЕННЫЙ'!A:A,1,0) -> AGUA DE DIOS
A5: AGUACHICA | B5: 10 | C5: 11001000 | D5: BOGOTA | E5: BOGOTA-CUNDINAMARCA | F5: LUN, MAR, MIE, JUE, VIE, SAB | G5: 3 | H5: 20011 | I5: 0 | J5: ORIENTE | K5: AGUACHICA-CESAR | L5: AGUACHICA | M5: LUN, MAR, MIE, JUE, VIE, SAB | N5: 2 | O5: 2880 | P5: NACIONAL | Q5: PESO: 200 kgs LARGO: 200 cms ANCHO: 200 cms ALTO: 200 cms | R5: =VLOOKUP(A5,'[1]КЛАДР РАНЕЕ ЗАГРУЖЕННЫЙ'!A:A,1,0) -> AGUACHICA
A6: AGUADAS | B6: 10 | C6: 11001000 | D6: BOGOTA | E6: BOGOTA-CUNDINAMARCA | F6: LUN, MAR, MIE, JUE, VIE, SAB | G6: 234 | H6: 17013 | I6: 0 | J6: EJE CAFETERO | K6: AGUADAS-CALDAS | L6: AGUADAS | N6: 4 | O6: 5760 | P6: NACIONAL | Q6: PESO: 100 kgs LARGO: 100 cms ANCHO: 100 cms ALTO: 100 cms | R6: =VLOOKUP(A6,'[1]КЛАДР РАНЕЕ ЗАГРУЖЕННЫЙ'!A:A,1,0) -> AGUADAS
A7: AGUAS CLARAS | B7: 10 | C7: 11001000 | D7: BOGOTA | E7: BOGOTA-CUNDINAMARCA | F7: LUN, MAR, MIE, JUE, VIE, SAB | G7: 936 | H7: 54498 | I7: 2 | J7: ORIENTE | K7: AGUAS CLARAS-NORTE DE SANTANDER(CORRGTO) | L7: AGUAS CLARAS | M7: MAR | N7: 8 | O7: 11520 | P7: TRAYECTO ESPECIAL | Q7: PESO: 30 kgs LARGO: 50 cms ANCHO: 50 cms ALTO: 50 cms | R7: =VLOOKUP(A7,'[1]КЛАДР РАНЕЕ ЗАГРУЖЕННЫЙ'!A:A,1,0) -> AGUAS CLARAS
A8: AGUAZUL | B8: 10 | C8: 11001000 | D8: BOGOTA | E8: BOGOTA-CUNDINAMARCA | F8: LUN, MAR, MIE, JUE, VIE, SAB | G8: 128 | H8: 85010 | I8: 0 | J8: LLANOS | K8: AGUAZUL-CASANARE | L8: AGUAZUL | N8: 2 | O8: 2880 | P8: NACIONAL | Q8: PESO: 500 kgs LARGO: 300 cms ANCHO: 200 cms ALTO: 200 cms | R8: =VLOOKUP(A8,'[1]КЛАДР РАНЕЕ ЗАГРУЖЕННЫЙ'!A:A,1,0) -> AGUAZUL
A9: ALBAN | B9: 10 | C9: 11001000 | D9: BOGOTA | E9: BOGOTA-CUNDINAMARCA | F9: LUN, MAR, MIE, JUE, VIE, SAB | G9: 391 | H9: 25019 | I9: 0 | J9: REGIONAL CENTRO | K9: ALBAN-CUNDINAMARCA | L9: ALBAN | N9: 1 | O9: 1440 | P9: ZONAL | Q9: PESO: 50 kgs LARGO: 150 cms ANCHO: 100 cms ALTO: 100 cms | R9: =VLOOKUP(A9,'[1]КЛАДР РАНЕЕ ЗАГРУЖЕННЫЙ'!A:A,1,0) -> ALBAN
A10: ALBANIA (S) | B10: 10 | C10: 11001000 | D10: BOGOTA | E10: BOGOTA-CUNDINAMARCA | F10: LUN, MAR, MIE, JUE, VIE, SAB | G10: 958 | H10: 68020 | I10: 0 | J10: BOYACA | K10: ALBANIA (S)-SANTANDER | L10: ALBANIA (S) | M10: LUN, MAR, MIE, JUE, VIE, SAB | N10: 2 | O10: 2880 | P10: NACIONAL | Q10: PESO: 30 kgs LARGO: 40 cms ANCHO: 40 cms ALTO: 40 cms | R10: =VLOOKUP(A10,'[1]КЛАДР РАНЕЕ ЗАГРУЖЕННЫЙ'!A:A,1,0) -> ALBANIA (S)
A11: ALBANIA | B11: 10 | C11: 11001000 | D11: BOGOTA | E11: BOGOTA-CUNDINAMARCA | F11: LUN, MAR, MIE, JUE, VIE, SAB | G11: 676 | H11: 44035 | I11: 0 | J11: NORTE | K11: ALBANIA-LA GUAJIRA | L11: ALBANIA | M11: LUN, MAR, MIE, JUE, VIE | N11: 3 | O11: 4320 | P11: NACIONAL | Q11: PESO: 50 kgs LARGO: 100 cms ANCHO: 100 cms ALTO: 100 cms | R11: =VLOOKUP(A11,'[1]КЛАДР РАНЕЕ ЗАГРУЖЕННЫЙ'!A:A,1,0) -> ALBANIA
A12: ALTO POMPEYA | B12: 10 | C12: 11001000 | D12: BOGOTA | E12: BOGOTA-CUNDINAMARCA | F12: LUN, MAR, MIE, JUE, VIE, SAB | G12: 1070 | H12: 50001 | I12: 15 | J12: LLANOS | K12: ALTO POMPEYA-META(CAS) | L12: ALTO POMPEYA | M12: LUN, MAR, MIE, JUE, VIE, SAB | N12: 2 | O12: 2880 | P12: NACIONAL | Q12: PESO: 500 kgs LARGO: 300 cms ANCHO: 200 cms ALTO: 200 cms | R12: =VLOOKUP(A12,'[1]КЛАДР РАНЕЕ ЗАГРУЖЕННЫЙ'!A:A,1,0) -> ALTO POMPEYA
A13: ALVARADO | B13: 10 | C13: 11001000 | D13: BOGOTA | E13: BOGOTA-CUNDINAMARCA | F13: LUN, MAR, MIE, JUE, VIE, SAB | G13: 599 | H13: 73026 | I13: 0 | J13: EJE CAFETERO | K13: ALVARADO-TOLIMA | L13: ALVARADO | N13: 2 | O13: 2880 | P13: NACIONAL | Q13: PESO: 50 kgs LARGO: 100 cms ANCHO: 100 cms ALTO: 100 cms | R13: =VLOOKUP(A13,'[1]КЛАДР РАНЕЕ ЗАГРУЖЕННЫЙ'!A:A,1,0) -> ALVARADO
A14: AMBALEMA | B14: 10 | C14: 11001000 | D14: BOGOTA | E14: BOGOTA-CUNDINAMARCA | F14: LUN, MAR, MIE, JUE, VIE, SAB | G14: 787 | H14: 73030 | I14: 0 | J14: EJE CAFETERO | K14: AMBALEMA-TOLIMA | L14: AMBALEMA | N14: 3 | O14: 4320 | P14: NACIONAL | Q14: PESO: 50 kgs LARGO: 50 cms ANCHO: 50 cms ALTO: 50 cms | R14: =VLOOKUP(A14,'[1]КЛАДР РАНЕЕ ЗАГРУЖЕННЫЙ'!A:A,1,0) -> AMBALEMA
A15: ANAPOIMA | B15: 10 | C15: 11001000 | D15: BOGOTA | E15: BOGOTA-CUNDINAMARCA | F15: LUN, MAR, MIE, JUE, VIE, SAB | G15: 190 | H15: 25035 | I15: 0 | J15: REGIONAL CENTRO | K15: ANAPOIMA-CUNDINAMARCA | L15: ANAPOIMA | M15: LUN, MAR, MIE, JUE, VIE, SAB | N15: 1 | O15: 1440 | P15: ZONAL | Q15: PESO: 100 kgs LARGO: 150 cms ANCHO: 100 cms ALTO: 100 cms | R15: =VLOOKUP(A15,'[1]КЛАДР РАНЕЕ ЗАГРУЖЕННЫЙ'!A:A,1,0) -> ANAPOIMA
A16: ANDALUCIA | B16: 10 | C16: 11001000 | D16: BOGOTA | E16: BOGOTA-CUNDINAMARCA | F16: LUN, MAR, MIE, JUE, VIE, SAB | G16: 166 | H16: 76036 | I16: 0 | J16: OCCIDENTE | K16: ANDALUCIA-VALLE | L16: ANDALUCIA | N16: 1 | O16: 1440 | P16: NACIONAL | Q16: PESO: 50 kgs LARGO: 60 cms ANCHO: 60 cms ALTO: 60 cms | R16: =VLOOKUP(A16,'[1]КЛАДР РАНЕЕ ЗАГРУЖЕННЫЙ'!A:A,1,0) -> ANDALUCIA
A17: ANOLAIMA | B17: 10 | C17: 11001000 | D17: BOGOTA | E17: BOGOTA-CUNDINAMARCA | F17: LUN, MAR, MIE, JUE, VIE, SAB | G17: 255 | H17: 25040 | I17: 0 | J17: REGIONAL CENTRO | K17: ANOLAIMA-CUNDINAMARCA | L17: ANOLAIMA | M17: LUN, MAR, MIE, JUE, VIE, SAB | N17: 1 | O17: 1440 | P17: ZONAL | Q17: PESO: 50 kgs LARGO: 150 cms ANCHO: 100 cms ALTO: 100 cms | R17: =VLOOKUP(A17,'[1]КЛАДР РАНЕЕ ЗАГРУЖЕННЫЙ'!A:A,1,0) -> ANOLAIMA
A18: ANSERMA NUEVO | B18: 10 | C18: 11001000 | D18: BOGOTA | E18: BOGOTA-CUNDINAMARCA | F18: LUN, MAR, MIE, JUE, VIE, SAB | G18: 797 | H18: 76041 | I18: 0 | J18: EJE CAFETERO | K18: ANSERMA NUEVO-VALLE | L18: ANSERMA NUEVO | N18: 2 | O18: 2880 | P18: NACIONAL | Q18: PESO: 45 kgs LARGO: 45 cms ANCHO: 45 cms ALTO: 45 cms | R18: =VLOOKUP(A18,'[1]КЛАДР РАНЕЕ ЗАГРУЖЕННЫЙ'!A:A,1,0) -> ANSERMA NUEVO
A19: ANSERMA | B19: 10 | C19: 11001000 | D19: BOGOTA | E19: BOGOTA-CUNDINAMARCA | F19: LUN, MAR, MIE, JUE, VIE, SAB | G19: 110 | H19: 17042 | I19: 0 | J19: EJE CAFETERO | K19: ANSERMA-CALDAS | L19: ANSERMA | N19: 2 | O19: 2880 | P19: NACIONAL | Q19: PESO: 400 kgs LARGO: 400 cms ANCHO: 400 cms ALTO: 400 cms | R19: =VLOOKUP(A19,'[1]КЛАДР РАНЕЕ ЗАГРУЖЕННЫЙ'!A:A,1,0) -> ANSERMA
A20: APARTADO | B20: 10 | C20: 11001000 | D20: BOGOTA | E20: BOGOTA-CUNDINAMARCA | F20: LUN, MAR, MIE, JUE, VIE, SAB | G20: 2 | H20: 50450 | I20: 0 | J20: ANTIOQUIA | K20: APARTADO-ANTIOQUIA | L20: APARTADO | N20: 2 | O20: 2880 | P20: NACIONAL | Q20: PESO: 1000 kgs LARGO: 400 cms ANCHO: 180 cms ALTO: 170 cms | R20: =VLOOKUP(A20,'[1]КЛАДР РАНЕЕ ЗАГРУЖЕННЫЙ'!A:A,1,0) -> APARTADO
A21: APIAY | B21: 10 | C21: 11001000 | D21: BOGOTA | E21: BOGOTA-CUNDINAMARCA | F21: LUN, MAR, MIE, JUE, VIE, SAB | G21: 653 | H21: 50001 | I21: 19 | J21: LLANOS | K21: APIAY-META(CENTPOBL) | L21: APIAY | N21: 2 | O21: 2880 | P21: NACIONAL | Q21: PESO: 1000 kgs LARGO: 400 cms ANCHO: 180 cms ALTO: 170 cms | R21: =VLOOKUP(A21,'[1]КЛАДР РАНЕЕ ЗАГРУЖЕННЫЙ'!A:A,1,0) -> APIAY
A22: APULO | B22: 10 | C22: 11001000 | D22: BOGOTA | E22: BOGOTA-CUNDINAMARCA | F22: LUN, MAR, MIE, JUE, VIE, SAB | G22: 191 | H22: 25599 | I22: 0 | J22: REGIONAL CENTRO | K22: APULO-CUNDINAMARCA | L22: APULO | M22: LUN, MAR, MIE, JUE, VIE, SAB | N22: 1 | O22: 1440 | P22: ZONAL | Q22: PESO: 1000 kgs LARGO: 400 cms ANCHO: 180 cms ALTO: 170 cms | R22: =VLOOKUP(A22,'[1]КЛАДР РАНЕЕ ЗАГРУЖЕННЫЙ'!A:A,1,0) -> APULO
A23: AQUITANIA | B23: 10 | C23: 11001000 | D23: BOGOTA | E23: BOGOTA-CUNDINAMARCA | F23: LUN, MAR, MIE, JUE, VIE, SAB | G23: 323 | H23: 15047 | I23: 0 | J23: BOYACA | K23: AQUITANIA-BOYACA | L23: AQUITANIA | M23: LUN, MAR, MIE, JUE, VIE | N23: 1 | O23: 1440 | P23: NACIONAL | Q23: PESO: 1000 kgs LARGO: 400 cms ANCHO: 180 cms ALTO: 170 cms | R23: =VLOOKUP(A23,'[1]КЛАДР РАНЕЕ ЗАГРУЖЕННЫЙ'!A:A,1,0) -> AQUITANIA
A24: ARACATACA | B24: 10 | C24: 11001000 | D24: BOGOTA | E24: BOGOTA-CUNDINAMARCA | F24: LUN, MAR, MIE, JUE, VIE, SAB | G24: 155 | H24: 47053 | I24: 0 | J24: NORTE | K24: ARACATACA-MAGDALENA | L24: ARACATACA | M24: LUN, MAR, MIE, JUE, VIE | N24: 2 | O24: 2880 | P24: NACIONAL | Q24: PESO: 1000 kgs LARGO: 400 cms ANCHO: 180 cms ALTO: 170 cms | R24: =VLOOKUP(A24,'[1]КЛАДР РАНЕЕ ЗАГРУЖЕННЫЙ'!A:A,1,0) -> ARACATACA
A25: ARANZAZU | B25: 10 | C25: 11001000 | D25: BOGOTA | E25: BOGOTA-CUNDINAMARCA | F25: LUN, MAR, MIE, JUE, VIE, SAB | G25: 789 | H25: 17050 | I25: 0 | J25: EJE CAFETERO | K25: ARANZAZU-CALDAS | L25: ARANZAZU | M25: LUN, MIE, VIE | N25: 4 | O25: 5760 | P25: NACIONAL | Q25: PESO: 1000 kgs LARGO: 400 cms ANCHO: 180 cms ALTO: 170 cms | R25: =VLOOKUP(A25,'[1]КЛАДР РАНЕЕ ЗАГРУЖЕННЫЙ'!A:A,1,0) -> ARANZAZU
A26: ARATOCA | B26: 10 | C26: 11001000 | D26: BOGOTA | E26: BOGOTA-CUNDINAMARCA | F26: LUN, MAR, MIE, JUE, VIE, SAB | G26: 459 | H26: 68051 | I26: 0 | J26: ORIENTE | K26: ARATOCA-SANTANDER | L26: ARATOCA | M26: LUN, MAR, MIE, JUE, VIE, SAB | N26: 1 | O26: 1440 | P26: NACIONAL | Q26: PESO: 1000 kgs LARGO: 400 cms ANCHO: 180 cms ALTO: 170 cms | R26: =VLOOKUP(A26,'[1]КЛАДР РАНЕЕ ЗАГРУЖЕННЫЙ'!A:A,1,0) -> ARATOCA
A27: ARBELAEZ | B27: 10 | C27: 11001000 | D27: BOGOTA | E27: BOGOTA-CUNDINAMARCA | F27: LUN, MAR, MIE, JUE, VIE, SAB | G27: 515 | H27: 25053 | I27: 0 | J27: REGIONAL CENTRO | K27: ARBELAEZ-CUNDINAMARCA | L27: ARBELAEZ | M27: LUN, MIE, VIE | N27: 2 | O27: 2880 | P27: NACIONAL | Q27: PESO: 1000 kgs LARGO: 400 cms ANCHO: 180 cms ALTO: 170 cms | R27: =VLOOKUP(A27,'[1]КЛАДР РАНЕЕ ЗАГРУЖЕННЫЙ'!A:A,1,0) -> ARBELAEZ
A28: ARBOLEDAS | B28: 10 | C28: 11001000 | D28: BOGOTA | E28: BOGOTA-CUNDINAMARCA | F28: LUN, MAR, MIE, JUE, VIE, SAB | G28: 503 | H28: 54051 | I28: 0 | J28: ORIENTE | K28: ARBOLEDAS-NORTE DE SANTANDER | L28: ARBOLEDAS | M28: LUN, MAR, MIE, JUE, VIE, SAB | N28: 5 | O28: 7200 | P28: TRAYECTO ESPECIAL | Q28: PESO: 50 kgs LARGO: 50 cms ANCHO: 50 cms ALTO: 50 cms | R28: =VLOOKUP(A28,'[1]КЛАДР РАНЕЕ ЗАГРУЖЕННЫЙ'!A:A,1,0) -> ARBOLEDAS
A29: ARCABUCO | B29: 10 | C29: 11001000 | D29: BOGOTA | E29: BOGOTA-CUNDINAMARCA | F29: LUN, MAR, MIE, JUE, VIE, SAB | G29: 324 | H29: 15051 | I29: 0 | J29: BOYACA | K29: ARCABUCO-BOYACA | L29: ARCABUCO | M29: LUN, MIE, VIE | N29: 1 | O29: 1440 | P29: NACIONAL | Q29: PESO: 1000 kgs LARGO: 400 cms ANCHO: 180 cms ALTO: 170 cms | R29: =VLOOKUP(A29,'[1]КЛАДР РАНЕЕ ЗАГРУЖЕННЫЙ'!A:A,1,0) -> ARCABUCO
A30: ARGELIA (V) | B30: 10 | C30: 11001000 | D30: BOGOTA | E30: BOGOTA-CUNDINAMARCA | F30: LUN, MAR, MIE, JUE, VIE, SAB | G30: 1172 | H30: 76054 | I30: 0 | J30: EJE CAFETERO | K30: ARGELIA (V)-VALLE | L30: ARGELIA (V) | M30: LUN, MIE, VIE | N30: 4 | O30: 5760 | P30: NACIONAL | Q30: PESO: 1000 kgs LARGO: 400 cms ANCHO: 180 cms ALTO: 170 cms | R30: =VLOOKUP(A30,'[1]КЛАДР РАНЕЕ ЗАГРУЖЕННЫЙ'!A:A,1,0) -> ARGELIA (V)
A31: ARJONA B | B31: 10 | C31: 11001000 | D31: BOGOTA | E31: BOGOTA-CUNDINAMARCA | F31: LUN, MAR, MIE, JUE, VIE, SAB | G31: 657 | H31: 13052 | I31: 0 | J31: NORTE | K31: ARJONA B-BOLIVAR | L31: ARJONA B | M31: LUN, MAR, MIE, JUE, VIE, SAB | N31: 2 | O31: 2880 | P31: NACIONAL | Q31: PESO: 1000 kgs LARGO: 400 cms ANCHO: 180 cms ALTO: 170 cms | R31: =VLOOKUP(A31,'[1]КЛАДР РАНЕЕ ЗАГРУЖЕННЫЙ'!A:A,1,0) -> ARJONA B
A32: ARMENIA (Q) | B32: 10 | C32: 11001000 | D32: BOGOTA | E32: BOGOTA-CUNDINAMARCA | F32: LUN, MAR, MIE, JUE, VIE, SAB | G32: 1 | H32: 63001 | I32: 0 | J32: EJE CAFETERO | K32: ARMENIA (Q)-QUINDIO | L32: ARMENIA (Q) | N32: 1 | O32: 1440 | P32: NACIONAL | Q32: PESO: 1000 kgs LARGO: 400 cms ANCHO: 180 cms ALTO: 170 cms | R32: =VLOOKUP(A32,'[1]КЛАДР РАНЕЕ ЗАГРУЖЕННЫЙ'!A:A,1,0) -> ARMENIA (Q)
A33: ARMERO | B33: 10 | C33: 11001000 | D33: BOGOTA | E33: BOGOTA-CUNDINAMARCA | F33: LUN, MAR, MIE, JUE, VIE, SAB | G33: 475 | H33: 73055 | I33: 0 | J33: EJE CAFETERO | K33: ARMERO-TOLIMA | L33: ARMERO | M33: MAR, JUE, SAB | N33: 2 | O33: 2880 | P33: NACIONAL | Q33: PESO: 1000 kgs LARGO: 400 cms ANCHO: 180 cms ALTO: 170 cms | R33: =VLOOKUP(A33,'[1]КЛАДР РАНЕЕ ЗАГРУЖЕННЫЙ'!A:A,1,0) -> ARMERO
A34: ATACO | B34: 10 | C34: 11001000 | D34: BOGOTA | E34: BOGOTA-CUNDINAMARCA | F34: LUN, MAR, MIE, JUE, VIE, SAB | G34: 1213 | H34: 73067 | I34: 0 | J34: EJE CAFETERO | K34: ATACO-TOLIMA | L34: ATACO | N34: 5 | O34: 7200 | P34: NACIONAL | Q34: PESO: 1000 kgs LARGO: 400 cms ANCHO: 180 cms ALTO: 170 cms | R34: =VLOOKUP(A34,'[1]КЛАДР РАНЕЕ ЗАГРУЖЕННЫЙ'!A:A,1,0) -> ATACO
A35: AYAPEL | B35: 10 | C35: 11001000 | D35: BOGOTA | E35: BOGOTA-CUNDINAMARCA | F35: LUN, MAR, MIE, JUE, VIE, SAB | G35: 106 | H35: 23068 | I35: 0 | J35: ANTIOQUIA | K35: AYAPEL-CORDOBA | L35: AYAPEL | N35: 5 | O35: 7200 | P35: NACIONAL | Q35: PESO: 1000 kgs LARGO: 400 cms ANCHO: 180 cms ALTO: 170 cms | R35: =VLOOKUP(A35,'[1]КЛАДР РАНЕЕ ЗАГРУЖЕННЫЙ'!A:A,1,0) -> AYAPEL
A36: BALBOA | B36: 10 | C36: 11001000 | D36: BOGOTA | E36: BOGOTA-CUNDINAMARCA | F36: LUN, MAR, MIE, JUE, VIE, SAB | G36: 791 | H36: 66075 | I36: 0 | J36: EJE CAFETERO | K36: BALBOA-RISARALDA | L36: BALBOA | M36: LUN, MIE, VIE | N36: 4 | O36: 5760 | P36: NACIONAL | Q36: PESO: 1000 kgs LARGO: 400 cms ANCHO: 180 cms ALTO: 170 cms | R36: =VLOOKUP(A36,'[1]КЛАДР РАНЕЕ ЗАГРУЖЕННЫЙ'!A:A,1,0) -> BALBOA
A37: BARANOA | B37: 10 | C37: 11001000 | D37: BOGOTA | E37: BOGOTA-CUNDINAMARCA | F37: LUN, MAR, MIE, JUE, VIE, SAB | G37: 319 | H37: 8078 | I37: 0 | J37: NORTE | K37: BARANOA-ATLANTICO | L37: BARANOA | N37: 2 | O37: 2880 | P37: NACIONAL | Q37: PESO: 1000 kgs LARGO: 400 cms ANCHO: 180 cms ALTO: 170 cms | R37: =VLOOKUP(A37,'[1]КЛАДР РАНЕЕ ЗАГРУЖЕННЫЙ'!A:A,1,0) -> BARANOA
A38: BARBOSA | B38: 10 | C38: 11001000 | D38: BOGOTA | E38: BOGOTA-CUNDINAMARCA | F38: LUN, MAR, MIE, JUE, VIE, SAB | G38: 281 | H38: 5079 | I38: 0 | J38: ANTIOQUIA | K38: BARBOSA-ANTIOQUIA | L38: BARBOSA | N38: 2 | O38: 2880 | P38: NACIONAL | Q38: PESO: 1000 kgs LARGO: 400 cms ANCHO: 180 cms ALTO: 170 cms | R38: =VLOOKUP(A38,'[1]КЛАДР РАНЕЕ ЗАГРУЖЕННЫЙ'!A:A,1,0) -> BARBOSA
A39: BARBOSA | B39: 10 | C39: 11001000 | D39: BOGOTA | E39: BOGOTA-CUNDINAMARCA | F39: LUN, MAR, MIE, JUE, VIE, SAB | G39: 13 | H39: 68077 | I39: 0 | J39: BOYACA | K39: BARBOSA-SANTANDER | L39: BARBOSA | M39: LUN, MAR, MIE, JUE, VIE, SAB | N39: 1 | O39: 1440 | P39: NACIONAL | Q39: PESO: 1000 kgs LARGO: 400 cms ANCHO: 180 cms ALTO: 170 cms | R39: =VLOOKUP(A39,'[1]КЛАДР РАНЕЕ ЗАГРУЖЕННЫЙ'!A:A,1,0) -> BARBOSA
A40: BARRANCA DE UPIA | B40: 10 | C40: 11001000 | D40: BOGOTA | E40: BOGOTA-CUNDINAMARCA | F40: LUN, MAR, MIE, JUE, VIE, SAB | G40: 1322 | H40: 50110 | I40: 0 | J40: LLANOS | K40: BARRANCA DE UPIA-META | L40: BARRANCA DE UPIA | M40: LUN, MAR, MIE, JUE, VIE, SAB | N40: 2 | O40: 2880 | P40: NACIONAL | Q40: PESO: 1000 kgs LARGO: 400 cms ANCHO: 180 cms ALTO: 170 cms | R40: =VLOOKUP(A40,'[1]КЛАДР РАНЕЕ ЗАГРУЖЕННЫЙ'!A:A,1,0) -> BARRANCA DE UPIA
A41: BARRANCABERMEJA | B41: 10 | C41: 11001000 | D41: BOGOTA | E41: BOGOTA-CUNDINAMARCA | F41: LUN, MAR, MIE, JUE, VIE, SAB | G41: 4 | H41: 68081 | I41: 0 | J41: ORIENTE | K41: BARRANCABERMEJA-SANTANDER | L41: BARRANCABERMEJA | M41: LUN, MAR, MIE, JUE, VIE, SAB | N41: 1 | O41: 1440 | P41: NACIONAL | Q41: PESO: 1000 kgs LARGO: 400 cms ANCHO: 180 cms ALTO: 170 cms | R41: =VLOOKUP(A41,'[1]КЛАДР РАНЕЕ ЗАГРУЖЕННЫЙ'!A:A,1,0) -> BARRANCABERMEJA
A42: BARRANCAS | B42: 10 | C42: 11001000 | D42: BOGOTA | E42: BOGOTA-CUNDINAMARCA | F42: LUN, MAR, MIE, JUE, VIE, SAB | G42: 88 | H42: 44078 | I42: 0 | J42: NORTE | K42: BARRANCAS-LA GUAJIRA | L42: BARRANCAS | M42: LUN, MAR, MIE, JUE, VIE | N42: 4 | O42: 5760 | P42: NACIONAL | Q42: PESO: 1000 kgs LARGO: 400 cms ANCHO: 180 cms ALTO: 170 cms | R42: =VLOOKUP(A42,'[1]КЛАДР РАНЕЕ ЗАГРУЖЕННЫЙ'!A:A,1,0) -> BARRANCAS
A43: BARRANQUILLA | B43: 10 | C43: 11001000 | D43: BOGOTA | E43: BOGOTA-CUNDINAMARCA | F43: LUN, MAR, MIE, JUE, VIE, SAB | G43: 5 | H43: 80010 | I43: 0 | J43: NORTE | K43: BARRANQUILLA-ATLANTICO | L43: BARRANQUILLA | N43: 2 | O43: 2880 | P43: NACIONAL | Q43: PESO: 1000 kgs LARGO: 400 cms ANCHO: 180 cms ALTO: 170 cms | R43: =VLOOKUP(A43,'[1]КЛАДР РАНЕЕ ЗАГРУЖЕННЫЙ'!A:A,1,0) -> BARRANQUILLA
A44: BAYUNCA | B44: 10 | C44: 11001000 | D44: BOGOTA | E44: BOGOTA-CUNDINAMARCA | F44: LUN, MAR, MIE, JUE, VIE, SAB | G44: 625 | H44: 13001 | I44: 4 | J44: NORTE | K44: BAYUNCA-BOLIVAR(CORRGTO) | L44: BAYUNCA | M44: SAB | N44: 3 | O44: 4320 | P44: NACIONAL | Q44: PESO: 1000 kgs LARGO: 400 cms ANCHO: 180 cms ALTO: 170 cms | R44: =VLOOKUP(A44,'[1]КЛАДР РАНЕЕ ЗАГРУЖЕННЫЙ'!A:A,1,0) -> BAYUNCA
A45: BECERRIL | B45: 10 | C45: 11001000 | D45: BOGOTA | E45: BOGOTA-CUNDINAMARCA | F45: LUN, MAR, MIE, JUE, VIE, SAB | G45: 579 | H45: 20045 | I45: 0 | J45: NORTE | K45: BECERRIL-CESAR | L45: BECERRIL | N45: 3 | O45: 4320 | P45: NACIONAL | Q45: PESO: 1000 kgs LARGO: 400 cms ANCHO: 180 cms ALTO: 170 cms | R45: =VLOOKUP(A45,'[1]КЛАДР РАНЕЕ ЗАГРУЖЕННЫЙ'!A:A,1,0) -> BECERRIL
A46: BELEN DE UMBRIA | B46: 10 | C46: 11001000 | D46: BOGOTA | E46: BOGOTA-CUNDINAMARCA | F46: LUN, MAR, MIE, JUE, VIE, SAB | G46: 185 | H46: 66088 | I46: 0 | J46: EJE CAFETERO | K46: BELEN DE UMBRIA-RISARALDA | L46: BELEN DE UMBRIA | N46: 2 | O46: 2880 | P46: NACIONAL | Q46: PESO: 1000 kgs LARGO: 400 cms ANCHO: 180 cms ALTO: 170 cms | R46: =VLOOKUP(A46,'[1]КЛАДР РАНЕЕ ЗАГРУЖЕННЫЙ'!A:A,1,0) -> BELEN DE UMBRIA
A47: BELEN | B47: 10 | C47: 11001000 | D47: BOGOTA | E47: BOGOTA-CUNDINAMARCA | F47: LUN, MAR, MIE, JUE, VIE, SAB | G47: 542 | H47: 15087 | I47: 0 | J47: BOYACA | K47: BELEN-BOYACA | L47: BELEN | M47: LUN, MAR, MIE, JUE, VIE, SAB | N47: 1 | O47: 1440 | P47: NACIONAL | Q47: PESO: 1000 kgs LARGO: 400 cms ANCHO: 180 cms ALTO: 170 cms | R47: =VLOOKUP(A47,'[1]КЛАДР РАНЕЕ ЗАГРУЖЕННЫЙ'!A:A,1,0) -> BELEN
A48: BELLO | B48: 10 | C48: 11001000 | D48: BOGOTA | E48: BOGOTA-CUNDINAMARCA | F48: LUN, MAR, MIE, JUE, VIE, SAB | G48: 100 | H48: 50880 | I48: 0 | J48: ANTIOQUIA | K48: BELLO-ANTIOQUIA | L48: BELLO | N48: 2 | O48: 2880 | P48: NACIONAL | Q48: PESO: 1000 kgs LARGO: 400 cms ANCHO: 180 cms ALTO: 170 cms | R48: =VLOOKUP(A48,'[1]КЛАДР РАНЕЕ ЗАГРУЖЕННЫЙ'!A:A,1,0) -> BELLO
A49: BERBEO | B49: 10 | C49: 11001000 | D49: BOGOTA | E49: BOGOTA-CUNDINAMARCA | F49: LUN, MAR, MIE, JUE, VIE, SAB | G49: 1425 | H49: 15090 | I49: 0 | J49: BOYACA | K49: BERBEO-BOYACA | L49: BERBEO | M49: MAR, JUE, SAB | N49: 2 | O49: 2880 | P49: NACIONAL | Q49: PESO: 2 kgs LARGO: 40 cms ANCHO: 20 cms ALTO: 5 cms | R49: =VLOOKUP(A49,'[1]КЛАДР РАНЕЕ ЗАГРУЖЕННЫЙ'!A:A,1,0) -> BERBEO
A50: BOAVITA | B50: 10 | C50: 11001000 | D50: BOGOTA | E50: BOGOTA-CUNDINAMARCA | F50: LUN, MAR, MIE, JUE, VIE, SAB | G50: 854 | H50: 15097 | I50: 0 | J50: BOYACA | K50: BOAVITA-BOYACA | L50: BOAVITA | M50: LUN, MAR, MIE, JUE, VIE | N50: 2 | O50: 2880 | P50: TRAYECTO ESPECIAL | Q50: PESO: 30 kgs LARGO: 40 cms ANCHO: 40 cms ALTO: 40 cms | R50: =VLOOKUP(A50,'[1]КЛАДР РАНЕЕ ЗАГРУЖЕННЫЙ'!A:A,1,0) -> BOAVITA
A51: BOLIVAR (V) | B51: 10 | C51: 11001000 | D51: BOGOTA | E51: BOGOTA-CUNDINAMARCA | F51: LUN, MAR, MIE, JUE, VIE, SAB | G51: 786 | H51: 76100 | I51: 0 | J51: EJE CAFETERO | K51: BOLIVAR (V)-VALLE(CORRGTO) | L51: BOLIVAR (V)-VALLE(CORRGTO) | M51: LUN, MAR, MIE, JUE, VIE, SAB | N51: 4 | O51: 5760 | P51: NACIONAL | Q51: PESO: 1000 kgs LARGO: 400 cms ANCHO: 180 cms ALTO: 170 cms | R51: =VLOOKUP(A51,'[1]КЛАДР РАНЕЕ ЗАГРУЖЕННЫЙ'!A:A,1,0) -> BOLIVAR (V)
A52: BOLIVIA | B52: 10 | C52: 11001000 | D52: BOGOTA | E52: BOGOTA-CUNDINAMARCA | F52: LUN, MAR, MIE, JUE, VIE, SAB | G52: 1559 | H52: 17541 | I52: 2 | J52: EJE CAFETERO | K52: BOLIVIA-CALDAS(CORRGTO) | L52: BOLIVIA-CALDAS(CORRGTO) | M52: LUN, MIE, VIE | N52: 4 | O52: 5760 | P52: NACIONAL | Q52: PESO: 1000 kgs LARGO: 400 cms ANCHO: 180 cms ALTO: 170 cms | R52: =VLOOKUP(A52,'[1]КЛАДР РАНЕЕ ЗАГРУЖЕННЫЙ'!A:A,1,0) -> BOLIVIA
A53: BORRERO AYERBE | B53: 10 | C53: 11001000 | D53: BOGOTA | E53: BOGOTA-CUNDINAMARCA | F53: LUN, MAR, MIE, JUE, VIE, SAB | G53: 1590 | H53: 76233 | I53: 2 | J53: OCCIDENTE | K53: BORRERO AYERBE-VALLE(CORRGTO) | L53: BORRERO AYERBE-VALLE(CORRGTO) | M53: MAR, JUE, SAB | N53: 3 | O53: 4320 | P53: NACIONAL | Q53: PESO: 1000 kgs LARGO: 400 cms ANCHO: 180 cms ALTO: 170 cms | R53: =VLOOKUP(A53,'[1]КЛАДР РАНЕЕ ЗАГРУЖЕННЫЙ'!A:A,1,0) -> BORRERO AYERBE
A54: BOSCONIA | B54: 10 | C54: 11001000 | D54: BOGOTA | E54: BOGOTA-CUNDINAMARCA | F54: LUN, MAR, MIE, JUE, VIE, SAB | G54: 12 | H54: 20060 | I54: 0 | J54: NORTE | K54: BOSCONIA-CESAR | L54: BOSCONIA-CESAR | N54: 3 | O54: 4320 | P54: NACIONAL | Q54: PESO: 1000 kgs LARGO: 400 cms ANCHO: 180 cms ALTO: 170 cms | R54: =VLOOKUP(A54,'[1]КЛАДР РАНЕЕ ЗАГРУЖЕННЫЙ'!A:A,1,0) -> BOSCONIA
A55: BRICEÑO | B55: 10 | C55: 11001000 | D55: BOGOTA | E55: BOGOTA-CUNDINAMARCA | F55: LUN, MAR, MIE, JUE, VIE, SAB | G55: 652 | H55: 25817 | I55: 99 | J55: REGIONAL CENTRO | K55: BRICEÑO-CUNDINAMARCA | L55: BRICEÑO-CUNDINAMARCA | N55: 1 | O55: 1440 | P55: URBANO | Q55: PESO: 1000 kgs LARGO: 400 cms ANCHO: 180 cms ALTO: 170 cms | R55: =VLOOKUP(A55,'[1]КЛАДР РАНЕЕ ЗАГРУЖЕННЫЙ'!A:A,1,0) -> BRICEÑO
A56: BUCARAMANGA | B56: 10 | C56: 11001000 | D56: BOGOTA | E56: BOGOTA-CUNDINAMARCA | F56: LUN, MAR, MIE, JUE, VIE, SAB | G56: 15 | H56: 68001 | I56: 0 | J56: ORIENTE | K56: BUCARAMANGA-SANTANDER | L56: BUCARAMANGA-SANTANDER | M56: LUN, MAR, MIE, JUE, VIE, SAB | N56: 1 | O56: 1440 | P56: NACIONAL | Q56: PESO: 1000 kgs LARGO: 400 cms ANCHO: 180 cms ALTO: 170 cms | R56: =VLOOKUP(A56,'[1]КЛАДР РАНЕЕ ЗАГРУЖЕННЫЙ'!A:A,1,0) -> BUCARAMANGA
A57: BUENAVENTURA | B57: 10 | C57: 11001000 | D57: BOGOTA | E57: BOGOTA-CUNDINAMARCA | F57: LUN, MAR, MIE, JUE, VIE, SAB | G57: 16 | H57: 76109 | I57: 0 | J57: OCCIDENTE | K57: BUENAVENTURA-VALLE | L57: BUENAVENTURA-VALLE | N57: 1 | O57: 1440 | P57: NACIONAL | Q57: PESO: 1000 kgs LARGO: 400 cms ANCHO: 180 cms ALTO: 170 cms | R57: =VLOOKUP(A57,'[1]КЛАДР РАНЕЕ ЗАГРУЖЕННЫЙ'!A:A,1,0) -> BUENAVENTURA
A58: BUENAVISTA (COR) | B58: 10 | C58: 11001000 | D58: BOGOTA | E58: BOGOTA-CUNDINAMARCA | F58: LUN, MAR, MIE, JUE, VIE, SAB | G58: 1664 | H58: 23079 | I58: 0 | J58: NORTE | K58: BUENAVISTA (COR)-CORDOBA | L58: BUENAVISTA (COR)-CORDOBA | N58: 4 | O58: 5760 | P58: NACIONAL | Q58: PESO: 1000 kgs LARGO: 400 cms ANCHO: 180 cms ALTO: 170 cms | R58: =VLOOKUP(A58,'[1]КЛАДР РАНЕЕ ЗАГРУЖЕННЫЙ'!A:A,1,0) -> BUENAVISTA (COR)
A59: BUENAVISTA | B59: 10 | C59: 11001000 | D59: BOGOTA | E59: BOGOTA-CUNDINAMARCA | F59: LUN, MAR, MIE, JUE, VIE, SAB | G59: 1660 | H59: 15109 | I59: 0 | J59: BOYACA | K59: BUENAVISTA-BOYACA | L59: BUENAVISTA-BOYACA | M59: LUN, MAR, MIE, JUE, VIE | N59: 1 | O59: 1440 | P59: NACIONAL | Q59: PESO: 2 kgs LARGO: 30 cms ANCHO: 20 cms ALTO: 5 cms | R59: =VLOOKUP(A59,'[1]КЛАДР РАНЕЕ ЗАГРУЖЕННЫЙ'!A:A,1,0) -> BUENAVISTA
A60: BUENAVISTA | B60: 10 | C60: 11001000 | D60: BOGOTA | E60: BOGOTA-CUNDINAMARCA | F60: LUN, MAR, MIE, JUE, VIE, SAB | G60: 1673 | H60: 63111 | I60: 0 | J60: EJE CAFETERO | K60: BUENAVISTA-QUINDIO | L60: BUENAVISTA-QUINDIO | M60: MAR, VIE | N60: 5 | O60: 7200 | P60: NACIONAL | Q60: PESO: 1000 kgs LARGO: 400 cms ANCHO: 180 cms ALTO: 170 cms | R60: =VLOOKUP(A60,'[1]КЛАДР РАНЕЕ ЗАГРУЖЕННЫЙ'!A:A,1,0) -> BUENAVISTA
A61: BUENOS AIRES | B61: 10 | C61: 11001000 | D61: BOGOTA | E61: BOGOTA-CUNDINAMARCA | F61: LUN, MAR, MIE, JUE, VIE, SAB | G61: 677 | H61: 73001 | I61: 1 | J61: EJE CAFETERO | K61: BUENOS AIRES-TOLIMA(CAS) | L61: BUENOS AIRES-TOLIMA(CAS) | N61: 2 | O61: 2880 | P61: NACIONAL | Q61: PESO: 1000 kgs LARGO: 400 cms ANCHO: 180 cms ALTO: 170 cms | R61: =VLOOKUP(A61,'[1]КЛАДР РАНЕЕ ЗАГРУЖЕННЫЙ'!A:A,1,0) -> BUENOS AIRES
A62: BUGA | B62: 10 | C62: 11001000 | D62: BOGOTA | E62: BOGOTA-CUNDINAMARCA | F62: LUN, MAR, MIE, JUE, VIE, SAB | G62: 17 | H62: 76111 | I62: 0 | J62: OCCIDENTE | K62: BUGA-VALLE | L62: BUGA-VALLE | N62: 1 | O62: 1440 | P62: NACIONAL | Q62: PESO: 1000 kgs LARGO: 400 cms ANCHO: 180 cms ALTO: 170 cms | R62: =VLOOKUP(A62,'[1]КЛАДР РАНЕЕ ЗАГРУЖЕННЫЙ'!A:A,1,0) -> BUGA
A63: BUGALAGRANDE | B63: 10 | C63: 11001000 | D63: BOGOTA | E63: BOGOTA-CUNDINAMARCA | F63: LUN, MAR, MIE, JUE, VIE, SAB | G63: 176 | H63: 76113 | I63: 0 | J63: OCCIDENTE | K63: BUGALAGRANDE-VALLE | L63: BUGALAGRANDE-VALLE | N63: 1 | O63: 1440 | P63: NACIONAL | Q63: PESO: 1000 kgs LARGO: 400 cms ANCHO: 180 cms ALTO: 170 cms | R63: =VLOOKUP(A63,'[1]КЛАДР РАНЕЕ ЗАГРУЖЕННЫЙ'!A:A,1,0) -> BUGALAGRANDE
A64: CABRERA | B64: 10 | C64: 11001000 | D64: BOGOTA | E64: BOGOTA-CUNDINAMARCA | F64: LUN, MAR, MIE, JUE, VIE, SAB | G64: 393 | H64: 25120 | I64: 0 | J64: REGIONAL CENTRO | K64: CABRERA-CUNDINAMARCA | L64: CABRERA-CUNDINAMARCA | N64: 3 | O64: 4320 | P64: NACIONAL | Q64: PESO: 1000 kgs LARGO: 400 cms ANCHO: 180 cms ALTO: 170 cms | R64: =VLOOKUP(A64,'[1]КЛАДР РАНЕЕ ЗАГРУЖЕННЫЙ'!A:A,1,0) -> CABRERA
A65: CACHIPAY | B65: 10 | C65: 11001000 | D65: BOGOTA | E65: BOGOTA-CUNDINAMARCA | F65: LUN, MAR, MIE, JUE, VIE, SAB | G65: 268 | H65: 25123 | I65: 0 | J65: REGIONAL CENTRO | K65: CACHIPAY-CUNDINAMARCA | L65: CACHIPAY-CUNDINAMARCA | N65: 1 | O65: 1440 | P65: ZONAL | Q65: PESO: 1000 kgs LARGO: 400 cms ANCHO: 180 cms ALTO: 170 cms | R65: =VLOOKUP(A65,'[1]КЛАДР РАНЕЕ ЗАГРУЖЕННЫЙ'!A:A,1,0) -> CACHIPAY
A66: CACHIRA | B66: 10 | C66: 11001000 | D66: BOGOTA | E66: BOGOTA-CUNDINAMARCA | F66: LUN, MAR, MIE, JUE, VIE, SAB | G66: 505 | H66: 54128 | I66: 0 | J66: ORIENTE | K66: CACHIRA-NORTE DE SANTANDER | L66: CACHIRA-NORTE DE SANTANDER | M66: LUN, MAR, MIE, JUE, VIE, SAB | N66: 1 | O66: 1440 | P66: TRAYECTO ESPECIAL | Q66: PESO: 50 kgs LARGO: 100 cms ANCHO: 100 cms ALTO: 100 cms | R66: =VLOOKUP(A66,'[1]КЛАДР РАНЕЕ ЗАГРУЖЕННЫЙ'!A:A,1,0) -> CACHIRA
A67: CAICEDONIA | B67: 10 | C67: 11001000 | D67: BOGOTA | E67: BOGOTA-CUNDINAMARCA | F67: LUN, MAR, MIE, JUE, VIE, SAB | G67: 179 | H67: 76122 | I67: 0 | J67: EJE CAFETERO | K67: CAICEDONIA-VALLE | L67: CAICEDONIA-VALLE | N67: 2 | O67: 2880 | P67: NACIONAL | Q67: PESO: 1000 kgs LARGO: 400 cms ANCHO: 180 cms ALTO: 170 cms | R67: =VLOOKUP(A67,'[1]КЛАДР РАНЕЕ ЗАГРУЖЕННЫЙ'!A:A,1,0) -> CAICEDONIA
A68: CAIMALITO | B68: 10 | C68: 11001000 | D68: BOGOTA | E68: BOGOTA-CUNDINAMARCA | F68: LUN, MAR, MIE, JUE, VIE, SAB | G68: 1764 | H68: 66001 | I68: 4 | J68: EJE CAFETERO | K68: CAIMALITO-RISARALDA(CORRGTO) | L68: CAIMALITO-RISARALDA(CORRGTO) | M68: LUN, MAR, MIE, JUE, VIE, SAB | N68: 2 | O68: 2880 | P68: NACIONAL | Q68: PESO: 1000 kgs LARGO: 400 cms ANCHO: 180 cms ALTO: 170 cms | R68: =VLOOKUP(A68,'[1]КЛАДР РАНЕЕ ЗАГРУЖЕННЫЙ'!A:A,1,0) -> CAIMALITO
A69: CAJAMARCA | B69: 10 | C69: 11001000 | D69: BOGOTA | E69: BOGOTA-CUNDINAMARCA | F69: LUN, MAR, MIE, JUE, VIE, SAB | G69: 476 | H69: 73124 | I69: 0 | J69: EJE CAFETERO | K69: CAJAMARCA-TOLIMA | L69: CAJAMARCA-TOLIMA | N69: 2 | O69: 2880 | P69: NACIONAL | Q69: PESO: 1000 kgs LARGO: 400 cms ANCHO: 180 cms ALTO: 170 cms | R69: =VLOOKUP(A69,'[1]КЛАДР РАНЕЕ ЗАГРУЖЕННЫЙ'!A:A,1,0) -> CAJAMARCA
A70: CAJICA | B70: 10 | C70: 11001000 | D70: BOGOTA | E70: BOGOTA-CUNDINAMARCA | F70: LUN, MAR, MIE, JUE, VIE, SAB | G70: 178 | H70: 25126 | I70: 0 | J70: REGIONAL CENTRO | K70: CAJICA-CUNDINAMARCA | L70: CAJICA-CUNDINAMARCA | N70: 1 | O70: 1440 | P70: ZONAL | Q70: PESO: 1000 kgs LARGO: 400 cms ANCHO: 180 cms ALTO: 170 cms | R70: =VLOOKUP(A70,'[1]КЛАДР РАНЕЕ ЗАГРУЖЕННЫЙ'!A:A,1,0) -> CAJICA
A71: CALARCA | B71: 10 | C71: 11001000 | D71: BOGOTA | E71: BOGOTA-CUNDINAMARCA | F71: LUN, MAR, MIE, JUE, VIE, SAB | G71: 103 | H71: 63130 | I71: 0 | J71: EJE CAFETERO | K71: CALARCA-QUINDIO | L71: CALARCA-QUINDIO | N71: 2 | O71: 2880 | P71: NACIONAL | Q71: PESO: 1000 kgs LARGO: 400 cms ANCHO: 180 cms ALTO: 170 cms | R71: =VLOOKUP(A71,'[1]КЛАДР РАНЕЕ ЗАГРУЖЕННЫЙ'!A:A,1,0) -> CALARCA
A72: CALDAS | B72: 10 | C72: 11001000 | D72: BOGOTA | E72: BOGOTA-CUNDINAMARCA | F72: LUN, MAR, MIE, JUE, VIE, SAB | G72: 129 | H72: 51290 | I72: 0 | J72: ANTIOQUIA | K72: CALDAS-ANTIOQUIA | L72: CALDAS-ANTIOQUIA | N72: 2 | O72: 2880 | P72: NACIONAL | Q72: PESO: 1000 kgs LARGO: 400 cms ANCHO: 180 cms ALTO: 170 cms | R72: =VLOOKUP(A72,'[1]КЛАДР РАНЕЕ ЗАГРУЖЕННЫЙ'!A:A,1,0) -> CALDAS
A73: CALI | B73: 10 | C73: 11001000 | D73: BOGOTA | E73: BOGOTA-CUNDINAMARCA | F73: LUN, MAR, MIE, JUE, VIE, SAB | G73: 20 | H73: 76001 | I73: 0 | J73: OCCIDENTE | K73: CALI-VALLE | L73: CALI-VALLE | M73: LUN, MAR, MIE, JUE, VIE, SAB | N73: 1 | O73: 1440 | P73: NACIONAL | Q73: PESO: 1000 kgs LARGO: 400 cms ANCHO: 180 cms ALTO: 170 cms | R73: =VLOOKUP(A73,'[1]КЛАДР РАНЕЕ ЗАГРУЖЕННЫЙ'!A:A,1,0) -> CALI
A74: CALOTO | B74: 10 | C74: 11001000 | D74: BOGOTA | E74: BOGOTA-CUNDINAMARCA | F74: LUN, MAR, MIE, JUE, VIE, SAB | G74: 404 | H74: 19142 | I74: 0 | J74: OCCIDENTE | K74: CALOTO-CAUCA | L74: CALOTO-CAUCA | N74: 2 | O74: 2880 | P74: NACIONAL | Q74: PESO: 1000 kgs LARGO: 400 cms ANCHO: 180 cms ALTO: 170 cms | R74: =VLOOKUP(A74,'[1]КЛАДР РАНЕЕ ЗАГРУЖЕННЫЙ'!A:A,1,0) -> CALOTO
A75: CANALETE | B75: 10 | C75: 11001000 | D75: BOGOTA | E75: BOGOTA-CUNDINAMARCA | F75: LUN, MAR, MIE, JUE, VIE, SAB | G75: 413 | H75: 23090 | I75: 0 | J75: NORTE | K75: CANALETE-CORDOBA | L75: CANALETE-CORDOBA | N75: 4 | O75: 5760 | P75: NACIONAL | Q75: PESO: 1000 kgs LARGO: 400 cms ANCHO: 180 cms ALTO: 170 cms | R75: =VLOOKUP(A75,'[1]КЛАДР РАНЕЕ ЗАГРУЖЕННЫЙ'!A:A,1,0) -> CANALETE
A76: CANDELARIA | B76: 10 | C76: 11001000 | D76: BOGOTA | E76: BOGOTA-CUNDINAMARCA | F76: LUN, MAR, MIE, JUE, VIE, SAB | G76: 649 | H76: 76130 | I76: 0 | J76: OCCIDENTE | K76: CANDELARIA-VALLE(CORRGTO) | L76: CANDELARIA-VALLE(CORRGTO) | N76: 1 | O76: 1440 | P76: NACIONAL | Q76: PESO: 1000 kgs LARGO: 400 cms ANCHO: 180 cms ALTO: 170 cms | R76: =VLOOKUP(A76,'[1]КЛАДР РАНЕЕ ЗАГРУЖЕННЫЙ'!A:A,1,0) -> CANDELARIA
A77: CANTAGALLO | B77: 10 | C77: 11001000 | D77: BOGOTA | E77: BOGOTA-CUNDINAMARCA | F77: LUN, MAR, MIE, JUE, VIE, SAB | G77: 1957 | H77: 13160 | I77: 0 | J77: ORIENTE | K77: CANTAGALLO-BOLIVAR | L77: CANTAGALLO-BOLIVAR | M77: LUN, MAR, MIE, JUE, VIE, SAB | N77: 2 | O77: 2880 | P77: NACIONAL | Q77: PESO: 1000 kgs LARGO: 400 cms ANCHO: 180 cms ALTO: 170 cms | R77: =VLOOKUP(A77,'[1]КЛАДР РАНЕЕ ЗАГРУЖЕННЫЙ'!A:A,1,0) -> CANTAGALLO
A78: CAPELLANIA | B78: 10 | C78: 11001000 | D78: BOGOTA | E78: BOGOTA-CUNDINAMARCA | F78: LUN, MAR, MIE, JUE, VIE, SAB | G78: 1971 | H78: 25288 | I78: 1 | J78: REGIONAL CENTRO | K78: CAPELLANIA-CUNDINAMARCA(INSPOLMUN) | L78: CAPELLANIA-CUNDINAMARCA(INSPOLMUN) | M78: LUN, MAR, MIE, JUE, VIE, SAB | N78: 2 | O78: 2880 | P78: NACIONAL | Q78: PESO: 1000 kgs LARGO: 400 cms ANCHO: 180 cms ALTO: 170 cms | R78: =VLOOKUP(A78,'[1]КЛАДР РАНЕЕ ЗАГРУЖЕННЫЙ'!A:A,1,0) -> CAPELLANIA
A79: CAQUEZA | B79: 10 | C79: 11001000 | D79: BOGOTA | E79: BOGOTA-CUNDINAMARCA | F79: LUN, MAR, MIE, JUE, VIE, SAB | G79: 175 | H79: 25151 | I79: 0 | J79: REGIONAL CENTRO | K79: CAQUEZA-CUNDINAMARCA | L79: CAQUEZA-CUNDINAMARCA | N79: 1 | O79: 1440 | P79: ZONAL | Q79: PESO: 1000 kgs LARGO: 400 cms ANCHO: 180 cms ALTO: 170 cms | R79: =VLOOKUP(A79,'[1]КЛАДР РАНЕЕ ЗАГРУЖЕННЫЙ'!A:A,1,0) -> CAQUEZA
A80: CARMEN DE APICALA | B80: 10 | C80: 11001000 | D80: BOGOTA | E80: BOGOTA-CUNDINAMARCA | F80: LUN, MAR, MIE, JUE, VIE, SAB | G80: 477 | H80: 73148 | I80: 0 | J80: REGIONAL CENTRO | K80: CARMEN DE APICALA-TOLIMA | L80: CARMEN DE APICALA-TOLIMA | N80: 1 | O80: 1440 | P80: NACIONAL | Q80: PESO: 1000 kgs LARGO: 400 cms ANCHO: 180 cms ALTO: 170 cms | R80: =VLOOKUP(A80,'[1]КЛАДР РАНЕЕ ЗАГРУЖЕННЫЙ'!A:A,1,0) -> CARMEN DE APICALA
A81: CARRILLO | B81: 10 | C81: 11001000 | D81: BOGOTA | E81: BOGOTA-CUNDINAMARCA | F81: LUN, MAR, MIE, JUE, VIE, SAB | G81: 2036 | H81: 23686 | I81: 2 | J81: NORTE | K81: CARRILLO-CORDOBA(CORRGTO) | L81: CARRILLO-CORDOBA(CORRGTO) | N81: 4 | O81: 5760 | P81: NACIONAL | Q81: PESO: 1000 kgs LARGO: 400 cms ANCHO: 180 cms ALTO: 170 cms | R81: =VLOOKUP(A81,'[1]КЛАДР РАНЕЕ ЗАГРУЖЕННЫЙ'!A:A,1,0) -> CARRILLO
A82: CARTAGENA | B82: 10 | C82: 11001000 | D82: BOGOTA | E82: BOGOTA-CUNDINAMARCA | F82: LUN, MAR, MIE, JUE, VIE, SAB | G82: 21 | H82: 13001 | I82: 0 | J82: NORTE | K82: CARTAGENA-BOLIVAR | L82: CARTAGENA-BOLIVAR | M82: LUN, MAR, MIE, JUE, VIE, SAB | N82: 2 | O82: 2880 | P82: NACIONAL | Q82: PESO: 1000 kgs LARGO: 400 cms ANCHO: 180 cms ALTO: 170 cms | R82: =VLOOKUP(A82,'[1]КЛАДР РАНЕЕ ЗАГРУЖЕННЫЙ'!A:A,1,0) -> CARTAGENA
A83: CARTAGO | B83: 10 | C83: 11001000 | D83: BOGOTA | E83: BOGOTA-CUNDINAMARCA | F83: LUN, MAR, MIE, JUE, VIE, SAB | G83: 19 | H83: 76147 | I83: 0 | J83: EJE CAFETERO | K83: CARTAGO-VALLE | L83: CARTAGO-VALLE | N83: 2 | O83: 2880 | P83: NACIONAL | Q83: PESO: 1000 kgs LARGO: 400 cms ANCHO: 180 cms ALTO: 170 cms | R83: =VLOOKUP(A83,'[1]КЛАДР РАНЕЕ ЗАГРУЖЕННЫЙ'!A:A,1,0) -> CARTAGO
A84: CASABE | B84: 10 | C84: 11001000 | D84: BOGOTA | E84: BOGOTA-CUNDINAMARCA | F84: LUN, MAR, MIE, JUE, VIE, SAB | G84: 2063 | H84: 58930 | I84: 0 | J84: ORIENTE | K84: CASABE - YONDO-ANTIOQUIA | L84: CASABE - YONDO-ANTIOQUIA | N84: 1 | O84: 1440 | P84: TRAYECTO ESPECIAL | Q84: PESO: 50 kgs LARGO: 50 cms ANCHO: 50 cms ALTO: 50 cms | R84: =VLOOKUP(A84,'[1]КЛАДР РАНЕЕ ЗАГРУЖЕННЫЙ'!A:A,1,0) -> CASABE
A85: CASABIANCA | B85: 10 | C85: 11001000 | D85: BOGOTA | E85: BOGOTA-CUNDINAMARCA | F85: LUN, MAR, MIE, JUE, VIE, SAB | G85: 2064 | H85: 73152 | I85: 0 | J85: EJE CAFETERO | K85: CASABIANCA-TOLIMA | L85: CASABIANCA-TOLIMA | M85: MAR, JUE, SAB | N85: 5 | O85: 7200 | P85: NACIONAL | Q85: PESO: 2 kgs LARGO: 30 cms ANCHO: 2 cms ALTO: 30 cms | R85: =VLOOKUP(A85,'[1]КЛАДР РАНЕЕ ЗАГРУЖЕННЫЙ'!A:A,1,0) -> CASABIANCA
A86: CASCAJAL | B86: 10 | C86: 11001000 | D86: BOGOTA | E86: BOGOTA-CUNDINAMARCA | F86: LUN, MAR, MIE, JUE, VIE, SAB | G86: 2073 | H86: 13430 | I86: 6 | J86: NORTE | K86: CASCAJAL-BOLIVAR(CORRGTO) | L86: CASCAJAL-BOLIVAR(CORRGTO) | N86: 9 | O86: 12960 | P86: TRAYECTO ESPECIAL | Q86: PESO: 50 kgs LARGO: 50 cms ANCHO: 50 cms ALTO: 50 cms | R86: =VLOOKUP(A86,'[1]КЛАДР РАНЕЕ ЗАГРУЖЕННЫЙ'!A:A,1,0) -> CASCAJAL
A87: CASTILLA LA NUEVA | B87: 10 | C87: 11001000 | D87: BOGOTA | E87: BOGOTA-CUNDINAMARCA | F87: LUN, MAR, MIE, JUE, VIE, SAB | G87: 699 | H87: 50150 | I87: 0 | J87: LLANOS | K87: CASTILLA LA NUEVA-META | L87: CASTILLA LA NUEVA-META | N87: 2 | O87: 2880 | P87: NACIONAL | Q87: PESO: 1000 kgs LARGO: 400 cms ANCHO: 180 cms ALTO: 170 cms | R87: =VLOOKUP(A87,'[1]КЛАДР РАНЕЕ ЗАГРУЖЕННЫЙ'!A:A,1,0) -> CASTILLA LA NUEVA
A88: CAUCASIA | B88: 10 | C88: 11001000 | D88: BOGOTA | E88: BOGOTA-CUNDINAMARCA | F88: LUN, MAR, MIE, JUE, VIE, SAB | G88: 14 | H88: 51540 | I88: 0 | J88: ANTIOQUIA | K88: CAUCASIA-ANTIOQUIA | L88: CAUCASIA-ANTIOQUIA | N88: 2 | O88: 2880 | P88: NACIONAL | Q88: PESO: 170 kgs LARGO: 170 cms ANCHO: 170 cms ALTO: 170 cms | R88: =VLOOKUP(A88,'[1]КЛАДР РАНЕЕ ЗАГРУЖЕННЫЙ'!A:A,1,0) -> CAUCASIA
A89: CERETE | B89: 10 | C89: 11001000 | D89: BOGOTA | E89: BOGOTA-CUNDINAMARCA | F89: LUN, MAR, MIE, JUE, VIE, SAB | G89: 29 | H89: 23162 | I89: 0 | J89: NORTE | K89: CERETE-CORDOBA | L89: CERETE-CORDOBA | N89: 2 | O89: 2880 | P89: NACIONAL | Q89: PESO: 1000 kgs LARGO: 400 cms ANCHO: 180 cms ALTO: 170 cms | R89: =VLOOKUP(A89,'[1]КЛАДР РАНЕЕ ЗАГРУЖЕННЫЙ'!A:A,1,0) -> CERETE
A90: CHAPARRAL | B90: 10 | C90: 11001000 | D90: BOGOTA | E90: BOGOTA-CUNDINAMARCA | F90: LUN, MAR, MIE, JUE, VIE, SAB | G90: 478 | H90: 73168 | I90: 0 | J90: EJE CAFETERO | K90: CHAPARRAL-TOLIMA | L90: CHAPARRAL-TOLIMA | M90: LUN, MIE, VIE | N90: 2 | O90: 2880 | P90: NACIONAL | Q90: PESO: 1000 kgs LARGO: 400 cms ANCHO: 180 cms ALTO: 170 cms | R90: =VLOOKUP(A90,'[1]КЛАДР РАНЕЕ ЗАГРУЖЕННЫЙ'!A:A,1,0) -> CHAPARRAL
A91: CHARALA | B91: 10 | C91: 11001000 | D91: BOGOTA | E91: BOGOTA-CUNDINAMARCA | F91: LUN, MAR, MIE, JUE, VIE, SAB | G91: 8 | H91: 68167 | I91: 0 | J91: ORIENTE | K91: CHARALA-SANTANDER | L91: CHARALA-SANTANDER | M91: LUN, MAR, MIE, JUE, VIE, SAB | N91: 1 | O91: 1440 | P91: NACIONAL | Q91: PESO: 1000 kgs LARGO: 400 cms ANCHO: 180 cms ALTO: 170 cms | R91: =VLOOKUP(A91,'[1]КЛАДР РАНЕЕ ЗАГРУЖЕННЫЙ'!A:A,1,0) -> CHARALA
A92: CHIA | B92: 10 | C92: 11001000 | D92: BOGOTA | E92: BOGOTA-CUNDINAMARCA | F92: LUN, MAR, MIE, JUE, VIE, SAB | G92: 664 | H92: 25175 | I92: 0 | J92: REGIONAL CENTRO | K92: CHIA-CUNDINAMARCA | L92: CHIA-CUNDINAMARCA | M92: LUN, MAR, MIE, JUE, VIE, SAB | N92: 1 | O92: 1440 | P92: URBANO | Q92: PESO: 1000 kgs LARGO: 400 cms ANCHO: 180 cms ALTO: 170 cms | R92: =VLOOKUP(A92,'[1]КЛАДР РАНЕЕ ЗАГРУЖЕННЫЙ'!A:A,1,0) -> CHIA
A93: CHICORAL | B93: 10 | C93: 11001000 | D93: BOGOTA | E93: BOGOTA-CUNDINAMARCA | F93: LUN, MAR, MIE, JUE, VIE, SAB | G93: 114 | H93: 73268 | I93: 1 | J93: EJE CAFETERO | K93: CHICORAL-TOLIMA(INSPOLDEP) | L93: CHICORAL-TOLIMA(INSPOLDEP) | M93: LUN, MIE, VIE | N93: 2 | O93: 2880 | P93: NACIONAL | Q93: PESO: 1000 kgs LARGO: 400 cms ANCHO: 180 cms ALTO: 170 cms | R93: =VLOOKUP(A93,'[1]КЛАДР РАНЕЕ ЗАГРУЖЕННЫЙ'!A:A,1,0) -> CHICORAL
A94: CHINACOTA | B94: 10 | C94: 11001000 | D94: BOGOTA | E94: BOGOTA-CUNDINAMARCA | F94: LUN, MAR, MIE, JUE, VIE, SAB | G94: 188 | H94: 54172 | I94: 0 | J94: ORIENTE | K94: CHINACOTA-NORTE DE SANTANDER | L94: CHINACOTA-NORTE DE SANTANDER | M94: LUN, MIE, VIE | N94: 3 | O94: 4320 | P94: TRAYECTO ESPECIAL | Q94: PESO: 30 kgs LARGO: 40 cms ANCHO: 40 cms ALTO: 40 cms | R94: =VLOOKUP(A94,'[1]КЛАДР РАНЕЕ ЗАГРУЖЕННЫЙ'!A:A,1,0) -> CHINACOTA
A95: CHINAUTA | B95: 10 | C95: 11001000 | D95: BOGOTA | E95: BOGOTA-CUNDINAMARCA | F95: LUN, MAR, MIE, JUE, VIE, SAB | G95: 568 | H95: 25290 | I95: 16 | J95: REGIONAL CENTRO | K95: CHINAUTA-CUNDINAMARCA(CENTPOBL) | L95: CHINAUTA-CUNDINAMARCA(CENTPOBL) | M95: LUN, MAR, MIE, JUE, VIE, SAB | N95: 2 | O95: 2880 | P95: ZONAL | Q95: PESO: 1000 kgs LARGO: 400 cms ANCHO: 180 cms ALTO: 170 cms | R95: =VLOOKUP(A95,'[1]КЛАДР РАНЕЕ ЗАГРУЖЕННЫЙ'!A:A,1,0) -> CHINAUTA
A96: CHINAVITA | B96: 10 | C96: 11001000 | D96: BOGOTA | E96: BOGOTA-CUNDINAMARCA | F96: LUN, MAR, MIE, JUE, VIE, SAB | G96: 733 | H96: 15172 | I96: 0 | J96: BOYACA | K96: CHINAVITA-BOYACA | L96: CHINAVITA-BOYACA | M96: LUN, MAR, MIE, JUE, VIE, SAB | N96: 1 | O96: 1440 | P96: NACIONAL | Q96: PESO: 1000 kgs LARGO: 400 cms ANCHO: 180 cms ALTO: 170 cms | R96: =VLOOKUP(A96,'[1]КЛАДР РАНЕЕ ЗАГРУЖЕННЫЙ'!A:A,1,0) -> CHINAVITA
A97: CHINCHINA | B97: 10 | C97: 11001000 | D97: BOGOTA | E97: BOGOTA-CUNDINAMARCA | F97: LUN, MAR, MIE, JUE, VIE, SAB | G97: 28 | H97: 17174 | I97: 0 | J97: EJE CAFETERO | K97: CHINCHINA-CALDAS | L97: CHINCHINA-CALDAS | N97: 2 | O97: 2880 | P97: NACIONAL | Q97: PESO: 1000 kgs LARGO: 400 cms ANCHO: 180 cms ALTO: 170 cms | R97: =VLOOKUP(A97,'[1]КЛАДР РАНЕЕ ЗАГРУЖЕННЫЙ'!A:A,1,0) -> CHINCHINA
A98: CHINU | B98: 10 | C98: 11001000 | D98: BOGOTA | E98: BOGOTA-CUNDINAMARCA | F98: LUN, MAR, MIE, JUE, VIE, SAB | G98: 237 | H98: 23182 | I98: 0 | J98: NORTE | K98: CHINU-CORDOBA | L98: CHINU-CORDOBA | N98: 2 | O98: 2880 | P98: NACIONAL | Q98: PESO: 1000 kgs LARGO: 400 cms ANCHO: 180 cms ALTO: 170 cms | R98: =VLOOKUP(A98,'[1]КЛАДР РАНЕЕ ЗАГРУЖЕННЫЙ'!A:A,1,0) -> CHINU
A99: CHIPAQUE | B99: 10 | C99: 11001000 | D99: BOGOTA | E99: BOGOTA-CUNDINAMARCA | F99: LUN, MAR, MIE, JUE, VIE, SAB | G99: 396 | H99: 25178 | I99: 0 | J99: REGIONAL CENTRO | K99: CHIPAQUE-CUNDINAMARCA | L99: CHIPAQUE-CUNDINAMARCA | N99: 1 | O99: 1440 | P99: ZONAL | Q99: PESO: 1000 kgs LARGO: 400 cms ANCHO: 180 cms ALTO: 170 cms | R99: =VLOOKUP(A99,'[1]КЛАДР РАНЕЕ ЗАГРУЖЕННЫЙ'!A:A,1,0) -> CHIPAQUE
A100: CHIQUINQUIRA | B100: 10 | C100: 11001000 | D100: BOGOTA | E100: BOGOTA-CUNDINAMARCA | F100: LUN, MAR, MIE, JUE, VIE, SAB | G100: 6 | H100: 15176 | I100: 0 | J100: BOYACA | K100: CHIQUINQUIRA-BOYACA | L100: CHIQUINQUIRA-BOYACA | M100: LUN, MAR, MIE, JUE, VIE, SAB | N100: 1 | O100: 1440 | P100: ZONAL | Q100: PESO: 1000 kgs LARGO: 400 cms ANCHO: 180 cms ALTO: 170 cms | R100: =VLOOKUP(A100,'[1]КЛАДР РАНЕЕ ЗАГРУЖЕННЫЙ'!A:A,1,0) -> CHIQUINQUIRA
...

Sheet COD
A3: Row Labels | B3: Count of codigo_postal
A4: NO COD | B4: 0.5661505
A5: COD | B5: 0.4338495
A6: Grand Total | B6: 1

Sheet Coordinadora cover area_
A1: nombre_municipio | B1: nombre_departamento | C1: nombre_municipio | D1: codigo_postal | E1: Coordinadora covering 1
A2: RIONEGRO | B2: SANTANDER | C2: RIONEGRO | D2: 687519 | E2: NO
A3: COLOSO | B3: SUCRE | C3: COLOSO | D3: 707030 | E3: NO
A4: SAN VICENTE | B4: ANTIOQUIA | C4: SAN VICENTE | D4: 54018 | E4: NO
A5: DIBULLA | B5: LA GUAJIRA | C5: DIBULLA | D5: 446007 | E5: NO
A6: RONDON | B6: BOYACA | C6: RONDON | D6: 153420 | E6: NO
A7: PIJIÑO DEL CARMEN | B7: MAGDALENA | C7: PIJIÑO DEL CARMEN | D7: 474048 | E7: NO
A8: QUEBRADANEGRA | B8: CUNDINAMARCA | C8: QUEBRADANEGRA | D8: 253427 | E8: NO
A9: ABEJORRAL | B9: ANTIOQUIA | C9: ABEJORRAL | D9: 55030 | E9: NO
A10: SOATA | B10: BOYACA | C10: SOATA | D10: 151007 | E10: NO
A11: VISTAHERMOSA | B11: META | C11: VISTAHERMOSA | D11: 504068 | E11: NO
A12: MELGAR | B12: TOLIMA | C12: MELGAR | D12: 734007 | E12: SI
A13: ENTRERRIOS | B13: ANTIOQUIA | C13: ENTRERRIOS | D13: 51437 | E13: NO
... A3682: ALGECIRAS | B3682: HUILA | C3682: ALGECIRAS | D3682: 413048 | E3682: NO

Sheet Лист4
A1: codigo_postal | B1: nombre_departamento | C1: nombre_municipio | D1: codigo_postal | E1: Coordinadora covering 1
A2: 687519 | B2: SANTANDER | C2: RIONEGRO | D2: 687519 | E2: NO
A3: 707030 | B3: SUCRE | C3: COLOSO | D3: 707030 | E3: NO
A4: 54018 | B4: ANTIOQUIA | C4: SAN VICENTE | D4: 54018 | E4: NO
A5: 446007 | B5: LA GUAJIRA | C5: DIBULLA | D5: 446007 | E5: NO
A6: 153420 | B6: BOYACA | C6: RONDON | D6: 153420 | E6: NO
A7: 474048 | B7: MAGDALENA | C7: PIJIÑO DEL CARMEN | D7: 474048 | E7: NO
A8: 253427 | B8: CUNDINAMARCA | C8: QUEBRADANEGRA | D8: 253427 | E8: NO
A9: 55030 | B9: ANTIOQUIA | C9: ABEJORRAL | D9: 55030 | E9: NO
A10: 151007 | B10: BOYACA | C10: SOATA | D10: 151007 | E10: NO
A11: 504068 | B11: META | C11: VISTAHERMOSA | D11: 504068 | E11: NO
A12: 734007 | B12: TOLIMA | C12: MELGAR | D12: 734007 | E12: SI
A13: 51437 | B13: ANTIOQUIA | C13: ENTRERRIOS | D13: 51437 | E13: NO
... A3682: 413048 | B3682: HUILA | C3682: ALGECIRAS | D3682: 413048 | E3682: NO

Sheet Servintrega cover area
A1: noid | B1: codigo_departamento | C1: nombre_departamento | D1: codigo_municipio | E1: nombre_municipio | F1: zona_postal | G1: codigo_postal | H1: limite_norte | I1: limite_sur | J1: limite_este | K1: limite_oeste | L1: tipo | M1: barrios_contenidos_en_el_codigo_postal | N1: veredas_contenidas_en_el_codigo_postal | O1: Servientrega covering | P1: Coordinadora covering 1
A2: 3003 | B2: 68 | C2: SANTANDER | D2: 68615 | E2: RIONEGRO | F2: 6875 | G2: 687519 | H2: M. LA ESPE.- CACHI. Y RÍO CÁCHI. | I2: M. LEBRIJA Y RÍO CÁCHI. DEL SUR | J2: MUNICIPIO EL PLAYÓN | K2: MUNICIPIO SABANA DE TORRES | L2: Rural | M2: Sin Informacion de Barrios | N2: Caribe- Irlanda- Puerto Limón- Villa Eva- Bocas | O2: =IFERROR(IF(VLOOKUP(D2,'КЛАДС СЕРВИНТРЕГА'!$H$1:$H$524,1,FALSE),"COD",),"NO COD") -> COD
A3: 3089 | B3: 70 | C3: SUCRE | D3: 70204 | E3: COLOSO | F3: 7070 | G3: 707030 | H3: KR 2 | I3: LIMITE URBANO | J3: CL 1 | K3: LIMITE URBANO | L3: Urbano | M3: 6 de Enero- Calle Nueva- Villa María | N3: Sin Informacion de Veredas | O3: =IFERROR(IF(VLOOKUP(D3,'КЛАДС СЕРВИНТРЕГА'!$H$1:$H$524,1,FALSE),"COD",),"NO COD") -> NO COD
A4: 183 | B4: 5 | C4: ANTIOQUIA | D4: 5674 | E4: SAN VICENTE | F4: 540 | G4: 54018 | H4: VIA SAN VICENTE - CONCEPCION | I4: M. MARINILLA Y RÍO NEGRO | J4: MUNICIPIO PEÑOL | K4: MUNICIPIO GUARNE | L4: Rural | M4: Sin Informacion de Barrios | N4: Compañia Abajo- El Canelo- El Carmelo- La Cabaña- La Peña- Piedra Gorda- Salto Arriba | O4: =IFERROR(IF(VLOOKUP(D4,'КЛАДС СЕРВИНТРЕГА'!$H$1:$H$524,1,FALSE),"COD",),"NO COD") -> NO COD
A5: 2089 | B5: 44 | C5: LA GUAJIRA | D5: 44090 | E5: DIBULLA | F5: 4460 | G5: 446007 | H5: MAR CARIBE | I5: VÍA RIOHACHA-SANTA MARTA | J5: MUNICIPIO RIOHACHA | K5: VÍA CASA DE ALUMINIO-MAR CARIBE | L5: Rural | M5: Sin Informacion de Barrios | N5: Sin Informacion de Veredas | O5: =IFERROR(IF(VLOOKUP(D5,'КЛАДС СЕРВИНТРЕГА'!$H$1:$H$524,1,FALSE),"COD",),"NO COD") -> COD
A6: 877 | B6: 15 | C6: BOYACA | D6: 15621 | E6: RONDON | F6: 1534 | G6: 153420 | H6: LIMITE URBANO | I6: LIMITE URBANO | J6: LIMITE URBANO | K6: LIMITE URBANO | L6: Urbano | M6: Sin Informacion de Barrios | N6: Sin Informacion de Veredas | O6: =IFERROR(IF(VLOOKUP(D6,'КЛАДС СЕРВИНТРЕГА'!$H$1:$H$524,1,FALSE),"COD",),"NO COD") -> NO COD
A7: 2129 | B7: 47 | C7: MAGDALENA | D7: 47545 | E7: PIJIÑO DEL CARMEN | F7: 4740 | G7: 474048 | H7: MUNICIPIO SANTA ANA | I7: M. ASTREA Y SAN SEBAS. DE BUENAVIS. | J7: MUNICIPIO EL PASO | K7: RÍO (PERMANENTE) | L7: Rural | M7: Sin Informacion de Barrios | N7: Casa Blanca- San Jose de Prevension | O7: =IFERROR(IF(VLOOKUP(D7,'КЛАДС СЕРВИНТРЕГА'!$H$1:$H$524,1,FALSE),"COD",),"NO COD") -> NO COD
A8: 1765 | B8: 25 | C8: CUNDINAMARCA | D8: 25592 | E8: QUEBRADANEGRA | F8: 2534 | G8: 253427 | H8: MUNICIPIO UTICA | I8: MUNICIPIO VILLETA | J8: MUNICIPIO NIMAIMA | K8: MUNICIPIO GUADUAS | L8: Rural | M8: Sin Informacion de Barrios | N8: Cune- GALETA- HATO- LA ESPERANZA- LA FLORIDA- LA UNION- NACEDEROS- Salitre Blanco- Salitre Negro | O8: =IFERROR(IF(VLOOKUP(D8,'КЛАДС СЕРВИНТРЕГА'!$H$1:$H$524,1,FALSE),"COD",),"NO COD") -> NO COD
A9: 228 | B9: 5 | C9: ANTIOQUIA | D9: 5002 | E9: ABEJORRAL | F9: 550 | G9: 55030 | H9: LIMITE URBANO | I9: LIMITE URBANO | J9: LIMITE URBANO | K9: LIMITE URBANO | L9: Urbano | M9: Sin Informacion de Barrios | N9: Alto de Letras | O9: =IFERROR(IF(VLOOKUP(D9,'КЛАДС СЕРВИНТРЕГА'!$H$1:$H$524,1,FALSE),"COD",),"NO COD") -> NO COD
A10: 745 | B10: 15 | C10: BOYACA | D10: 15753 | E10: SOATA | F10: 1510 | G10: 151007 | H10: MPIO. TIPACOQUE | I10: MUNICIPIO SUSACÓN | J10: MUNICIPIO BOAVITA | K10: MUNICIPIO ONZAGA | L10: Rural | M10: Sin Informacion de Barrios | N10: Cabecera Municipal- Cañabravo- Centro- Centro- El Espinal- El Espinal- La Chorrera- Llano Grande- LLanoGrande | O10: =IFERROR(IF(VLOOKUP(D10,'КЛАДС СЕРВИНТРЕГА'!$H$1:$H$524,1,FALSE),"COD",),"NO COD") -> COD
A11: 2248 | B11: 50 | C11: META | D11: 50711 | E11: VISTAHERMOSA | F11: 5040 | G11: 504068 | H11: RÍO GUEJAR- CAÑO TUBO Y CACHAMA | I11: MPIO. SAN J. DEL GAVIARE | J11: MUNICIPIO PUERTO RICO | K11: MUNICIPIO LA MACARENA | L11: Rural | M11: Sin Informacion de Barrios | N11: Angoleta- Argentina- Bajo Vergel- Brisas del Guejar- Cachicamo- Charcon- Puerto Nuevo | O11: =IFERROR(IF(VLOOKUP(D11,'КЛАДС СЕРВИНТРЕГА'!$H$1:$H$524,1,FALSE),"COD",),"NO COD") -> COD
A12: 3190 | B12: 73 | C12: TOLIMA | D12: 73449 | E12: MELGAR | F12: 7340 | G12: 734007 | H12: MUNICIPIO NILO | I12: MUNICIPIO CUNDAY | J12: MUNICIPIO ICONONZO | K12: MPIO. CARMEN DE APICALÁ | L12: Rural | M12: Sin Informacion de Barrios | N12: Buenavista- Calcuta- Cualamaná- El Águila- El Águila Baja- El Floral- Inalí- La Primavera | O12: =IFERROR(IF(VLOOKUP(D12,'КЛАДС СЕРВИНТРЕГА'!$H$1:$H$524,1,FALSE),"COD",),"NO COD") -> COD
A13: 68 | B13: 5 | C13: ANTIOQUIA | D13: 5264 | E13: ENTRERRIOS | F13: 514 | G13: 51437 | H13: MUNICIPIO BELMIRA | I13: M. SAN PEDRO DE LOS MI. | J13: M. STA ROSA DE OSOS | K13: MUNICIPIO BELMIRA | L13: Rural | M13: Sin Informacion de Barrios | N13: Cabecera Municipal- Cucurucho- El Botón- El Peñol- El Progreso- Embalse Río Grande- La Muñoz- La Planta- Las Brisas- Los Salados- Orobajo Río Grande- Pío XII- Quebrada del Medio- Río Chico- Río Grande- Riochico- Tesorero- Verbenal | O13: =IFERROR(IF(VLOOKUP(D13,'КЛАДС СЕРВИНТРЕГА'!$H$1:$H$524,1,FALSE),"COD",),"NO COD") -> NO COD
... A800: 791 | B800: 15 | C800: BOYACA | D800: 15820 | E800: TOPAGA | F800: 1520 | G800: 152047 | H800: MPIO. CORRALES Y GAMEZA | I800: MPIO. MONGUI Y MONGUA | J800: MPIO. GAMEZA Y MONGUA | K800: MPIO. NOBSA Y SOGAMOSO | L800: Rural | M800: Sin Informacion de Barrios | N800: Sin Informacion de Veredas | O800: =IFERROR(IF(VLOOKUP(D800,'КЛАДС СЕРВИНТРЕГА'!$H$1:$H$524,1,FALSE),"COD",),"NO COD") -> COD
A801: 356 | B801: 5 | C801: ANTIOQUIA | D801: 5842 | E801: URAMITA | F801: 574 | G801: 57447 | H801: MUNICIPIO BEBEIBA | I801: M. C. GORDAS Y FRONTINO | J801: M. CAÑASGORDAS Y PEQUE | K801: 0 | L801: Rural | M801: Sin Informacion de Barrios | N801: Alto del Pital- Ambalema- Arenales- Balcon- Barrancon- Botija Arriba- Buena Vista- Caliche- Caracolal- Caunce- Chachafrutal- Chontadural- Chontaduro- Cominal- Corozo- Cumbre- El Llano- El Palón- El Pital- Encalichada- Esperanza Botija- | O801: =IFERROR(IF(VLOOKUP(D801,'КЛАДС СЕРВИНТРЕГА'!$H$1:$H$524,1,FALSE),"COD",),"NO COD") -> NO COD
A802: 2734 | B802: 68 | C802: SANTANDER | D802: 68001 | E802: BUCARAMANGA | F802: 6800 | G802: 680002 | H802: LIMITE URBANO | I802: CL 45 | J802: LIMITE URBANO | K802: KR 24 | L802: Urbano | M802: Albania- Antonia Santos- Aurora- Buenos Aires- Cuartel- El Prado- Galán- Las Américas- Los Pinos- Mejoras Públicas- Miraflores- Morrorico- Planta La Flora- Quinta Brigada- San Alonso- U.I.S- Universidad- Vegas de Morrorico | N802: Gualilo Alto- La Malaña- Pedregal- San José | O802: =IFERROR(IF(VLOOKUP(D802,'КЛАДС СЕРВИНТРЕГА'!$H$1:$H$524,1,FALSE),"COD",),"NO COD") -> COD
A803: 2748 | B803: 68 | C803: SANTANDER | D803: 68820 | E803: TONA | F803: 6805 | G803: 680541 | H803: LIMITE URBANO | I803: CL 1 | J803: TV 1 | K803: KR 5A | L803: Urbano | M803: Sin Informacion de Barrios | N803: Sin Informacion de Veredas | O803: =IFERROR(IF(VLOOKUP(D803,'КЛАДС СЕРВИНТРЕГА'!$H$1:$H$524,1,FALSE),"COD",),"NO COD") -> NO COD
A804: 13 | B804: 5 | C804: ANTIOQUIA | D804: 5001 | E804: MEDELLIN | F804: 500 | G804: 50015 | H804: CL 49 | I804: CL 29 | J804: KR 46 Y 43A | K804: KR 61- 63 Y 49 | L804: Urbano | M804: Calle Nueva- Centro Administrativo- Corazón de Jesús- Guayaquil- La Alpujarra- Perpetuo Socorro | N804: Sin Informacion de Veredas | O804: =IFERROR(IF(VLOOKUP(D804,'КЛАДС СЕРВИНТРЕГА'!$H$1:$H$524,1,FALSE),"COD",),"NO COD") -> NO COD
A805: 3069 | B805: 70 | C805: SUCRE | D805: 70215 | E805: COROZAL | F805: 7050 | G805: 705037 | H805: MPIO. MORROA Y LOS PALMITOS | I805: AY. PULETAD Y VÍA LAS PALMAS-EL MAMÓN | J805: MPIO. SAN JUAN DE BETULIA | K805: MUNICIPIO SINCELEJO | L805: Rural | M805: Brucelas- Luis Carlos Galán- Marruecos | N805: El Mamon- Rincon de Las Flores | O805: =IFERROR(IF(VLOOKUP(D805,'КЛАДС СЕРВИНТРЕГА'!$H$1:$H$524,1,FALSE),"COD",),"NO COD") -> COD
A806: 2638 | B806: 54 | C806: NORTE DE SANTANDER | D806: 54206 | E806: CONVENCION | F806: 5470 | G806: 547057 | H806: MPIO. EL CARMEN Y PAÍS VENEZUELA | I806: MUNICIPIO TEORAMA | J806: PAÍS VENEZUELA | K806: RÍO SAYÁN BOKY Y M. EL CARMEN | L806: Rural | M806: Sin Informacion de Barrios | N806: Sin Informacion de Veredas | O806: =IFERROR(IF(VLOOKUP(D806,'КЛАДС СЕРВИНТРЕГА'!$H$1:$H$524,1,FALSE),"COD",),"NO COD") -> COD
A807: 3037 | B807: 70 | C807: SUCRE | D807: 70717 | E807: SAN PEDRO | F807: 7020 | G807: 702018 | H807: MPIO. OVEJAS Y LOS PALMITOS | I807: MPIO. SAN LUIS DE SINCE | J807: RÍO (PERMANENTE) | K807: MPIO. SAN LUIS DE SINCE | L807: Rural | M807: Sin Informacion de Barrios | N807: Calabozo- El Bajo de La Alegría- El Delirio- La Distancia- Los Chijetes- Los Galapagos- Monte Bazan- Oro Blanco- Paja Vieja- Paja Vieja- Perendengue- Perendengue- Rosario 1 y 2- Róvira- San Francisco- Santa Inés | O807: =IFERROR(IF(VLOOKUP(D807,'КЛАДС СЕРВИНТРЕГА'!$H$1:$H$524,1,FALSE),"COD",),"NO COD") -> COD
A808: 794 | B808: 15 | C808: BOYACA | D808: 15114 | E808: BUSBANZA | F808: 1520 | G808: 152080 | H808: KR 1 | I808: KR 5 | J808: CL 0 | K808: CL 6 | L808: Urbano | M808: Sin Informacion de Barrios | N808: Sin Informacion de Veredas | O808: =IFERROR(IF(VLOOKUP(D808,'КЛАДС СЕРВИНТРЕГА'!$H$1:$H$524,1,FALSE),"COD",),"NO COD") -> NO COD
A809: 536 | B809: 11 | C809: BOGOTA D.C. | D809: 11001 | E809: LOCALIDAD CIUDAD BOLIVAR | F809: 1119 | G809: 111971 | H809: CL 97 S | I809: BARRIO MUCHUELO ALTO RURAL | J809: RIO TUNJUELITO | K809: M. SOACHA | L809: Rural | M809: Brazuelos Occidental- Brazuelos Occidental Rural- Mochuelo Alto- Mochuelo Alto Rural- Quiba Alto | N809: Cabecera Municipal- SAN JORGE | O809: =IFERROR(IF(VLOOKUP(D809,'КЛАДС СЕРВИНТРЕГА'!$H$1:$H$524,1,FALSE),"COD",),"NO COD") -> NO COD
A810: 3530 | B810: 86 | C810: PUTUMAYO | D810: 86569 | E810: PUERTO CAICEDO | F810: 8620 | G810: 862080 | H810: LIMITE URBANO | I810: LIMITE URBANO | J810: LIMITE URBANO | K810: LIMITE URBANO | L810: Urbano | M810: Sin Informacion de Barrios | N810: Sin Informacion de Veredas | O810: =IFERROR(IF(VLOOKUP(D810,'КЛАДС СЕРВИНТРЕГА'!$H$1:$H$524,1,FALSE),"COD",),"NO COD") -> NO COD
A811: 1883 | B811: 27 | C811: CHOCO | D811: 27495 | E811: NUQUI | F811: 2760 | G811: 276050 | H811: LIMITE URBANO | I811: LIMITE URBANO | J811: LIMITE URBANO | K811: LIMITE URBANO | L811: Urbano | M811: Sin Informacion de Barrios | N811: Sin Informacion de Veredas | O811: =IFERROR(IF(VLOOKUP(D811,'КЛАДС СЕРВИНТРЕГА'!$H$1:$H$524,1,FALSE),"COD",),"NO COD") -> NO COD
A812: 2509 | B812: 52 | C812: NARIÑO | D812: 52079 | E812: BARBACOAS | F812: 5280 | G812: 528078 | H812: RÍO GUIZA | I812: ECUADOR Y MPIO. RICAURTE | J812: RÍO GUIZA | K812: MPIO. SAN ANDRES DE TUMACO | L812: Rural | M812: Sin Informacion de Barrios | N812: Sin Informacion de Veredas | O812: =IFERROR(IF(VLOOKUP(D812,'КЛАДС СЕРВИНТРЕГА'!$H$1:$H$524,1,FALSE),"COD",),"NO COD") -> NO COD
A813: 533 | B813: 11 | C813: BOGOTA D.C. | D813: 11001 | E813: LOCALIDAD CIUDAD BOLIVAR | F813: 1119 | G813: 111941 | H813: KR 40- 42 Y 45B | I813: KR 18Z Y 19D | J813: AC VILLAVICENCIO | K813: M. SOACHA | L813: Urbano | M813: Arborizadora Alta- Arborizadora Alta- Arborizadora Alta- Arborizadora Alta- Candelaria La Nueva- Cerro Colorado- Ciudad Bolívar- Ciudad Bolívar Rural III- El Satélite- Juan José Rondón- Las Acacias- Las Manas- Los Laureles II- Ronda- San Francisco- Villa | N813: Sin Informacion de Veredas | O813: =IFERROR(IF(VLOOKUP(D813,'КЛАДС СЕРВИНТРЕГА'!$H$1:$H$524,1,FALSE),"COD",),"NO COD") -> NO COD
... A2612: 3202 | B2612: 73 | C2612: TOLIMA | D2612: 73585 | E2612: PURIFICACION | F2612: 7345 | G2612: 734508 | H2612: VÍA SALDAÑA-EL BAURA-SAN CAYETANO | I2612: MPIO. COYAIMA Y PRADO | J2612: VÍA PRADO-SAN CAYETANO | K2612: MUNICIPIO SALDAÑA | L2612: Rural | M2612: Sin Informacion de Barrios | N2612: Añiles- Buenavista- Cabecera Municipal- Catalan- Chenche A Sector 2- Chenche A.Sector Palmas- Chenche Tres- Chenches Asoleados- Conchal- El Salitre- El Tambo- Hilarco- La Holanda- La Mata- La Ovejera- Primavera- Purificación- Romolinos- S | O2612: =IFERROR(IF(VLOOKUP(D2612,'КЛАДС СЕРВИНТРЕГА'!$H$1:$H$524,1,FALSE),"COD",),"NO COD") -> COD
A2613: 2327 | B2613: 52 | C2613: NARIÑO | D2613: 52019 | E2613: SAN JOSE DE ALBAN | F2613: 5210 | G2613: 521050 | H2613: LIMITE URBANO | I2613: LIMITE URBANO | J2613: LIMITE URBNO | L2613: Urbano | M2613: Sin Informacion de Barrios | N2613: Buenavista- Cabecera Municipal- El Carmelo- Fátima- San Luis | O2613: =IFERROR(IF(VLOOKUP(D2613,'КЛАДС СЕРВИНТРЕГА'!$H$1:$H$524,1,FALSE),"COD",),"NO COD") -> NO COD
A2614: 576 | B2614: 13 | C2614: BOLIVAR | D2614: 13838 | E2614: TURBANA | F2614: 1310 | G2614: 131010 | H2614: CL 27 | I2614: CL 1 | J2614: KR 1 | K2614: KR 22 | L2614: Urbano | M2614: Sin Informacion de Barrios | N2614: Sin Informacion de Veredas | O2614: =IFERROR(IF(VLOOKUP(D2614,'КЛАДС СЕРВИНТРЕГА'!$H$1:$H$524,1,FALSE),"COD",),"NO COD") -> NO COD
A2615: 520 | B2615: 11 | C2615: BOGOTA D.C. | D2615: 11001 | E2615: LOCALIDAD LOS MARTIRES | F2615: 1114 | G2615: 111411 | H2615: AC 26 | I2615: AC 1 | J2615: AK CARACAS - AK 14 | K2615: AK 30 | L2615: Urbano | M2615: Colseguros- Eduardo Santos- El Listón- El Progreso- El Vergel- Florida- La Estanzuela- La Favorita- La Pepita- La Sabana- Paloquemao- Ricaurte- Samper Mendoza- San Victorino- Santa Fé- Santa Isabel- Santa Isabel Sur- Usatama- Veraguas- Voto Nacional | N2615: Sin Informacion de Veredas | O2615: =IFERROR(IF(VLOOKUP(D2615,'КЛАДС СЕРВИНТРЕГА'!$H$1:$H$524,1,FALSE),"COD",),"NO COD") -> NO COD
A2616: 2170 | B2616: 47 | C2616: MAGDALENA | D2616: 47675 | E2616: SALAMINA | F2616: 4770 | G2616: 477040 | H2616: CL 22 | I2616: LIMITE URBANO | J2616: KR 24 | K2616: KR 0 | L2616: Urbano | M2616: Sin Informacion de Barrios | N2616: Sin Informacion de Veredas | O2616: =IFERROR(IF(VLOOKUP(D2616,'КЛАДС СЕРВИНТРЕГА'!$H$1:$H$524,1,FALSE),"COD",),"NO COD") -> NO COD
A2617: 546 | B2617: 13 | C2617: BOLIVAR | D2617: 13001 | E2617: CARTAGENA | F2617: 1300 | G2617: 130005 | H2617: MAR CARIBE | I2617: DG 31 Y TV 53 | J2617: CL 33 | K2617: KR 0 Y 60B | L2617: Urbano | M2617: Chapacua- Chipre- El Gallo- La Castellana- La Floresta- Las Gaviotas- Las Palmeras- Los Alpes- Nuevo Porvenir- Olaya Sr Central- Olaya Sr La Magdalena- Olaya Sr La Puntilla- Olaya Sr Playa Blanca- Olaya Sr Progreso- Olaya Sr Stella- Olaya Sr Zarabanda- Re | N2617: Sin Informacion de Veredas | O2617: =IFERROR(IF(VLOOKUP(D2617,'КЛАДС СЕРВИНТРЕГА'!$H$1:$H$524,1,FALSE),"COD",),"NO COD") -> COD
A2618: 809 | B2618: 15 | C2618: BOYACA | D2618: 15806 | E2618: TIBASOSA | F2618: 1522 | G2618: 152260 | H2618: CL 7 | I2618: DG 3 | J2618: KR 4 E | K2618: KR 12 | L2618: Urbano | M2618: Sin Informacion de Barrios | N2618: Sin Informacion de Veredas | O2618: =IFERROR(IF(VLOOKUP(D2618,'КЛАДС СЕРВИНТРЕГА'!$H$1:$H$524,1,FALSE),"COD",),"NO COD") -> COD
A2619: 124 | B2619: 5 | C2619: ANTIOQUIA | D2619: 5120 | E2619: CACERES | F2619: 524 | G2619: 52450 | H2619: CL 51 | I2619: LIMITE URBANO | J2619: LIMITE URBANO | K2619: LIMITE URBANO | L2619: Urbano | M2619: Sin Informacion de Barrios | N2619: Sin Informacion de Veredas | O2619: =IFERROR(IF(VLOOKUP(D2619,'КЛАДС СЕРВИНТРЕГА'!$H$1:$H$524,1,FALSE),"COD",),"NO COD") -> NO COD
A2620: 1367 | B2620: 20 | C2620: CESAR | D2620: 20517 | E2620: PAILITAS | F2620: 2040 | G2620: 204007 | H2620: MUNICIPIO CHIMICHAGUA | I2620: MUNICIPIO PELAYA | J2620: MUNICIPIO EL CARMEN | K2620: MUNICIPIO TAMALAMEQUE | L2620: Rural | M2620: Sin Informacion de Barrios | N2620: Sin Informacion de Veredas | O2620: =IFERROR(IF(VLOOKUP(D2620,'КЛАДС СЕРВИНТРЕГА'!$H$1:$H$524,1,FALSE),"COD",),"NO COD") -> COD
A2621: 506 | B2621: 11 | C2621: BOGOTA D.C. | D2621: 11001 | E2621: LOCALIDAD SUBA | F2621: 1111 | G2621: 111111 | H2621: CL 138 | I2621: AC 100 | J2621: AU NORTE | K2621: AK SUBA | L2621: Urbano | M2621: Batán- Canódromo- Ciudad Jardín Norte- Estoril- Iberia- Las Villas- Mónaco- Pasadena- Prado Veraniego- Prado Veraniego Norte- Prado Veraniego Sur- Puente Largo- San José del Prado | N2621: Sin Informacion de Veredas | O2621: =IFERROR(IF(VLOOKUP(D2621,'КЛАДС СЕРВИНТРЕГА'!$H$1:$H$524,1,FALSE),"COD",),"NO COD") -> NO COD
A2622: 1465 | B2622: 23 | C2622: CORDOBA | D2622: 23189 | E2622: CIENAGA DE ORO | F2622: 2325 | G2622: 232538 | H2622: CAÑO SOLEDAD Y RÍO (PERMANENTE) | I2622: RÍO (PERMANENTE) | J2622: ARROYO TORRENTES Y RÍO (PERMANENTE) | K2622: MUNICIPIO SAN CARLOS | L2622: Rural | M2622: Sin Informacion de Barrios | N2622: Sin Informacion de Veredas | O2622: =IFERROR(IF(VLOOKUP(D2622,'КЛАДС СЕРВИНТРЕГА'!$H$1:$H$524,1,FALSE),"COD",),"NO COD") -> COD
A2623: 1549 | B2623: 25 | C2623: CUNDINAMARCA | D2623: 25769 | E2623: SUBACHOQUE | F2623: 2502 | G2623: 250228 | H2623: VIA ZIPAQUIRA - LA PRADERA | I2623: MPIO. MADRID Y EL ROSAL | J2623: MUNICIPIO TABIO Y TENJO | K2623: VIA EL ROSAL - LA PRADERA | L2623: Rural | M2623: Sin Informacion de Barrios | N2623: SANTA ROSA | O2623: =IFERROR(IF(VLOOKUP(D2623,'КЛАДС СЕРВИНТРЕГА'!$H$1:$H$524,1,FALSE),"COD",),"NO COD") -> COD
A2624: 953 | B2624: 15 | C2624: BOYACA | D2624: 15176 | E2624: CHIQUINQUIRA | F2624: 1546 | G2624: 154648 | H2624: M. BRICEÑO Y SABOYA | I2624: VÍA CALDAS - CHIQUINQUIRA - SABOYA | J2624: MUNICIPIO SABOYA | K2624: M. BRICEÑO Y CALDAS | L2624: Rural | M2624: Sin Informacion de Barrios | N2624: Sin Informacion de Veredas | O2624: =IFERROR(IF(VLOOKUP(D2624,'КЛАДС СЕРВИНТРЕГА'!$H$1:$H$524,1,FALSE),"COD",),"NO COD") -> COD
A2625: 917 | B2625: 15 | C2625: BOYACA | D2625: 15407 | E2625: VILLA DE LEYVA | F2625: 1540 | G2625: 154007 | H2625: MPIO. GACHANTIVA Y ARCABUCO | I2625: MUNICIPIO SACHICA | J2625: MUNICIPIO CHIQUIZA | K2625: M. STA. SOFIA Y SUTAMARCHÁN | L2625: Rural | M2625: Sin Informacion de Barrios | N2625: Centro- Espinal- Gachantiva Viejo- Guitoque- Hornillas- Las Vegas- Monte Suárez- Quemados- Ritoque- Rupavita- Saavedra de Morales- Saavedra de Roncancio | O2625: =IFERROR(IF(VLOOKUP(D2625,'КЛАДС СЕРВИНТРЕГА'!$H$1:$H$524,1,FALSE),"COD",),"NO COD") -> COD
... A3130: 2051 | B3130: 44 | C3130: LA GUAJIRA | D3130: 44847 | E3130: URIBIA | F3130: 4410 | G3130: 441049 | H3130: VÍA NAZARETH-BUENAVISTA | I3130: VÍA SIAPANA-TAGUAIRA | J3130: VÍA SIAPANA-NAZARETH | K3130: AY. ITAÑA Y KAUROKIMANA | L3130: Rural | M3130: Sin Informacion de Barrios | N3130: Sin Informacion de Veredas | O3130: =IFERROR(IF(VLOOKUP(D3130,'КЛАДС СЕРВИНТРЕГА'!$H$1:$H$524,1,FALSE),"COD",),"NO COD") -> COD
A3131: 375 | B3131: 5 | C3131: ANTIOQUIA | D3131: 5147 | E3131: CAREPA | F3131: 578 | G3131: 57850 | H3131: RIO CAREPA Y LIMITE URBANO | L3131: Urbano | M3131: Sin Informacion de Barrios | N3131: Sin Informacion de Veredas | O3131: =IFERROR(IF(VLOOKUP(D3131,'КЛАДС СЕРВИНТРЕГА'!$H$1:$H$524,1,FALSE),"COD",),"NO COD") -> NO COD
A3132: 1506 | B3132: 23 | C3132: CORDOBA | D3132: 23855 | E3132: VALENCIA | F3132: 2345 | G3132: 234530 | H3132: LIMITE URBANO | I3132: LIMITE URBANO | J3132: LIMITE URBANO | K3132: LIMITE URBANO | L3132: Urbano | M3132: 6 de Enero- Alfonso Lopez- El Centro- El Paraíso- El Rosario- Iván Rosales- Jaraguay- La Cruz- Nazareth- Ospina Pérez- Puerto Rico- San José- San Marcos- San Nicolás- Villa Serafina | N3132: Sin Informacion de Veredas | O3132: =IFERROR(IF(VLOOKUP(D3132,'КЛАДС СЕРВИНТРЕГА'!$H$1:$H$524,1,FALSE),"COD",),"NO COD") -> COD
A3133: 633 | B3133: 13 | C3133: BOLIVAR | D3133: 13440 | E3133: MARGARITA | F3133: 1330 | G3133: 133027 | H3133: MUNICIPIO GUAMAL | I3133: RÍO PERMANENTE | J3133: M. GUAMAL Y EL BANCO | K3133: MPIO. SAN FERNANDO | L3133: Rural | M3133: Sin Informacion de Barrios | N3133: Pampan | O3133: =IFERROR(IF(VLOOKUP(D3133,'КЛАДС СЕРВИНТРЕГА'!$H$1:$H$524,1,FALSE),"COD",),"NO COD") -> NO COD
A3134: 624 | B3134: 13 | C3134: BOLIVAR | D3134: 13188 | E3134: CICUCO | F3134: 1325 | G3134: 132550 | H3134: CL 1 | I3134: LIMITE URBANO | J3134: KR 9 | K3134: KR 19 | L3134: Urbano | M3134: Sin Informacion de Barrios | N3134: Sin Informacion de Veredas | O3134: =IFERROR(IF(VLOOKUP(D3134,'КЛАДС СЕРВИНТРЕГА'!$H$1:$H$524,1,FALSE),"COD",),"NO COD") -> NO COD
A3135: 2361 | B3135: 52 | C3135: NARIÑO | D3135: 52411 | E3135: LINARES | F3135: 5225 | G3135: 522507 | H3135: MUNICIPIO LOS ANDES | I3135: RÍO (PERMANEN.) Y RELIEVE M. | J3135: EL TAMBO Y EL PEÑOL | K3135: M. SAMANI.- LA LLANADA Y LOS ANDES | L3135: Rural | M3135: Sin Informacion de Barrios | N3135: Alto Aranda- Cabecera Municipal- Encillada- Hugueronal- La Cocha- Laguna del Pueblo- Laguna Guaitara- Machado- Monte Claro- San Jose de Poroto- Tabiles- Tambillo de Acosta- Tambillos de Bravos- Vendeahuja | O3135: =IFERROR(IF(VLOOKUP(D3135,'КЛАДС СЕРВИНТРЕГА'!$H$1:$H$524,1,FALSE),"COD",),"NO COD") -> NO COD
A3136: 3052 | B3136: 70 | C3136: SUCRE | D3136: 70429 | E3136: MAJAGUAL | F3136: 7030 | G3136: 703057 | H3136: MUNICIPIO SUCRE | I3136: MUNICIPIO GUARANDÁ | J3136: MUNICIPIO ACHI | K3136: RÍO (PERMANENTE) | L3136: Rural | M3136: Sin Informacion de Barrios | N3136: Sin Informacion de Veredas | O3136: =IFERROR(IF(VLOOKUP(D3136,'КЛАДС СЕРВИНТРЕГА'!$H$1:$H$524,1,FALSE),"COD",),"NO COD") -> NO COD
A3137: 600 | B3137: 13 | C3137: BOLIVAR | D3137: 13248 | E3137: EL GUAMO | F3137: 1320 | G3137: 132007 | H3137: MPIO. PEDRAZA Y CALAMAR | I3137: M. SAN JUAN NEPOMUCENO | J3137: MPIO. ZAPAYAN Y TENERIFE | K3137: M. SAN JUAN NEPOMUCENO | L3137: Rural | M3137: Sin Informacion de Barrios | N3137: Sin Informacion de Veredas | O3137: =IFERROR(IF(VLOOKUP(D3137,'КЛАДС СЕРВИНТРЕГА'!$H$1:$H$524,1,FALSE),"COD",),"NO COD") -> NO COD
A3138: 617 | B3138: 13 | C3138: BOLIVAR | D3138: 13430 | E3138: MAGANGUE | F3138: 1325 | G3138: 132517 | H3138: M. SANTA BARBARA DE PINTO | I3138: LIMITE URBANO | J3138: M. TALAIGUA N. Y CICUCO | K3138: VIA MAGANGUE-TACAMOCHA | L3138: Rural | M3138: Sin Informacion de Barrios | N3138: Sin Informacion de Veredas | O3138: =IFERROR(IF(VLOOKUP(D3138,'КЛАДС СЕРВИНТРЕГА'!$H$1:$H$524,1,FALSE),"COD",),"NO COD") -> COD
A3139: 3542 | B3139: 88 | C3139: ARCHIPIELAGO DE SAN ANDRES | D3139: 88564 | E3139: PROVIDENCIA | F3139: 8800 | G3139: 880020 | H3139: LIMITE URBANO | I3139: LIMITE URBANO | J3139: LIMITE URBANO | K3139: LIMITE URBANO | L3139: Urbano | M3139: Sin Informacion de Barrios | N3139: Sin Informacion de Veredas | O3139: =IFERROR(IF(VLOOKUP(D3139,'КЛАДС СЕРВИНТРЕГА'!$H$1:$H$524,1,FALSE),"COD",),"NO COD") -> NO COD
A3140: 3303 | B3140: 76 | C3140: VALLE DEL CAUCA | D3140: 76828 | E3140: TRUJILLO | F3140: 7610 | G3140: 761027 | H3140: MUNICIPIO BOLÍVAR | I3140: MUNICIPIO RIOFRÍO | J3140: VÍA RIOFRÍO - NARANJAL | K3140: M. EL LITORAL DEL SAN JUAN | L3140: Rural | M3140: Sin Informacion de Barrios | N3140: Sin Informacion de Veredas | O3140: =IFERROR(IF(VLOOKUP(D3140,'КЛАДС СЕРВИНТРЕГА'!$H$1:$H$524,1,FALSE),"COD",),"NO COD") -> COD
A3141: 292 | B3141: 5 | C3141: ANTIOQUIA | D3141: 5034 | E3141: ANDES | F3141: 560 | G3141: 56068 | H3141: RÍO CAUDALOSO | I3141: MUNICIPIO MISTRADO | J3141: MUNICIPIO JARDIN | K3141: MUNICIPIO MISTRADO | L3141: Rural | M3141: Sin Informacion de Barrios | N3141: Sin Informacion de Veredas | O3141: =IFERROR(IF(VLOOKUP(D3141,'КЛАДС СЕРВИНТРЕГА'!$H$1:$H$524,1,FALSE),"COD",),"NO COD") -> NO COD
A3142: 2277 | B3142: 50 | C3142: META | D3142: 50689 | E3142: SAN MARTIN | F3142: 5070 | G3142: 507027 | H3142: M. CASTILLA LA NVA. Y SAN C. DE GUAROA | I3142: CAÑO CAMOA | J3142: CAÑO CAMOA | K3142: MUNICIPIO CUBARRAL | L3142: Rural | M3142: Sin Informacion de Barrios | N3142: Arenales- Bajo Camoa- El Toro- El Turuy- Gualas- Humadea- La Libertad- La Pascualera- Merey- San Antonio- Santa Helena | O3142: =IFERROR(IF(VLOOKUP(D3142,'КЛАДС СЕРВИНТРЕГА'!$H$1:$H$524,1,FALSE),"COD",),"NO COD") -> COD
A3143: 2985 | B3143: 68 | C3143: SANTANDER | D3143: 68081 | E3143: BARRANCABERMEJA | F3143: 6870 | G3143: 687031 | H3143: LIMITE URBANO | I3143: CL 52 | J3143: KR 34 | K3143: RIO MAGDALENA | L3143: Urbano | M3143: 20 de Enero- Ciudad Bolívar- Coviba- El Parnaso- El Rosario- Galán Gómez- La Floresta- La Libertad- Las Camelias- Olaya Herrera- Pueblo Nuevo- Santa Isabel- Torcoroma- Villa Olímpica | N3143: Sin Informacion de Veredas | O3143: =IFERROR(IF(VLOOKUP(D3143,'КЛАДС СЕРВИНТРЕГА'!$H$1:$H$524,1,FALSE),"COD",),"NO COD") -> COD
... A3682: 1952 | B3682: 41 | C3682: HUILA | D3682: 41020 | E3682: ALGECIRAS | F3682: 4130 | G3682: 413048 | H3682: MUNICIPIO CAMPOALEGRE | I3682: MPIO. EL PAUJIL Y EL DONCELLO | J3682: VÍA CAMPO.-EL PARA.-LA UNI. Y M. P. RICO | K3682: MPIO. GIGANTE Y HOBO | L3682: Rural | M3682: Sin Informacion de Barrios | N3682: AGUA FRIA- ALTO CIELO- ALTO ROBLE- ALTOS DE RIO NEIVA- ANDES ALTOS- ANDES BAJOS- BAJO ROBLE- BATAN- BELLA VISTA- BUENA VISTA- Buenavista- BUENOS AIRES- Chía- EL BOSQUE- El Guayabo- EL PORVENIR- EL PORVENIR- EL PUENTE- El Roble- EL TORO- | O3682: =IFERROR(IF(VLOOKUP(D3682,'КЛАДС СЕРВИНТРЕГА'!$H$1:$H$524,1,FALSE),"COD",),"NO COD") -> NO COD

Sheet Лист1
A1: nombre_departamento | B1: nombre_municipio | C1: codigo_postal | D1: Coordinadora covering 1
A2: SANTANDER | B2: RIONEGRO | C2: 687519 | D2: NO
A3: SUCRE | B3: COLOSO | C3: 707030 | D3: NO
A4: ANTIOQUIA | B4: SAN VICENTE | C4: 54018 | D4: NO
A5: LA GUAJIRA | B5: DIBULLA | C5: 446007 | D5: NO
A6: BOYACA | B6: RONDON | C6: 153420 | D6: NO
A7: MAGDALENA | B7: PIJIÑO DEL CARMEN | C7: 474048 | D7: NO
A8: CUNDINAMARCA | B8: QUEBRADANEGRA | C8: 253427 | D8: NO
A9: ANTIOQUIA | B9: ABEJORRAL | C9: 55030 | D9: NO
A10: BOYACA | B10: SOATA | C10: 151007 | D10: NO
A11: META | B11: VISTAHERMOSA | C11: 504068 | D11: NO
A12: TOLIMA | B12: MELGAR | C12: 734007 | D12: SI
A13: ANTIOQUIA | B13: ENTRERRIOS | C13: 51437 | D13: NO
... A3682: HUILA | B3682: ALGECIRAS | C3682: 413048 | D3682: NO

Sheet Coordinadora cover area
A1: codigo_postal | B1: codigo_departamento | C1: nombre_departamento | D1: codigo_municipio | E1: nombre_municipio | F1: zona_postal | G1: codigo_postal | H1: COD/NO COD
A2: 913057 | B2: 91 | C2: AMAZONAS | D2: 91530 | E2: PUERTO ALEGRIA | F2: 9130 | G2: 913057 | H2: NO COD
A3: 915010 | B3: 91 | C3: AMAZONAS | D3: 91669 | E3: PUERTO SANTANDER | F3: 9150 | G3: 915010 | H3: NO COD
A4: 911018 | B4: 91 | C4: AMAZONAS | D4: 91540 | E4: PUERTO NARIÑO | F4: 9110 | G4: 911018 | H4: NO COD
A5: 913050 | B5: 91 | C5: AMAZONAS | D5: 91530 | E5: PUERTO ALEGRIA | F5: 9130 | G5: 913050 | H5: NO COD
A6: 915019 | B6: 91 | C6: AMAZONAS | D6: 91669 | E6: PUERTO SANTANDER | F6: 9150 | G6: 915019 | H6: NO COD
A7: 914050 | B7: 91 | C7: AMAZONAS | D7: 91405 | E7: LA CHORRERA | F7: 9140 | G7: 914050 | H7: NO COD
A8: 917010 | B8: 91 | C8: AMAZONAS | D8: 91407 | E8: LA PEDRERA | F8: 9170 | G8: 917010 | H8: NO COD
A9: 911039 | B9: 91 | C9: AMAZONAS | D9: 91798 | E9: TARAPACA | F9: 9110 | G9: 911039 | H9: NO COD
A10: 911037 | B10: 91 | C10: AMAZONAS | D10: 91798 | E10: TARAPACA | F10: 9110 | G10: 911037 | H10: NO COD
A11: 911017 | B11: 91 | C11: AMAZONAS | D11: 91540 | E11: PUERTO NARIÑO | F11: 9110 | G11: 911017 | H11: NO COD
A12: 916017 | B12: 91 | C12: AMAZONAS | D12: 91430 | E12: LA VICTORIA | F12: 9160 | G12: 916017 | H12: NO COD
A13: 915017 | B13: 91 | C13: AMAZONAS | D13: 91669 | E13: PUERTO SANTANDER | F13: 9150 | G13: 915017 | H13: NO COD
... A36: 51437 | B36: 5 | C36: ANTIOQUIA | D36: 5264 | E36: ENTRERRIOS | F36: 514 | G36: 51437 | H36: NO COD
A37: 50032 | B37: 5 | C37: ANTIOQUIA | D37: 5001 | E37: MEDELLIN | F37: 500 | G37: 50032 | H37: =VLOOKUP(E37,'[2]Cubrimiento RCE'!A$2:I$136,1,FALSE) -> MEDELLIN
A38: 57067 | B38: 5 | C38: ANTIOQUIA | D38: 5138 | E38: CAÑASGORDAS | F38: 570 | G38: 57067 | H38: NO COD
A39: 51430 | B39: 5 | C39: ANTIOQUIA | D39: 5264 | E39: ENTRERRIOS | F39: 514 | G39: 51430 | H39: NO COD
A40: 56040 | B40: 5 | C40: ANTIOQUIA | D40: 5145 | E40: CARAMANTA | F40: 560 | G40: 56040 | H40: NO COD
A41: 56417 | B41: 5 | C41: ANTIOQUIA | D41: 5209 | E41: CONCORDIA | F41: 564 | G41: 56417 | H41: NO COD
A42: 54438 | B42: 5 | C42: ANTIOQUIA | D42: 5660 | E42: SAN LUIS | F42: 544 | G42: 54438 | H42: NO COD
A43: 51037 | B43: 5 | C43: ANTIOQUIA | D43: 5308 | E43: GIRARDOTA | F43: 510 | G43: 51037 | H43: =VLOOKUP(E43,'[2]Cubrimiento RCE'!A$2:I$136,1,FALSE) -> GIRARDOTA
A44: 55068 | B44: 5 | C44: ANTIOQUIA | D44: 5390 | E44: LA PINTADA | F44: 550 | G44: 55068 | H44: NO COD
A45: 56847 | B45: 5 | C45: ANTIOQUIA | D45: 5125 | E45: CAICEDO | F45: 568 | G45: 56847 | H45: NO COD
A46: 55020 | B46: 5 | C46: ANTIOQUIA | D46: 5400 | E46: LA UNION | F46: 550 | G46: 55020 | H46: NO COD
A47: 53838 | B47: 5 | C47: ANTIOQUIA | D47: 5667 | E47: SAN RAFAEL | F47: 538 | G47: 53838 | H47: NO COD
A48: 55840 | B48: 5 | C48: ANTIOQUIA | D48: 5030 | E48: AMAGA | F48: 558 | G48: 55840 | H48: NO COD
A49: 52050 | B49: 5 | C49: ANTIOQUIA | D49: 5819 | E49: TOLEDO | F49: 520 | G49: 52050 | H49: NO COD
A50: 57040 | B50: 5 | C50: ANTIOQUIA | D50: 5306 | E50: GIRALDO | F50: 570 | G50: 57040 | H50: NO COD
A51: 54848 | B51: 5 | C51: ANTIOQUIA | D51: 5483 | E51: NARIÑO | F51: 548 | G51: 54848 | H51: NO COD
A52: 57030 | B52: 5 | C52: ANTIOQUIA | D52: 5113 | E52: BURITICA | F52: 570 | G52: 57030 | H52: NO COD
A53: 51448 | B53: 5 | C53: ANTIOQUIA | D53: 5761 | E53: SOPETRAN | F53: 514 | G53: 51448 | H53: NO COD
A54: 51030 | B54: 5 | C54: ANTIOQUIA | D54: 5308 | E54: GIRARDOTA | F54: 510 | G54: 51030 | H54: =VLOOKUP(E54,'[2]Cubrimiento RCE'!A$2:I$136,1,FALSE) -> GIRARDOTA
A55: 57050 | B55: 5 | C55: ANTIOQUIA | D55: 5042 | E55: SANTAFE DE ANTIOQUIA | F55: 570 | G55: 57050 | H55: NO COD
A56: 54828 | B56: 5 | C56: ANTIOQUIA | D56: 5756 | E56: SONSON | F56: 548 | G56: 54828 | H56: NO COD
A57: 53467 | B57: 5 | C57: ANTIOQUIA | D57: 5425 | E57: MACEO | F57: 534 | G57: 53467 | H57: NO COD
A58: 57457 | B58: 5 | C58: ANTIOQUIA | D58: 5284 | E58: FRONTINO | F58: 574 | G58: 57457 | H58: NO COD
A59: 56438 | B59: 5 | C59: ANTIOQUIA | D59: 5792 | E59: TARSO | F59: 564 | G59: 56438 | H59: NO COD
A60: 57857 | B60: 5 | C60: ANTIOQUIA | D60: 5147 | E60: CAREPA | F60: 578 | G60: 57857 | H60: NO COD
A61: 57837 | B61: 5 | C61: ANTIOQUIA | D61: 5665 | E61: SAN PEDRO DE URABA | F61: 578 | G61: 57837 | H61: NO COD
A62: 50040 | B62: 5 | C62: ANTIOQUIA | D62: 5001 | E62: MEDELLIN | F62: 500 | G62: 50040 | H62: =VLOOKUP(E62,'[2]Cubrimiento RCE'!A$2:I$136,1,FALSE) -> MEDELLIN
A63: 55057 | B63: 5 | C63: ANTIOQUIA | D63: 5679 | E63: SANTA BARBARA | F63: 550 | G63: 55057 | H63: NO COD
A64: 56860 | B64: 5 | C64: ANTIOQUIA | D64: 5093 | E64: BETULIA | F64: 568 | G64: 56860 | H64: NO COD
A65: 51417 | B65: 5 | C65: ANTIOQUIA | D65: 5658 | E65: SAN JOSE DE LA MONTAÑA | F65: 514 | G65: 51417 | H65: NO COD
A66: 51860 | B66: 5 | C66: ANTIOQUIA | D66: 5686 | E66: SANTA ROSA DE OSOS | F66: 518 | G66: 51860 | H66: NO COD
A67: 52850 | B67: 5 | C67: ANTIOQUIA | D67: 5040 | E67: ANORI | F67: 528 | G67: 52850 | H67: NO COD
A68: 57028 | B68: 5 | C68: ANTIOQUIA | D68: 5628 | E68: SABANALARGA | F68: 570 | G68: 57028 | H68: NO COD
A69: 53830 | B69: 5 | C69: ANTIOQUIA | D69: 5667 | E69: SAN RAFAEL | F69: 538 | G69: 53830 | H69: NO COD
A70: 57458 | B70: 5 | C70: ANTIOQUIA | D70: 5284 | E70: FRONTINO | F70: 574 | G70: 57458 | H70: NO COD
A71: 53010 | B71: 5 | C71: ANTIOQUIA | D71: 5885 | E71: YALI | F71: 530 | G71: 53010 | H71: NO COD
A72: 56470 | B72: 5 | C72: ANTIOQUIA | D72: 5642 | E72: SALGAR | F72: 564 | G72: 56470 | H72: NO COD
A73: 51857 | B73: 5 | C73: ANTIOQUIA | D73: 5237 | E73: DON MATIAS | F73: 518 | G73: 51857 | H73: NO COD
A74: 57440 | B74: 5 | C74: ANTIOQUIA | D74: 5842 | E74: URAMITA | F74: 574 | G74: 57440 | H74: NO COD
A75: 54057 | B75: 5 | C75: ANTIOQUIA | D75: 5318 | E75: GUARNE | F75: 540 | G75: 54057 | H75: =VLOOKUP(E75,'[2]Cubrimiento RCE'!A$2:I$136,1,FALSE) -> GUARNE
A76: 53420 | B76: 5 | C76: ANTIOQUIA | D76: 5579 | E76: PUERTO BERRIO | F76: 534 | G76: 53420 | H76: NO COD
A77: 55837 | B77: 5 | C77: ANTIOQUIA | D77: 5036 | E77: ANGELOPOLIS | F77: 558 | G77: 55837 | H77: NO COD
A78: 52848 | B78: 5 | C78: ANTIOQUIA | D78: 5031 | E78: AMALFI | F78: 528 | G78: 52848 | H78: NO COD
A79: 55050 | B79: 5 | C79: ANTIOQUIA | D79: 5679 | E79: SANTA BARBARA | F79: 550 | G79: 55050 | H79: NO COD
A80: 54038 | B80: 5 | C80: ANTIOQUIA | D80: 5148 | E80: EL CARMEN DE VIBORAL | F80: 540 | G80: 54038 | H80: =VLOOKUP(E80,'[2]Cubrimiento RCE'!A$2:I$136,1,FALSE) -> EL CARMEN DE VIBORAL
A81: 51427 | B81: 5 | C81: ANTIOQUIA | D81: 5086 | E81: BELMIRA | F81: 514 | G81: 51427 | H81: NO COD
A82: 56838 | B82: 5 | C82: ANTIOQUIA | D82: 5847 | E82: URRAO | F82: 568 | G82: 56838 | H82: NO COD
A83: 51054 | B83: 5 | C83: ANTIOQUIA | D83: 5088 | E83: BELLO | F83: 510 | G83: 51054 | H83: =VLOOKUP(E83,'[2]Cubrimiento RCE'!A$2:I$136,1,FALSE) -> BELLO
A84: 54428 | B84: 5 | C84: ANTIOQUIA | D84: 5649 | E84: SAN CARLOS | F84: 544 | G84: 54428 | H84: NO COD
A85: 56027 | B85: 5 | C85: ANTIOQUIA | D85: 5789 | E85: TAMESIS | F85: 560 | G85: 56027 | H85: NO COD
A86: 54058 | B86: 5 | C86: ANTIOQUIA | D86: 5318 | E86: GUARNE | F86: 540 | G86: 54058 | H86: =VLOOKUP(E86,'[2]Cubrimiento RCE'!A$2:I$136,1,FALSE) -> GUARNE
A87: 54817 | B87: 5 | C87: ANTIOQUIA | D87: 5652 | E87: SAN FRANCISCO | F87: 548 | G87: 54817 | H87: NO COD
A88: 52810 | B88: 5 | C88: ANTIOQUIA | D88: 5736 | E88: SEGOVIA | F88: 528 | G88: 52810 | H88: NO COD
A89: 51038 | B89: 5 | C89: ANTIOQUIA | D89: 5308 | E89: GIRARDOTA | F89: 510 | G89: 51038 | H89: =VLOOKUP(E89,'[2]Cubrimiento RCE'!A$2:I$136,1,FALSE) -> GIRARDOTA
A90: 56850 | B90: 5 | C90: ANTIOQUIA | D90: 5044 | E90: ANZA | F90: 568 | G90: 56850 | H90: NO COD
A91: 55430 | B91: 5 | C91: ANTIOQUIA | D91: 5607 | E91: RETIRO | F91: 554 | G91: 55430 | H91: =VLOOKUP(E91,'[2]Cubrimiento RCE'!A$2:I$136,1,FALSE) -> RETIRO
A92: 56427 | B92: 5 | C92: ANTIOQUIA | D92: 5861 | E92: VENECIA | F92: 564 | G92: 56427 | H92: NO COD
A93: 56837 | B93: 5 | C93: ANTIOQUIA | D93: 5847 | E93: URRAO | F93: 568 | G93: 56837 | H93: NO COD
A94: 55440 | B94: 5 | C94: ANTIOQUIA | D94: 5129 | E94: CALDAS | F94: 554 | G94: 55440 | H94: =VLOOKUP(E94,'[2]Cubrimiento RCE'!A$2:I$136,1,FALSE) -> CALDAS
A95: 55867 | B95: 5 | C95: ANTIOQUIA | D95: 5059 | E95: ARMENIA | F95: 558 | G95: 55867 | H95: =VLOOKUP(E95,'[2]Cubrimiento RCE'!A$2:I$136,1,FALSE) -> ARMENIA
A96: 56818 | B96: 5 | C96: ANTIOQUIA | D96: 5475 | E96: MURINDO | F96: 568 | G96: 56818 | H96: NO COD
A97: 57840 | B97: 5 | C97: ANTIOQUIA | D97: 5045 | E97: APARTADO | F97: 578 | G97: 57840 | H97: NO COD
A98: 55027 | B98: 5 | C98: ANTIOQUIA | D98: 5400 | E98: LA UNION | F98: 550 | G98: 55027 | H98: NO COD
A99: 52448 | B99: 5 | C99: ANTIOQUIA | D99: 5895 | E99: ZARAGOZA | F99: 524 | G99: 52448 | H99: NO COD
A100: 52079 | B100: 5 | C100: ANTIOQUIA | D100: 5361 | E100: ITUANGO | F100: 520 | G100: 52079 | H100: NO COD
A101: 53820 | B101: 5 | C101: ANTIOQUIA | D101: 5021 | E101: ALEJANDRIA | F101: 538 | G101: 53820 | H101: NO COD
A102: 54030 | B102: 5 | C102: ANTIOQUIA | D102: 5148 | E102: EL CARMEN DE VIBORAL | F102: 540 | G102: 54030 | H102: =VLOOKUP(E102,'[2]Cubrimiento RCE'!A$2:I$136,1,FALSE) -> EL CARMEN DE VIBORAL
A103: 53020 | B103: 5 | C103: ANTIOQUIA | D103: 5890 | E103: YOLOMBO | F103: 530 | G103: 53020 | H103: NO COD
A104: 57068 | B104: 5 | C104: ANTIOQUIA | D104: 5138 | E104: CAÑASGORDAS | F104: 570 | G104: 57068 | H104: NO COD
A105: 55420 | B105: 5 | C105: ANTIOQUIA | D105: 5266 | E105: ENVIGADO | F105: 554 | G105: 55420 | H105: =VLOOKUP(E105,'[2]Cubrimiento RCE'!A$2:I$136,1,FALSE) -> ENVIGADO
A106: 53017 | B106: 5 | C106: ANTIOQUIA | D106: 5885 | E106: YALI | F106: 530 | G106: 53017 | H106: NO COD
A107: 57420 | B107: 5 | C107: ANTIOQUIA | D107: 5480 | E107: MUTATA | F107: 574 | G107: 57420 | H107: NO COD
A108: 56820 | B108: 5 | C108: ANTIOQUIA | D108: 5873 | E108: VIGIA DEL FUERTE | F108: 568 | G108: 56820 | H108: NO COD
A109: 55038 | B109: 5 | C109: ANTIOQUIA | D109: 5002 | E109: ABEJORRAL | F109: 550 | G109: 55038 | H109: NO COD
A110: 57017 | B110: 5 | C110: ANTIOQUIA | D110: 5543 | E110: PEQUE | F110: 570 | G110: 57017 | H110: NO COD
A111: 57829 | B111: 5 | C111: ANTIOQUIA | D111: 5051 | E111: ARBOLETES | F111: 578 | G111: 57829 | H111: NO COD
A112: 53857 | B112: 5 | C112: ANTIOQUIA | D112: 5541 | E112: PEÑOL | F112: 538 | G112: 53857 | H112: NO COD
A113: 54838 | B113: 5 | C113: ANTIOQUIA | D113: 5055 | E113: ARGELIA | F113: 548 | G113: 54838 | H113: NO COD
A114: 57868 | B114: 5 | C114: ANTIOQUIA | D114: 5837 | E114: TURBO | F114: 578 | G114: 57868 | H114: NO COD
A115: 54020 | B115: 5 | C115: ANTIOQUIA | D115: 5440 | E115: MARINILLA | F115: 540 | G115: 54020 | H115: =VLOOKUP(E115,'[2]Cubrimiento RCE'!A$2:I$136,1,FALSE) -> MARINILLA
A116: 51410 | B116: 5 | C116: ANTIOQUIA | D116: 5658 | E116: SAN JOSE DE LA MONTAÑA | F116: 514 | G116: 51410 | H116: NO COD
A117: 51058 | B117: 5 | C117: ANTIOQUIA | D117: 5088 | E117: BELLO | F117: 510 | G117: 51058 | H117: =VLOOKUP(E117,'[2]Cubrimiento RCE'!A$2:I$136,1,FALSE) -> BELLO
A118: 57020 | B118: 5 | C118: ANTIOQUIA | D118: 5628 | E118: SABANALARGA | F118: 570 | G118: 57020 | H118: NO COD
A119: 55070 | B119: 5 | C119: ANTIOQUIA | D119: 5282 | E119: FREDONIA | F119: 550 | G119: 55070 | H119: NO COD
A120: 53810 | B120: 5 | C120: ANTIOQUIA | D120: 5206 | E120: CONCEPCION | F120: 538 | G120: 53810 | H120: NO COD
A121: 57447 | B121: 5 | C121: ANTIOQUIA | D121: 5842 | E121: URAMITA | F121: 574 | G121: 57447 | H121: NO COD
A122: 50015 | B122: 5 | C122: ANTIOQUIA | D122: 5001 | E122: MEDELLIN | F122: 500 | G122: 50015 | H122: =VLOOKUP(E122,'[2]Cubrimiento RCE'!A$2:I$136,1,FALSE) -> MEDELLIN
...

Sheet Лист3
A1: codigo_postal | B1: noid | C1: codigo_departamento | D1: nombre_departamento | E1: codigo_municipio | F1: nombre_municipio | G1: zona_postal | H1: codigo_postal | I1: limite_norte | J1: limite_sur | K1: limite_este | L1: limite_oeste | M1: tipo | N1: barrios_contenidos_en_el_codigo_postal | O1: veredas_contenidas_en_el_codigo_postal | P1: RECAUDO CONTRA ENTREGA
A2: 734007 | B2: 3190 | C2: 73 | D2: TOLIMA | E2: 73449 | F2: MELGAR | G2: 7340 | H2: 734007 | I2: MUNICIPIO NILO | J2: MUNICIPIO CUNDAY | K2: MUNICIPIO ICONONZO | L2: MPIO. CARMEN DE APICALÁ | M2: Rural | N2: Sin Informacion de Barrios | O2: Buenavista- Calcuta- Cualamaná- El Águila- El Águila Baja- El Floral- Inalí- La Primavera | P2: SI
A3: 191077 | B3: 1185 | C3: 19 | D3: CAUCA | E3: 19142 | F3: CALOTO | G3: 1910 | H3: 191077 | I3: VÍA S/DER. DE QUILICHAO-NATALA | J3: M. S. DE QUILICHAO Y JAMBALÓ | K3: M. JAMBALÓ Y TORIBÍO | L3: MPIO. S. DE QUILICHAO | M3: Rural | N3: Sin Informacion de Barrios | O3: Altamira- Campo Alegre- Carpintero- Dominga Alta- El Arrayán- El Chocho- El Poblado- El Socorro- Guadualito- Guataba- Huellas- La Buitrera- La Estrella- La Guinea- La Palma- La Pila- La Placa- Loma Gruesa- Loma Pelada- Los Chorros- Los | P3: SI
A4: 50032 | B4: 29 | C4: 5 | D4: ANTIOQUIA | E4: 5001 | F4: MEDELLIN | G4: 500 | H4: 50032 | I4: CL 47D Y KR 96 | J4: CL 32- 31B Y 31D | K4: KR 81 Y 80 | L4: KR 106A- 93 Y LIM URB | M4: Urbano | N4: Barrio Cristóbal- Belencito- Campo Alegre- El Danubio- La América- La Castellana- La Floresta- Las Mercedes- Nueva Villa del Aburrá- Santa Mónica- Santa Teresita- Simón Bolívar | O4: Sin Informacion de Veredas | P4: SI
A5: 730002 | B5: 3094 | C5: 73 | D5: TOLIMA | E5: 73001 | F5: IBAGUE | G5: 7300 | H5: 730002 | I5: LIMITE URBANO | J5: KR 5 | K5: CL 70 | L5: CL 60 Y LIMITE URBANO | M5: Urbano | N5: Sin Informacion de Barrios | O5: Bellavista- El Triunfo- La Pedreguera | P5: SI
A6: 200009 | B6: 1326 | C6: 20 | D6: CESAR | E6: 20001 | F6: VALLEDUPAR | G6: 2000 | H6: 200009 | I6: MUNICIPIO SAN J. DEL CESAR | J6: RIO AZUCAR BUENO | K6: M. VILLANUE.- LA J. DEL PI. Y SAN D. | L6: VIA BOSC.-VALLED.-SAN J. DEL C. | M6: Rural | N6: Sin Informacion de Barrios | O6: EL ENEAL- LOS SANJONES- SAN JERONIMO | P6: SI
A7: 191088 | B7: 1189 | C7: 19 | D7: CAUCA | E7: 19142 | F7: CALOTO | G7: 1910 | H7: 191088 | I7: MUNICIPIO PUERTO TEJADA | J7: VÍA VILLA RICA-PADILLA | K7: MUNICIPIO PADILLA | L7: MUNICIPIO VILLA RICA | M7: Rural | N7: Sin Informacion de Barrios | O7: Sin Informacion de Veredas | P7: SI
A8: 410003 | B8: 1908 | C8: 41 | D8: HUILA | E8: 41001 | F8: NEIVA | G8: 4100 | H8: 410003 | I8: LIMITE URBANO | J8: CL 23 Y KR 49 | K8: LIMITE URBANO | L8: CL 25A | M8: Urbano | N8: Alberto Yepes- Antonio Nariño- Camino Real- Campo Real- Ciudad Salitre- Ciudadela Antonio Baraya- El Oasis- El Pedregal- El Triunfo- Enrique Olaya Herrera- Granja San Bernardo- Katakandru- La Amistad- La Palma II Etapa- La Pradera- La Rioja- La Victoria- | O8: Sin Informacion de Veredas | P8: SI
A9: 500004 | B9: 2192 | C9: 50 | D9: META | E9: 50001 | F9: VILLAVICENCIO | G9: 5000 | H9: 500004 | I9: AK 40 Y KR 33 | J9: RIO OCOA Y LIM URB | K9: KR 22 | L9: KR 48 Y VIA P/LELA C. TIGRE | M9: Urbano | N9: Sin Informacion de Barrios | O9: Sin Informacion de Veredas | P9: SI
A10: 705070 | B10: 3075 | C10: 70 | D10: SUCRE | E10: 70670 | F10: SAMPUES | G10: 7050 | H10: 705070 | I10: LIMITE URBANO | J10: LIMITE URBANO | K10: LIMITE URBANO | L10: LIMITE URBANO | M10: Urbano | N10: 12 de Octubre- 7 de Agosto- 9 de Marzo- Balcones Del Río- Barranquillita- El Campano- El Carmen- Fátima- Gustavo Dajer- La Balsa- La Palma- Las Colinas- Las Flores- Las Mercedes- Millán Vargas- Pera Alonso- Sampumas- San José- San Juan de Dios- Santa Mart | O10: Sin Informacion de Veredas | P10: SI
A11: 51037 | B11: 48 | C11: 5 | D11: ANTIOQUIA | E11: 5308 | F11: GIRARDOTA | G11: 510 | H11: 51037 | I11: MUNICIPIO DON MATIAS | J11: LIMITE URBANO | K11: MUNICIPIO BARBOSA | L11: MUNICIPIO COPACABANA | M11: Rural | N11: Sin Informacion de Barrios | O11: El Socorro- El Tigre- La Mata- La Matica- Loma de los Ochoa- Mercedes abrego- Potrerito | P11: SI
A12: 661007 | B12: 2698 | C12: 66 | D12: RISARALDA | E12: 66170 | F12: DOSQUEBRADAS | G12: 6610 | H12: 661007 | I12: MPIO. MARSELLA Y SANTA RO. DE CABAL | J12: LIMITE URBANO | K12: MPIO. SANTA ROSA DE CABAL | L12: MUNICIPIO PEREIRA | M12: Rural | N12: Sin Informacion de Barrios | O12: Alto Erazo- El Nudo- El Sinai- El Tobanito- Estanquillo- La Argentina- La Cima- La Esperanza- La Esperanza- La Fría- La Palma- La Unión- Llano Grande- Minas del Socorro- Nueva Independencia- Pital de Combia- Santana | P12: SI
A13: 660004 | B13: 2689 | C13: 66 | D13: RISARALDA | E13: 66001 | F13: PEREIRA | G13: 6600 | H13: 660004 | I13: AK 30 AGO - KR 13 | J13: LIMITE URBANO | K13: CL 17 | L13: CL 51 -SANJÓN LA UNIÓN | M13: Urbano | N13: Alcazar de Maraya- Altos de Tanambi- Balcones Villa del Prado- Barajas Central- Barajas I- Barajas II- Belalcázar- Bloques Ciudad Pereira- Bosque de La Salle- Boston- Brasilia- Brisas de Las Américas- Cachipay- Caminos de Maraya- Casas Tulcán- Centenario- | O13: Naranjito | P13: SI
... A1187: 152047 | B1187: 791 | C1187: 15 | D1187: BOYACA | E1187: 15820 | F1187: TOPAGA | G1187: 1520 | H1187: 152047 | I1187: MPIO. CORRALES Y GAMEZA | J1187: MPIO. MONGUI Y MONGUA | K1187: MPIO. GAMEZA Y MONGUA | L1187: MPIO. NOBSA Y SOGAMOSO | M1187: Rural | N1187: Sin Informacion de Barrios | O1187: Sin Informacion de Veredas | P1187: NO
A1188: 57447 | B1188: 356 | C1188: 5 | D1188: ANTIOQUIA | E1188: 5842 | F1188: URAMITA | G1188: 574 | H1188: 57447 | I1188: MUNICIPIO BEBEIBA | J1188: M. C. GORDAS Y FRONTINO | K1188: M. CAÑASGORDAS Y PEQUE | L1188: 0 | M1188: Rural | N1188: Sin Informacion de Barrios | O1188: Alto del Pital- Ambalema- Arenales- Balcon- Barrancon- Botija Arriba- Buena Vista- Caliche- Caracolal- Caunce- Chachafrutal- Chontadural- Chontaduro- Cominal- Corozo- Cumbre- El Llano- El Palón- El Pital- Encalichada- Esperanza Botija- | P1188: NO
A1189: 680541 | B1189: 2748 | C1189: 68 | D1189: SANTANDER | E1189: 68820 | F1189: TONA | G1189: 6805 | H1189: 680541 | I1189: LIMITE URBANO | J1189: CL 1 | K1189: TV 1 | L1189: KR 5A | M1189: Urbano | N1189: Sin Informacion de Barrios | O1189: Sin Informacion de Veredas | P1189: NO
A1190: 547057 | B1190: 2638 | C1190: 54 | D1190: NORTE DE SANTANDER | E1190: 54206 | F1190: CONVENCION | G1190: 5470 | H1190: 547057 | I1190: MPIO. EL CARMEN Y PAÍS VENEZUELA | J1190: MUNICIPIO TEORAMA | K1190: PAÍS VENEZUELA | L1190: RÍO SAYÁN BOKY Y M. EL CARMEN | M1190: Rural | N1190: Sin Informacion de Barrios | O1190: Sin Informacion de Veredas | P1190: NO
A1191: 152080 | B1191: 794 | C1191: 15 | D1191: BOYACA | E1191: 15114 | F1191: BUSBANZA | G1191: 1520 | H1191: 152080 | I1191: KR 1 | J1191: KR 5 | K1191: CL 0 | L1191: CL 6 | M1191: Urbano | N1191: Sin Informacion de Barrios | O1191: Sin Informacion de Veredas | P1191: NO
A1192: 111971 | B1192: 536 | C1192: 11 | D1192: BOGOTA D.C. | E1192: 11001 | F1192: LOCALIDAD CIUDAD BOLIVAR | G1192: 1119 | H1192: 111971 | I1192: CL 97 S | J1192: BARRIO MUCHUELO ALTO RURAL | K1192: RIO TUNJUELITO | L1192: M. SOACHA | M1192: Rural | N1192: Brazuelos Occidental- Brazuelos Occidental Rural- Mochuelo Alto- Mochuelo Alto Rural- Quiba Alto | O1192: Cabecera Municipal- SAN JORGE | P1192: NO
A1193: 862080 | B1193: 3530 | C1193: 86 | D1193: PUTUMAYO | E1193: 86569 | F1193: PUERTO CAICEDO | G1193: 8620 | H1193: 862080 | I1193: LIMITE URBANO | J1193: LIMITE URBANO | K1193: LIMITE URBANO | L1193: LIMITE URBANO | M1193: Urbano | N1193: Sin Informacion de Barrios | O1193: Sin Informacion de Veredas | P1193: NO
A1194: 276050 | B1194: 1883 | C1194: 27 | D1194: CHOCO | E1194: 27495 | F1194: NUQUI | G1194: 2760 | H1194: 276050 | I1194: LIMITE URBANO | J1194: LIMITE URBANO | K1194: LIMITE URBANO | L1194: LIMITE URBANO | M1194: Urbano | N1194: Sin Informacion de Barrios | O1194: Sin Informacion de Veredas | P1194: NO
A1195: 528078 | B1195: 2509 | C1195: 52 | D1195: NARIÑO | E1195: 52079 | F1195: BARBACOAS | G1195: 5280 | H1195: 528078 | I1195: RÍO GUIZA | J1195: ECUADOR Y MPIO. RICAURTE | K1195: RÍO GUIZA | L1195: MPIO. SAN ANDRES DE TUMACO | M1195: Rural | N1195: Sin Informacion de Barrios | O1195: Sin Informacion de Veredas | P1195: NO
A1196: 111941 | B1196: 533 | C1196: 11 | D1196: BOGOTA D.C. | E1196: 11001 | F1196: LOCALIDAD CIUDAD BOLIVAR | G1196: 1119 | H1196: 111941 | I1196: KR 40- 42 Y 45B | J1196: KR 18Z Y 19D | K1196: AC VILLAVICENCIO | L1196: M. SOACHA | M1196: Urbano | N1196: Arborizadora Alta- Arborizadora Alta- Arborizadora Alta- Arborizadora Alta- Candelaria La Nueva- Cerro Colorado- Ciudad Bolívar- Ciudad Bolívar Rural III- El Satélite- Juan José Rondón- Las Acacias- Las Manas- Los Laureles II- Ronda- San Francisco- Villa | O1196: Sin Informacion de Veredas | P1196: NO
A1197: 233538 | B1197: 1489 | C1197: 23 | D1197: CORDOBA | E1197: 23068 | F1197: AYAPEL | G1197: 2335 | H1197: 233538 | I1197: MUNICIPIO SAN BENITO ABAD | J1197: VÍA COLORADO-LAS ESCOBILLAS | K1197: M. MAJAGUAL- GUARANDA Y SAN JA. CA. | L1197: CIENAGA ESCOBITAS Y AYAPEL | M1197: Rural | N1197: Sin Informacion de Barrios | O1197: Sin Informacion de Veredas | P1197: NO
A1198: 153227 | B1198: 865 | C1198: 15 | D1198: BOYACA | E1198: 15380 | F1198: LA CAPILLA | G1198: 1532 | H1198: 153227 | I1198: MUNICIPIO UMBITA | J1198: MUNICIPIO TENZA | K1198: MUNICIPIO TENZA | L1198: M. VILLAPINZON Y UMBITA | M1198: Rural | N1198: Sin Informacion de Barrios | O1198: Barro Blanco Abajo- Barro Blanco Arriba- Bosque- Cabecera Municipal- Camagoa- Centro- Chaguatoque- Chucio- Gaunza Arriba- GUSVITA- Hato- Palma Abajo- Palma Arriba- PARAMO- Páramo- Peñas- SAN ANTONIO- Sisa- Sisa- Soatama- Suntafita- Tam | P1198: NO
A1199: 184017 | B1199: 1111 | C1199: 18 | D1199: CAQUETA | E1199: 18756 | F1199: SOLANO | G1199: 1840 | H1199: 184017 | I1199: MPIO. CALAMAR Y MIRAFLORES | J1199: M. MIRITI-PARÁN- PTO. S/DER. Y RÍO YARÍ | K1199: MPIO. PACOA Y PTO. ALEGRIA | L1199: M. CARTA. DEL CAHIRÁ Y SAN V. DEL CA. | M1199: Rural | N1199: Sin Informacion de Barrios | O1199: Sin Informacion de Veredas | P1199: NO
A1200: 760538 | B1200: 3293 | C1200: 76 | D1200: VALLE DEL CAUCA | E1200: 76126 | F1200: CALIMA | G1200: 7605 | H1200: 760538 | I1200: M. EL LITORAL DEL SAN JUAN | J1200: M. DAGUA Y BUENAVENTURA | K1200: RÍO BRAVO Y (PERMANENTE) | L1200: MPIO. BUENAVENTURA | M1200: Rural | N1200: Sin Informacion de Barrios | O1200: Sin Informacion de Veredas | P1200: NO
... A2753: 734508 | B2753: 3202 | C2753: 73 | D2753: TOLIMA | E2753: 73585 | F2753: PURIFICACION | G2753: 7345 | H2753: 734508 | I2753: VÍA SALDAÑA-EL BAURA-SAN CAYETANO | J2753: MPIO. COYAIMA Y PRADO | K2753: VÍA PRADO-SAN CAYETANO | L2753: MUNICIPIO SALDAÑA | M2753: Rural | N2753: Sin Informacion de Barrios | O2753: Añiles- Buenavista- Cabecera Municipal- Catalan- Chenche A Sector 2- Chenche A.Sector Palmas- Chenche Tres- Chenches Asoleados- Conchal- El Salitre- El Tambo- Hilarco- La Holanda- La Mata- La Ovejera- Primavera- Purificación- Romolinos- S | P2753: NO
A2754: 521050 | B2754: 2327 | C2754: 52 | D2754: NARIÑO | E2754: 52019 | F2754: SAN JOSE DE ALBAN | G2754: 5210 | H2754: 521050 | I2754: LIMITE URBANO | J2754: LIMITE URBANO | K2754: LIMITE URBNO | M2754: Urbano | N2754: Sin Informacion de Barrios | O2754: Buenavista- Cabecera Municipal- El Carmelo- Fátima- San Luis | P2754: NO
A2755: 131010 | B2755: 576 | C2755: 13 | D2755: BOLIVAR | E2755: 13838 | F2755: TURBANA | G2755: 1310 | H2755: 131010 | I2755: CL 27 | J2755: CL 1 | K2755: KR 1 | L2755: KR 22 | M2755: Urbano | N2755: Sin Informacion de Barrios | O2755: Sin Informacion de Veredas | P2755: NO
A2756: 111411 | B2756: 520 | C2756: 11 | D2756: BOGOTA D.C. | E2756: 11001 | F2756: LOCALIDAD LOS MARTIRES | G2756: 1114 | H2756: 111411 | I2756: AC 26 | J2756: AC 1 | K2756: AK CARACAS - AK 14 | L2756: AK 30 | M2756: Urbano | N2756: Colseguros- Eduardo Santos- El Listón- El Progreso- El Vergel- Florida- La Estanzuela- La Favorita- La Pepita- La Sabana- Paloquemao- Ricaurte- Samper Mendoza- San Victorino- Santa Fé- Santa Isabel- Santa Isabel Sur- Usatama- Veraguas- Voto Nacional | O2756: Sin Informacion de Veredas | P2756: NO
A2757: 477040 | B2757: 2170 | C2757: 47 | D2757: MAGDALENA | E2757: 47675 | F2757: SALAMINA | G2757: 4770 | H2757: 477040 | I2757: CL 22 | J2757: LIMITE URBANO | K2757: KR 24 | L2757: KR 0 | M2757: Urbano | N2757: Sin Informacion de Barrios | O2757: Sin Informacion de Veredas | P2757: NO
A2758: 52450 | B2758: 124 | C2758: 5 | D2758: ANTIOQUIA | E2758: 5120 | F2758: CACERES | G2758: 524 | H2758: 52450 | I2758: CL 51 | J2758: LIMITE URBANO | K2758: LIMITE URBANO | L2758: LIMITE URBANO | M2758: Urbano | N2758: Sin Informacion de Barrios | O2758: Sin Informacion de Veredas | P2758: NO
A2759: 204007 | B2759: 1367 | C2759: 20 | D2759: CESAR | E2759: 20517 | F2759: PAILITAS | G2759: 2040 | H2759: 204007 | I2759: MUNICIPIO CHIMICHAGUA | J2759: MUNICIPIO PELAYA | K2759: MUNICIPIO EL CARMEN | L2759: MUNICIPIO TAMALAMEQUE | M2759: Rural | N2759: Sin Informacion de Barrios | O2759: Sin Informacion de Veredas | P2759: NO
A2760: 111111 | B2760: 506 | C2760: 11 | D2760: BOGOTA D.C. | E2760: 11001 | F2760: LOCALIDAD SUBA | G2760: 1111 | H2760: 111111 | I2760: CL 138 | J2760: AC 100 | K2760: AU NORTE | L2760: AK SUBA | M2760: Urbano | N2760: Batán- Canódromo- Ciudad Jardín Norte- Estoril- Iberia- Las Villas- Mónaco- Pasadena- Prado Veraniego- Prado Veraniego Norte- Prado Veraniego Sur- Puente Largo- San José del Prado | O2760: Sin Informacion de Veredas | P2760: NO
A2761: 250228 | B2761: 1549 | C2761: 25 | D2761: CUNDINAMARCA | E2761: 25769 | F2761: SUBACHOQUE | G2761: 2502 | H2761: 250228 | I2761: VIA ZIPAQUIRA - LA PRADERA | J2761: MPIO. MADRID Y EL ROSAL | K2761: MUNICIPIO TABIO Y TENJO | L2761: VIA EL ROSAL - LA PRADERA | M2761: Rural | N2761: Sin Informacion de Barrios | O2761: SANTA ROSA | P2761: NO
A2762: 154007 | B2762: 917 | C2762: 15 | D2762: BOYACA | E2762: 15407 | F2762: VILLA DE LEYVA | G2762: 1540 | H2762: 154007 | I2762: MPIO. GACHANTIVA Y ARCABUCO | J2762: MUNICIPIO SACHICA | K2762: MUNICIPIO CHIQUIZA | L2762: M. STA. SOFIA Y SUTAMARCHÁN | M2762: Rural | N2762: Sin Informacion de Barrios | O2762: Centro- Espinal- Gachantiva Viejo- Guitoque- Hornillas- Las Vegas- Monte Suárez- Quemados- Ritoque- Rupavita- Saavedra de Morales- Saavedra de Roncancio | P2762: NO
A2763: 174030 | B2763: 1037 | C2763: 17 | D2763: CALDAS | E2763: 17867 | F2763: VICTORIA | G2763: 1740 | H2763: 174030 | I2763: LIMITE URBANO | J2763: LIMITE URBANO | K2763: LIMITE URBANO | L2763: LIMITE URBANO | M2763: Urbano | N2763: Sin Informacion de Barrios | O2763: Canaan- El Aguacate | P2763: NO
A2764: 231527 | B2764: 1436 | C2764: 23 | D2764: CORDOBA | E2764: 23672 | F2764: SAN ANTERO | G2764: 2315 | H2764: 231527 | I2764: MAR CARIBE | J2764: MUNICIPIO LORICA | K2764: VÍA LORICA-CAÑO LOBO | L2764: M. SAN BER. DEL VIENTO Y LORICA | M2764: Rural | N2764: Sin Informacion de Barrios | O2764: Cabecera Municipal- Las Nubes- Nuevo Agrado- Santa Cruz- Tijereta | P2764: NO
A2765: 760050 | B2765: 3279 | C2765: 76 | D2765: VALLE DEL CAUCA | E2765: 76001 | F2765: CALI | G2765: 7600 | H2765: 760050 | I2765: M. YUMBO | J2765: AC 4 N | K2765: RIO CALI | L2765: AC 4 | M2765: Urbano | N2765: Brisas de Los Álamos- Ciudad Los Álamos- Prados del Norte- Urbanización La Flora- Urbanización La Merced- Vipasa | O2765: Sin Informacion de Veredas | P2765: NO
A2766: 507057 | B2766: 2285 | C2766: 50 | D2766: META | E2766: 50318 | F2766: GUAMAL | G2766: 5070 | H2766: 507057 | I2766: MUNICIPIO ACACÍAS | J2766: MPIO. CUBARRAL Y SAN MARTÍN | K2766: MPIO. CASTILLA LA NUEVA | L2766: RÍO GRANDE | M2766: Rural | N2766: Sin Informacion de Barrios | O2766: Alto Acacitas- El Recreo- La Paz- San Cristóbal | P2766: NO
... A3208: 441049 | B3208: 2051 | C3208: 44 | D3208: LA GUAJIRA | E3208: 44847 | F3208: URIBIA | G3208: 4410 | H3208: 441049 | I3208: VÍA NAZARETH-BUENAVISTA | J3208: VÍA SIAPANA-TAGUAIRA | K3208: VÍA SIAPANA-NAZARETH | L3208: AY. ITAÑA Y KAUROKIMANA | M3208: Rural | N3208: Sin Informacion de Barrios | O3208: Sin Informacion de Veredas | P3208: NO
A3209: 57850 | B3209: 375 | C3209: 5 | D3209: ANTIOQUIA | E3209: 5147 | F3209: CAREPA | G3209: 578 | H3209: 57850 | I3209: RIO CAREPA Y LIMITE URBANO | M3209: Urbano | N3209: Sin Informacion de Barrios | O3209: Sin Informacion de Veredas | P3209: NO
A3210: 234530 | B3210: 1506 | C3210: 23 | D3210: CORDOBA | E3210: 23855 | F3210: VALENCIA | G3210: 2345 | H3210: 234530 | I3210: LIMITE URBANO | J3210: LIMITE URBANO | K3210: LIMITE URBANO | L3210: LIMITE URBANO | M3210: Urbano | N3210: 6 de Enero- Alfonso Lopez- El Centro- El Paraíso- El Rosario- Iván Rosales- Jaraguay- La Cruz- Nazareth- Ospina Pérez- Puerto Rico- San José- San Marcos- San Nicolás- Villa Serafina | O3210: Sin Informacion de Veredas | P3210: NO
A3211: 133027 | B3211: 633 | C3211: 13 | D3211: BOLIVAR | E3211: 13440 | F3211: MARGARITA | G3211: 1330 | H3211: 133027 | I3211: MUNICIPIO GUAMAL | J3211: RÍO PERMANENTE | K3211: M. GUAMAL Y EL BANCO | L3211: MPIO. SAN FERNANDO | M3211: Rural | N3211: Sin Informacion de Barrios | O3211: Pampan | P3211: NO
A3212: 132550 | B3212: 624 | C3212: 13 | D3212: BOLIVAR | E3212: 13188 | F3212: CICUCO | G3212: 1325 | H3212: 132550 | I3212: CL 1 | J3212: LIMITE URBANO | K3212: KR 9 | L3212: KR 19 | M3212: Urbano | N3212: Sin Informacion de Barrios | O3212: Sin Informacion de Veredas | P3212: NO
A3213: 522507 | B3213: 2361 | C3213: 52 | D3213: NARIÑO | E3213: 52411 | F3213: LINARES | G3213: 5225 | H3213: 522507 | I3213: MUNICIPIO LOS ANDES | J3213: RÍO (PERMANEN.) Y RELIEVE M. | K3213: EL TAMBO Y EL PEÑOL | L3213: M. SAMANI.- LA LLANADA Y LOS ANDES | M3213: Rural | N3213: Sin Informacion de Barrios | O3213: Alto Aranda- Cabecera Municipal- Encillada- Hugueronal- La Cocha- Laguna del Pueblo- Laguna Guaitara- Machado- Monte Claro- San Jose de Poroto- Tabiles- Tambillo de Acosta- Tambillos de Bravos- Vendeahuja | P3213: NO
A3214: 703057 | B3214: 3052 | C3214: 70 | D3214: SUCRE | E3214: 70429 | F3214: MAJAGUAL | G3214: 7030 | H3214: 703057 | I3214: MUNICIPIO SUCRE | J3214: MUNICIPIO GUARANDÁ | K3214: MUNICIPIO ACHI | L3214: RÍO (PERMANENTE) | M3214: Rural | N3214: Sin Informacion de Barrios | O3214: Sin Informacion de Veredas | P3214: NO
A3215: 132007 | B3215: 600 | C3215: 13 | D3215: BOLIVAR | E3215: 13248 | F3215: EL GUAMO | G3215: 1320 | H3215: 132007 | I3215: MPIO. PEDRAZA Y CALAMAR | J3215: M. SAN JUAN NEPOMUCENO | K3215: MPIO. ZAPAYAN Y TENERIFE | L3215: M. SAN JUAN NEPOMUCENO | M3215: Rural | N3215: Sin Informacion de Barrios | O3215: Sin Informacion de Veredas | P3215: NO
A3216: 132517 | B3216: 617 | C3216: 13 | D3216: BOLIVAR | E3216: 13430 | F3216: MAGANGUE | G3216: 1325 | H3216: 132517 | I3216: M. SANTA BARBARA DE PINTO | J3216: LIMITE URBANO | K3216: M. TALAIGUA N. Y CICUCO | L3216: VIA MAGANGUE-TACAMOCHA | M3216: Rural | N3216: Sin Informacion de Barrios | O3216: Sin Informacion de Veredas | P3216: NO
A3217: 880020 | B3217: 3542 | C3217: 88 | D3217: ARCHIPIELAGO DE SAN ANDRES | E3217: 88564 | F3217: PROVIDENCIA | G3217: 8800 | H3217: 880020 | I3217: LIMITE URBANO | J3217: LIMITE URBANO | K3217: LIMITE URBANO | L3217: LIMITE URBANO | M3217: Urbano | N3217: Sin Informacion de Barrios | O3217: Sin Informacion de Veredas | P3217: NO
A3218: 761027 | B3218: 3303 | C3218: 76 | D3218: VALLE DEL CAUCA | E3218: 76828 | F3218: TRUJILLO | G3218: 7610 | H3218: 761027 | I3218: MUNICIPIO BOLÍVAR | J3218: MUNICIPIO RIOFRÍO | K3218: VÍA RIOFRÍO - NARANJAL | L3218: M. EL LITORAL DEL SAN JUAN | M3218: Rural | N3218: Sin Informacion de Barrios | O3218: Sin Informacion de Veredas | P3218: NO
A3219: 56068 | B3219: 292 | C3219: 5 | D3219: ANTIOQUIA | E3219: 5034 | F3219: ANDES | G3219: 560 | H3219: 56068 | I3219: RÍO CAUDALOSO | J3219: MUNICIPIO MISTRADO | K3219: MUNICIPIO JARDIN | L3219: MUNICIPIO MISTRADO | M3219: Rural | N3219: Sin Informacion de Barrios | O3219: Sin Informacion de Veredas | P3219: NO
A3220: 507027 | B3220: 2277 | C3220: 50 | D3220: META | E3220: 50689 | F3220: SAN MARTIN | G3220: 5070 | H3220: 507027 | I3220: M. CASTILLA LA NVA. Y SAN C. DE GUAROA | J3220: CAÑO CAMOA | K3220: CAÑO CAMOA | L3220: MUNICIPIO CUBARRAL | M3220: Rural | N3220: Sin Informacion de Barrios | O3220: Arenales- Bajo Camoa- El Toro- El Turuy- Gualas- Humadea- La Libertad- La Pascualera- Merey- San Antonio- Santa Helena | P3220: NO
A3221: 687031 | B3221: 2985 | C3221: 68 | D3221: SANTANDER | E3221: 68081 | F3221: BARRANCABERMEJA | G3221: 6870 | H3221: 687031 | I3221: LIMITE URBANO | J3221: CL 52 | K3221: KR 34 | L3221: RIO MAGDALENA | M3221: Urbano | N3221: 20 de Enero- Ciudad Bolívar- Coviba- El Parnaso- El Rosario- Galán Gómez- La Floresta- La Libertad- Las Camelias- Olaya Herrera- Pueblo Nuevo- Santa Isabel- Torcoroma- Villa Olímpica | O3221: Sin Informacion de Veredas | P3221: NO
... A3682: 413048 | B3682: 1952 | C3682: 41 | D3682: HUILA | E3682: 41020 | F3682: ALGECIRAS | G3682: 4130 | H3682: 413048 | I3682: MUNICIPIO CAMPOALEGRE | J3682: MPIO. EL PAUJIL Y EL DONCELLO | K3682: VÍA CAMPO.-EL PARA.-LA UNI. Y M. P. RICO | L3682: MPIO. GIGANTE Y HOBO | M3682: Rural | N3682: Sin Informacion de Barrios | O3682: AGUA FRIA- ALTO CIELO- ALTO ROBLE- ALTOS DE RIO NEIVA- ANDES ALTOS- ANDES BAJOS- BAJO ROBLE- BATAN- BELLA VISTA- BUENA VISTA- Buenavista- BUENOS AIRES- Chía- EL BOSQUE- El Guayabo- EL PORVENIR- EL PORVENIR- EL PUENTE- El Roble- EL TORO- | P3682: NO

Sheet Лист2
C1: ОКТРУГ | D1: КОД ОКРУГА | E1: ГОРОД/ПОСЕЛЕНИЕ | G1: ИНДЕКС | O1: Servientrega covering | P1: Coordinadora covering
A2: noid | B2: codigo_departamento | C2: nombre_departamento | D2: codigo_municipio | E2: nombre_municipio | F2: zona_postal | G2: codigo_postal | H2: limite_norte | I2: limite_sur | J2: limite_este | K2: limite_oeste | L2: tipo | M2: barrios_contenidos_en_el_codigo_postal | N2: veredas_contenidas_en_el_codigo_postal
A3: 3003 | B3: 68 | C3: SANTANDER | D3: 68615 | E3: RIONEGRO | F3: 6875 | G3: 687519 | H3: M. LA ESPE.- CACHI. Y RÍO CÁCHI. | I3: M. LEBRIJA Y RÍO CÁCHI. DEL SUR | J3: MUNICIPIO EL PLAYÓN | K3: MUNICIPIO SABANA DE TORRES | L3: Rural | M3: Sin Informacion de Barrios | N3: Caribe- Irlanda- Puerto Limón- Villa Eva- Bocas | O3: COD | P3: NO
A4: 3089 | B4: 70 | C4: SUCRE | D4: 70204 | E4: COLOSO | F4: 7070 | G4: 707030 | H4: KR 2 | I4: LIMITE URBANO | J4: CL 1 | K4: LIMITE URBANO | L4: Urbano | M4: 6 de Enero- Calle Nueva- Villa María | N4: Sin Informacion de Veredas | O4: NO COD | P4: NO
A5: 183 | B5: 5 | C5: ANTIOQUIA | D5: 5674 | E5: SAN VICENTE | F5: 540 | G5: 54018 | H5: VIA SAN VICENTE - CONCEPCION | I5: M. MARINILLA Y RÍO NEGRO | J5: MUNICIPIO PEÑOL | K5: MUNICIPIO GUARNE | L5: Rural | M5: Sin Informacion de Barrios | N5: Compañia Abajo- El Canelo- El Carmelo- La Cabaña- La Peña- Piedra Gorda- Salto Arriba | O5: NO COD | P5: NO
A6: 2089 | B6: 44 | C6: LA GUAJIRA | D6: 44090 | E6: DIBULLA | F6: 4460 | G6: 446007 | H6: MAR CARIBE | I6: VÍA RIOHACHA-SANTA MARTA | J6: MUNICIPIO RIOHACHA | K6: VÍA CASA DE ALUMINIO-MAR CARIBE | L6: Rural | M6: Sin Informacion de Barrios | N6: Sin Informacion de Veredas | O6: COD | P6: NO
A7: 877 | B7: 15 | C7: BOYACA | D7: 15621 | E7: RONDON | F7: 1534 | G7: 153420 | H7: LIMITE URBANO | I7: LIMITE URBANO | J7: LIMITE URBANO | K7: LIMITE URBANO | L7: Urbano | M7: Sin Informacion de Barrios | N7: Sin Informacion de Veredas | O7: NO COD | P7: NO
A8: 2129 | B8: 47 | C8: MAGDALENA | D8: 47545 | E8: PIJIÑO DEL CARMEN | F8: 4740 | G8: 474048 | H8: MUNICIPIO SANTA ANA | I8: M. ASTREA Y SAN SEBAS. DE BUENAVIS. | J8: MUNICIPIO EL PASO | K8: RÍO (PERMANENTE) | L8: Rural | M8: Sin Informacion de Barrios | N8: Casa Blanca- San Jose de Prevension | O8: NO COD | P8: NO
A9: 1765 | B9: 25 | C9: CUNDINAMARCA | D9: 25592 | E9: QUEBRADANEGRA | F9: 2534 | G9: 253427 | H9: MUNICIPIO UTICA | I9: MUNICIPIO VILLETA | J9: MUNICIPIO NIMAIMA | K9: MUNICIPIO GUADUAS | L9: Rural | M9: Sin Informacion de Barrios | N9: Cune- GALETA- HATO- LA ESPERANZA- LA FLORIDA- LA UNION- NACEDEROS- Salitre Blanco- Salitre Negro | O9: NO COD | P9: NO
A10: 228 | B10: 5 | C10: ANTIOQUIA | D10: 5002 | E10: ABEJORRAL | F10: 550 | G10: 55030 | H10: LIMITE URBANO | I10: LIMITE URBANO | J10: LIMITE URBANO | K10: LIMITE URBANO | L10: Urbano | M10: Sin Informacion de Barrios | N10: Alto de Letras | O10: NO COD | P10: NO
A11: 745 | B11: 15 | C11: BOYACA | D11: 15753 | E11: SOATA | F11: 1510 | G11: 151007 | H11: MPIO. TIPACOQUE | I11: MUNICIPIO SUSACÓN | J11: MUNICIPIO BOAVITA | K11: MUNICIPIO ONZAGA | L11: Rural | M11: Sin Informacion de Barrios | N11: Cabecera Municipal- Cañabravo- Centro- Centro- El Espinal- El Espinal- La Chorrera- Llano Grande- LLanoGrande | O11: COD | P11: NO
A12: 2248 | B12: 50 | C12: META | D12: 50711 | E12: VISTAHERMOSA | F12: 5040 | G12: 504068 | H12: RÍO GUEJAR- CAÑO TUBO Y CACHAMA | I12: MPIO. SAN J. DEL GAVIARE | J12: MUNICIPIO PUERTO RICO | K12: MUNICIPIO LA MACARENA | L12: Rural | M12: Sin Informacion de Barrios | N12: Angoleta- Argentina- Bajo Vergel- Brisas del Guejar- Cachicamo- Charcon- Puerto Nuevo | O12: COD | P12: NO
A13: 3190 | B13: 73 | C13: TOLIMA | D13: 73449 | E13: MELGAR | F13: 7340 | G13: 734007 | H13: MUNICIPIO NILO | I13: MUNICIPIO CUNDAY | J13: MUNICIPIO ICONONZO | K13: MPIO. CARMEN DE APICALÁ | L13: Rural | M13: Sin Informacion de Barrios | N13: Buenavista- Calcuta- Cualamaná- El Águila- El Águila Baja- El Floral- Inalí- La Primavera | O13: COD | P13: SI
A14: 68 | B14: 5 | C14: ANTIOQUIA | D14: 5264 | E14: ENTRERRIOS | F14: 514 | G14: 51437 | H14: MUNICIPIO BELMIRA | I14: M. SAN PEDRO DE LOS MI. | J14: M. STA ROSA DE OSOS | K14: MUNICIPIO BELMIRA | L14: Rural | M14: Sin Informacion de Barrios | N14: Cabecera Municipal- Cucurucho- El Botón- El Peñol- El Progreso- Embalse Río Grande- La Muñoz- La Planta- Las Brisas- Los Salados- Orobajo Río Grande- Pío XII- Quebrada del Medio- Río Chico- Río Grande- Riochico- Tesorero- Verbenal | O14: NO COD | P14: NO
... A801: 791 | B801: 15 | C801: BOYACA | D801: 15820 | E801: TOPAGA | F801: 1520 | G801: 152047 | H801: MPIO. CORRALES Y GAMEZA | I801: MPIO. MONGUI Y MONGUA | J801: MPIO. GAMEZA Y MONGUA | K801: MPIO. NOBSA Y SOGAMOSO | L801: Rural | M801: Sin Informacion de Barrios | N801: Sin Informacion de Veredas | O801: COD | P801: NO
A802: 356 | B802: 5 | C802: ANTIOQUIA | D802: 5842 | E802: URAMITA | F802: 574 | G802: 57447 | H802: MUNICIPIO BEBEIBA | I802: M. C. GORDAS Y FRONTINO | J802: M. CAÑASGORDAS Y PEQUE | K802: 0 | L802: Rural | M802: Sin Informacion de Barrios | N802: Alto del Pital- Ambalema- Arenales- Balcon- Barrancon- Botija Arriba- Buena Vista- Caliche- Caracolal- Caunce- Chachafrutal- Chontadural- Chontaduro- Cominal- Corozo- Cumbre- El Llano- El Palón- El Pital- Encalichada- Esperanza Botija- | O802: NO COD | P802: NO
A803: 2734 | B803: 68 | C803: SANTANDER | D803: 68001 | E803: BUCARAMANGA | F803: 6800 | G803: 680002 | H803: LIMITE URBANO | I803: CL 45 | J803: LIMITE URBANO | K803: KR 24 | L803: Urbano | M803: Albania- Antonia Santos- Aurora- Buenos Aires- Cuartel- El Prado- Galán- Las Américas- Los Pinos- Mejoras Públicas- Miraflores- Morrorico- Planta La Flora- Quinta Brigada- San Alonso- U.I.S- Universidad- Vegas de Morrorico | N803: Gualilo Alto- La Malaña- Pedregal- San José | O803: COD | P803: SI
A804: 2748 | B804: 68 | C804: SANTANDER | D804: 68820 | E804: TONA | F804: 6805 | G804: 680541 | H804: LIMITE URBANO | I804: CL 1 | J804: TV 1 | K804: KR 5A | L804: Urbano | M804: Sin Informacion de Barrios | N804: Sin Informacion de Veredas | O804: NO COD | P804: NO
A805: 13 | B805: 5 | C805: ANTIOQUIA | D805: 5001 | E805: MEDELLIN | F805: 500 | G805: 50015 | H805: CL 49 | I805: CL 29 | J805: KR 46 Y 43A | K805: KR 61- 63 Y 49 | L805: Urbano | M805: Calle Nueva- Centro Administrativo- Corazón de Jesús- Guayaquil- La Alpujarra- Perpetuo Socorro | N805: Sin Informacion de Veredas | O805: NO COD | P805: SI
A806: 3069 | B806: 70 | C806: SUCRE | D806: 70215 | E806: COROZAL | F806: 7050 | G806: 705037 | H806: MPIO. MORROA Y LOS PALMITOS | I806: AY. PULETAD Y VÍA LAS PALMAS-EL MAMÓN | J806: MPIO. SAN JUAN DE BETULIA | K806: MUNICIPIO SINCELEJO | L806: Rural | M806: Brucelas- Luis Carlos Galán- Marruecos | N806: El Mamon- Rincon de Las Flores | O806: COD | P806: SI
A807: 2638 | B807: 54 | C807: NORTE DE SANTANDER | D807: 54206 | E807: CONVENCION | F807: 5470 | G807: 547057 | H807: MPIO. EL CARMEN Y PAÍS VENEZUELA | I807: MUNICIPIO TEORAMA | J807: PAÍS VENEZUELA | K807: RÍO SAYÁN BOKY Y M. EL CARMEN | L807: Rural | M807: Sin Informacion de Barrios | N807: Sin Informacion de Veredas | O807: COD | P807: NO
A808: 3037 | B808: 70 | C808: SUCRE | D808: 70717 | E808: SAN PEDRO | F808: 7020 | G808: 702018 | H808: MPIO. OVEJAS Y LOS PALMITOS | I808: MPIO. SAN LUIS DE SINCE | J808: RÍO (PERMANENTE) | K808: MPIO. SAN LUIS DE SINCE | L808: Rural | M808: Sin Informacion de Barrios | N808: Calabozo- El Bajo de La Alegría- El Delirio- La Distancia- Los Chijetes- Los Galapagos- Monte Bazan- Oro Blanco- Paja Vieja- Paja Vieja- Perendengue- Perendengue- Rosario 1 y 2- Róvira- San Francisco- Santa Inés | O808: COD | P808: SI
A809: 794 | B809: 15 | C809: BOYACA | D809: 15114 | E809: BUSBANZA | F809: 1520 | G809: 152080 | H809: KR 1 | I809: KR 5 | J809: CL 0 | K809: CL 6 | L809: Urbano | M809: Sin Informacion de Barrios | N809: Sin Informacion de Veredas | O809: NO COD | P809: NO
A810: 536 | B810: 11 | C810: BOGOTA D.C. | D810: 11001 | E810: LOCALIDAD CIUDAD BOLIVAR | F810: 1119 | G810: 111971 | H810: CL 97 S | I810: BARRIO MUCHUELO ALTO RURAL | J810: RIO TUNJUELITO | K810: M. SOACHA | L810: Rural | M810: Brazuelos Occidental- Brazuelos Occidental Rural- Mochuelo Alto- Mochuelo Alto Rural- Quiba Alto | N810: Cabecera Municipal- SAN JORGE | O810: NO COD | P810: NO
A811: 3530 | B811: 86 | C811: PUTUMAYO | D811: 86569 | E811: PUERTO CAICEDO | F811: 8620 | G811: 862080 | H811: LIMITE URBANO | I811: LIMITE URBANO | J811: LIMITE URBANO | K811: LIMITE URBANO | L811: Urbano | M811: Sin Informacion de Barrios | N811: Sin Informacion de Veredas | O811: NO COD | P811: NO
A812: 1883 | B812: 27 | C812: CHOCO | D812: 27495 | E812: NUQUI | F812: 2760 | G812: 276050 | H812: LIMITE URBANO | I812: LIMITE URBANO | J812: LIMITE URBANO | K812: LIMITE URBANO | L812: Urbano | M812: Sin Informacion de Barrios | N812: Sin Informacion de Veredas | O812: NO COD | P812: NO
A813: 2509 | B813: 52 | C813: NARIÑO | D813: 52079 | E813: BARBACOAS | F813: 5280 | G813: 528078 | H813: RÍO GUIZA | I813: ECUADOR Y MPIO. RICAURTE | J813: RÍO GUIZA | K813: MPIO. SAN ANDRES DE TUMACO | L813: Rural | M813: Sin Informacion de Barrios | N813: Sin Informacion de Veredas | O813: NO COD | P813: NO
A814: 533 | B814: 11 | C814: BOGOTA D.C. | D814: 11001 | E814: LOCALIDAD CIUDAD BOLIVAR | F814: 1119 | G814: 111941 | H814: KR 40- 42 Y 45B | I814: KR 18Z Y 19D | J814: AC VILLAVICENCIO | K814: M. SOACHA | L814: Urbano | M814: Arborizadora Alta- Arborizadora Alta- Arborizadora Alta- Arborizadora Alta- Candelaria La Nueva- Cerro Colorado- Ciudad Bolívar- Ciudad Bolívar Rural III- El Satélite- Juan José Rondón- Las Acacias- Las Manas- Los Laureles II- Ronda- San Francisco- Villa | N814: Sin Informacion de Veredas | O814: NO COD | P814: NO
... A2613: 3202 | B2613: 73 | C2613: TOLIMA | D2613: 73585 | E2613: PURIFICACION | F2613: 7345 | G2613: 734508 | H2613: VÍA SALDAÑA-EL BAURA-SAN CAYETANO | I2613: MPIO. COYAIMA Y PRADO | J2613: VÍA PRADO-SAN CAYETANO | K2613: MUNICIPIO SALDAÑA | L2613: Rural | M2613: Sin Informacion de Barrios | N2613: Añiles- Buenavista- Cabecera Municipal- Catalan- Chenche A Sector 2- Chenche A.Sector Palmas- Chenche Tres- Chenches Asoleados- Conchal- El Salitre- El Tambo- Hilarco- La Holanda- La Mata- La Ovejera- Primavera- Purificación- Romolinos- S | O2613: COD | P2613: NO
A2614: 2327 | B2614: 52 | C2614: NARIÑO | D2614: 52019 | E2614: SAN JOSE DE ALBAN | F2614: 5210 | G2614: 521050 | H2614: LIMITE URBANO | I2614: LIMITE URBANO | J2614: LIMITE URBNO | L2614: Urbano | M2614: Sin Informacion de Barrios | N2614: Buenavista- Cabecera Municipal- El Carmelo- Fátima- San Luis | O2614: NO COD | P2614: NO
A2615: 576 | B2615: 13 | C2615: BOLIVAR | D2615: 13838 | E2615: TURBANA | F2615: 1310 | G2615: 131010 | H2615: CL 27 | I2615: CL 1 | J2615: KR 1 | K2615: KR 22 | L2615: Urbano | M2615: Sin Informacion de Barrios | N2615: Sin Informacion de Veredas | O2615: NO COD | P2615: NO
A2616: 520 | B2616: 11 | C2616: BOGOTA D.C. | D2616: 11001 | E2616: LOCALIDAD LOS MARTIRES | F2616: 1114 | G2616: 111411 | H2616: AC 26 | I2616: AC 1 | J2616: AK CARACAS - AK 14 | K2616: AK 30 | L2616: Urbano | M2616: Colseguros- Eduardo Santos- El Listón- El Progreso- El Vergel- Florida- La Estanzuela- La Favorita- La Pepita- La Sabana- Paloquemao- Ricaurte- Samper Mendoza- San Victorino- Santa Fé- Santa Isabel- Santa Isabel Sur- Usatama- Veraguas- Voto Nacional | N2616: Sin Informacion de Veredas | O2616: NO COD | P2616: NO
A2617: 2170 | B2617: 47 | C2617: MAGDALENA | D2617: 47675 | E2617: SALAMINA | F2617: 4770 | G2617: 477040 | H2617: CL 22 | I2617: LIMITE URBANO | J2617: KR 24 | K2617: KR 0 | L2617: Urbano | M2617: Sin Informacion de Barrios | N2617: Sin Informacion de Veredas | O2617: NO COD | P2617: NO
A2618: 546 | B2618: 13 | C2618: BOLIVAR | D2618: 13001 | E2618: CARTAGENA | F2618: 1300 | G2618: 130005 | H2618: MAR CARIBE | I2618: DG 31 Y TV 53 | J2618: CL 33 | K2618: KR 0 Y 60B | L2618: Urbano | M2618: Chapacua- Chipre- El Gallo- La Castellana- La Floresta- Las Gaviotas- Las Palmeras- Los Alpes- Nuevo Porvenir- Olaya Sr Central- Olaya Sr La Magdalena- Olaya Sr La Puntilla- Olaya Sr Playa Blanca- Olaya Sr Progreso- Olaya Sr Stella- Olaya Sr Zarabanda- Re | N2618: Sin Informacion de Veredas | O2618: COD | P2618: SI
A2619: 809 | B2619: 15 | C2619: BOYACA | D2619: 15806 | E2619: TIBASOSA | F2619: 1522 | G2619: 152260 | H2619: CL 7 | I2619: DG 3 | J2619: KR 4 E | K2619: KR 12 | L2619: Urbano | M2619: Sin Informacion de Barrios | N2619: Sin Informacion de Veredas | O2619: COD | P2619: SI
A2620: 124 | B2620: 5 | C2620: ANTIOQUIA | D2620: 5120 | E2620: CACERES | F2620: 524 | G2620: 52450 | H2620: CL 51 | I2620: LIMITE URBANO | J2620: LIMITE URBANO | K2620: LIMITE URBANO | L2620: Urbano | M2620: Sin Informacion de Barrios | N2620: Sin Informacion de Veredas | O2620: NO COD | P2620: NO
A2621: 1367 | B2621: 20 | C2621: CESAR | D2621: 20517 | E2621: PAILITAS | F2621: 2040 | G2621: 204007 | H2621: MUNICIPIO CHIMICHAGUA | I2621: MUNICIPIO PELAYA | J2621: MUNICIPIO EL CARMEN | K2621: MUNICIPIO TAMALAMEQUE | L2621: Rural | M2621: Sin Informacion de Barrios | N2621: Sin Informacion de Veredas | O2621: COD | P2621: NO
A2622: 506 | B2622: 11 | C2622: BOGOTA D.C. | D2622: 11001 | E2622: LOCALIDAD SUBA | F2622: 1111 | G2622: 111111 | H2622: CL 138 | I2622: AC 100 | J2622: AU NORTE | K2622: AK SUBA | L2622: Urbano | M2622: Batán- Canódromo- Ciudad Jardín Norte- Estoril- Iberia- Las Villas- Mónaco- Pasadena- Prado Veraniego- Prado Veraniego Norte- Prado Veraniego Sur- Puente Largo- San José del Prado | N2622: Sin Informacion de Veredas | O2622: NO COD | P2622: NO
A2623: 1465 | B2623: 23 | C2623: CORDOBA | D2623: 23189 | E2623: CIENAGA DE ORO | F2623: 2325 | G2623: 232538 | H2623: CAÑO SOLEDAD Y RÍO (PERMANENTE) | I2623: RÍO (PERMANENTE) | J2623: ARROYO TORRENTES Y RÍO (PERMANENTE) | K2623: MUNICIPIO SAN CARLOS | L2623: Rural | M2623: Sin Informacion de Barrios | N2623: Sin Informacion de Veredas | O2623: COD | P2623: SI
A2624: 1549 | B2624: 25 | C2624: CUNDINAMARCA | D2624: 25769 | E2624: SUBACHOQUE | F2624: 2502 | G2624: 250228 | H2624: VIA ZIPAQUIRA - LA PRADERA | I2624: MPIO. MADRID Y EL ROSAL | J2624: MUNICIPIO TABIO Y TENJO | K2624: VIA EL ROSAL - LA PRADERA | L2624: Rural | M2624: Sin Informacion de Barrios | N2624: SANTA ROSA | O2624: COD | P2624: NO
A2625: 953 | B2625: 15 | C2625: BOYACA | D2625: 15176 | E2625: CHIQUINQUIRA | F2625: 1546 | G2625: 154648 | H2625: M. BRICEÑO Y SABOYA | I2625: VÍA CALDAS - CHIQUINQUIRA - SABOYA | J2625: MUNICIPIO SABOYA | K2625: M. BRICEÑO Y CALDAS | L2625: Rural | M2625: Sin Informacion de Barrios | N2625: Sin Informacion de Veredas | O2625: COD | P2625: SI
A2626: 917 | B2626: 15 | C2626: BOYACA | D2626: 15407 | E2626: VILLA DE LEYVA | F2626: 1540 | G2626: 154007 | H2626: MPIO. GACHANTIVA Y ARCABUCO | I2626: MUNICIPIO SACHICA | J2626: MUNICIPIO CHIQUIZA | K2626: M. STA. SOFIA Y SUTAMARCHÁN | L2626: Rural | M2626: Sin Informacion de Barrios | N2626: Centro- Espinal- Gachantiva Viejo- Guitoque- Hornillas- Las Vegas- Monte Suárez- Quemados- Ritoque- Rupavita- Saavedra de Morales- Saavedra de Roncancio | O2626: COD | P2626: NO
... A3131: 2051 | B3131: 44 | C3131: LA GUAJIRA | D3131: 44847 | E3131: URIBIA | F3131: 4410 | G3131: 441049 | H3131: VÍA NAZARETH-BUENAVISTA | I3131: VÍA SIAPANA-TAGUAIRA | J3131: VÍA SIAPANA-NAZARETH | K3131: AY. ITAÑA Y KAUROKIMANA | L3131: Rural | M3131: Sin Informacion de Barrios | N3131: Sin Informacion de Veredas | O3131: COD | P3131: NO
A3132: 375 | B3132: 5 | C3132: ANTIOQUIA | D3132: 5147 | E3132: CAREPA | F3132: 578 | G3132: 57850 | H3132: RIO CAREPA Y LIMITE URBANO | L3132: Urbano | M3132: Sin Informacion de Barrios | N3132: Sin Informacion de Veredas | O3132: NO COD | P3132: NO
A3133: 1506 | B3133: 23 | C3133: CORDOBA | D3133: 23855 | E3133: VALENCIA | F3133: 2345 | G3133: 234530 | H3133: LIMITE URBANO | I3133: LIMITE URBANO | J3133: LIMITE URBANO | K3133: LIMITE URBANO | L3133: Urbano | M3133: 6 de Enero- Alfonso Lopez- El Centro- El Paraíso- El Rosario- Iván Rosales- Jaraguay- La Cruz- Nazareth- Ospina Pérez- Puerto Rico- San José- San Marcos- San Nicolás- Villa Serafina | N3133: Sin Informacion de Veredas | O3133: COD | P3133: NO
A3134: 633 | B3134: 13 | C3134: BOLIVAR | D3134: 13440 | E3134: MARGARITA | F3134: 1330 | G3134: 133027 | H3134: MUNICIPIO GUAMAL | I3134: RÍO PERMANENTE | J3134: M. GUAMAL Y EL BANCO | K3134: MPIO. SAN FERNANDO | L3134: Rural | M3134: Sin Informacion de Barrios | N3134: Pampan | O3134: NO COD | P3134: NO
A3135: 624 | B3135: 13 | C3135: BOLIVAR | D3135: 13188 | E3135: CICUCO | F3135: 1325 | G3135: 132550 | H3135: CL 1 | I3135: LIMITE URBANO | J3135: KR 9 | K3135: KR 19 | L3135: Urbano | M3135: Sin Informacion de Barrios | N3135: Sin Informacion de Veredas | O3135: NO COD | P3135: NO
A3136: 2361 | B3136: 52 | C3136: NARIÑO | D3136: 52411 | E3136: LINARES | F3136: 5225 | G3136: 522507 | H3136: MUNICIPIO LOS ANDES | I3136: RÍO (PERMANEN.) Y RELIEVE M. | J3136: EL TAMBO Y EL PEÑOL | K3136: M. SAMANI.- LA LLANADA Y LOS ANDES | L3136: Rural | M3136: Sin Informacion de Barrios | N3136: Alto Aranda- Cabecera Municipal- Encillada- Hugueronal- La Cocha- Laguna del Pueblo- Laguna Guaitara- Machado- Monte Claro- San Jose de Poroto- Tabiles- Tambillo de Acosta- Tambillos de Bravos- Vendeahuja | O3136: NO COD | P3136: NO
A3137: 3052 | B3137: 70 | C3137: SUCRE | D3137: 70429 | E3137: MAJAGUAL | F3137: 7030 | G3137: 703057 | H3137: MUNICIPIO SUCRE | I3137: MUNICIPIO GUARANDÁ | J3137: MUNICIPIO ACHI | K3137: RÍO (PERMANENTE) | L3137: Rural | M3137: Sin Informacion de Barrios | N3137: Sin Informacion de Veredas | O3137: NO COD | P3137: NO
A3138: 600 | B3138: 13 | C3138: BOLIVAR | D3138: 13248 | E3138: EL GUAMO | F3138: 1320 | G3138: 132007 | H3138: MPIO. PEDRAZA Y CALAMAR | I3138: M. SAN JUAN NEPOMUCENO | J3138: MPIO. ZAPAYAN Y TENERIFE | K3138: M. SAN JUAN NEPOMUCENO | L3138: Rural | M3138: Sin Informacion de Barrios | N3138: Sin Informacion de Veredas | O3138: NO COD | P3138: NO
A3139: 617 | B3139: 13 | C3139: BOLIVAR | D3139: 13430 | E3139: MAGANGUE | F3139: 1325 | G3139: 132517 | H3139: M. SANTA BARBARA DE PINTO | I3139: LIMITE URBANO | J3139: M. TALAIGUA N. Y CICUCO | K3139: VIA MAGANGUE-TACAMOCHA | L3139: Rural | M3139: Sin Informacion de Barrios | N3139: Sin Informacion de Veredas | O3139: COD | P3139: NO
A3140: 3542 | B3140: 88 | C3140: ARCHIPIELAGO DE SAN ANDRES | D3140: 88564 | E3140: PROVIDENCIA | F3140: 8800 | G3140: 880020 | H3140: LIMITE URBANO | I3140: LIMITE URBANO | J3140: LIMITE URBANO | K3140: LIMITE URBANO | L3140: Urbano | M3140: Sin Informacion de Barrios | N3140: Sin Informacion de Veredas | O3140: NO COD | P3140: NO
A3141: 3303 | B3141: 76 | C3141: VALLE DEL CAUCA | D3141: 76828 | E3141: TRUJILLO | F3141: 7610 | G3141: 761027 | H3141: MUNICIPIO BOLÍVAR | I3141: MUNICIPIO RIOFRÍO | J3141: VÍA RIOFRÍO - NARANJAL | K3141: M. EL LITORAL DEL SAN JUAN | L3141: Rural | M3141: Sin Informacion de Barrios | N3141: Sin Informacion de Veredas | O3141: COD | P3141: NO
A3142: 292 | B3142: 5 | C3142: ANTIOQUIA | D3142: 5034 | E3142: ANDES | F3142: 560 | G3142: 56068 | H3142: RÍO CAUDALOSO | I3142: MUNICIPIO MISTRADO | J3142: MUNICIPIO JARDIN | K3142: MUNICIPIO MISTRADO | L3142: Rural | M3142: Sin Informacion de Barrios | N3142: Sin Informacion de Veredas | O3142: NO COD | P3142: NO
A3143: 2277 | B3143: 50 | C3143: META | D3143: 50689 | E3143: SAN MARTIN | F3143: 5070 | G3143: 507027 | H3143: M. CASTILLA LA NVA. Y SAN C. DE GUAROA | I3143: CAÑO CAMOA | J3143: CAÑO CAMOA | K3143: MUNICIPIO CUBARRAL | L3143: Rural | M3143: Sin Informacion de Barrios | N3143: Arenales- Bajo Camoa- El Toro- El Turuy- Gualas- Humadea- La Libertad- La Pascualera- Merey- San Antonio- Santa Helena | O3143: COD | P3143: NO
A3144: 2985 | B3144: 68 | C3144: SANTANDER | D3144: 68081 | E3144: BARRANCABERMEJA | F3144: 6870 | G3144: 687031 | H3144: LIMITE URBANO | I3144: CL 52 | J3144: KR 34 | K3144: RIO MAGDALENA | L3144: Urbano | M3144: 20 de Enero- Ciudad Bolívar- Coviba- El Parnaso- El Rosario- Galán Gómez- La Floresta- La Libertad- Las Camelias- Olaya Herrera- Pueblo Nuevo- Santa Isabel- Torcoroma- Villa Olímpica | N3144: Sin Informacion de Veredas | O3144: COD | P3144: NO
... A3683: 1952 | B3683: 41 | C3683: HUILA | D3683: 41020 | E3683: ALGECIRAS | F3683: 4130 | G3683: 413048 | H3683: MUNICIPIO CAMPOALEGRE | I3683: MPIO. EL PAUJIL Y EL DONCELLO | J3683: VÍA CAMPO.-EL PARA.-LA UNI. Y M. P. RICO | K3683: MPIO. GIGANTE Y HOBO | L3683: Rural | M3683: Sin Informacion de Barrios | N3683: AGUA FRIA- ALTO CIELO- ALTO ROBLE- ALTOS DE RIO NEIVA- ANDES ALTOS- ANDES BAJOS- BAJO ROBLE- BATAN- BELLA VISTA- BUENA VISTA- Buenavista- BUENOS AIRES- Chía- EL BOSQUE- El Guayabo- EL PORVENIR- EL PORVENIR- EL PUENTE- El Roble- EL TORO- | O3683: NO COD | P3683: NO

Sheet Лист7
A1: Servientrega covering | B1: COD | C1: NO COD | D1: ИТОГО | E1: 1 | F1: 3
A2: ABEJORRAL | C2: 3 | D2: 3 | E2: =D2-B2 -> 3 | F2: =D2-C2 -> 0
A3: ABREGO | C3: 4 | D3: 4 | E3: =D3-B3 -> 4 | F3: =D3-C3 -> 0
A4: ABRIAQUI | C4: 2 | D4: 2 | E4: =D4-B4 -> 2 | F4: =D4-C4 -> 0
A5: ACACIAS | B5: 5 | D5: 5 | E5: =D5-B5 -> 0 | F5: =D5-C5 -> 5
A6: ACANDI | C6: 3 | D6: 3 | E6: =D6-B6 -> 3 | F6: =D6-C6 -> 0
A7: ACEVEDO | C7: 6 | D7: 6 | E7: =D7-B7 -> 6 | F7: =D7-C7 -> 0
A8: ACHI | C8: 3 | D8: 3 | E8: =D8-B8 -> 3 | F8: =D8-C8 -> 0
A9: AGRADO | C9: 2 | D9: 2 | E9: =D9-B9 -> 2 | F9: =D9-C9 -> 0
A10: AGUA DE DIOS | B10: 2 | D10: 2 | E10: =D10-B10 -> 0 | F10: =D10-C10 -> 2
A11: AGUACHICA | B11: 3 | D11: 3 | E11: =D11-B11 -> 0 | F11: =D11-C11 -> 3
A12: AGUADA | C12: 2 | D12: 2 | E12: =D12-B12 -> 2 | F12: =D12-C12 -> 0
A13: AGUADAS | B13: 4 | D13: 4 | E13: =D13-B13 -> 0 | F13: =D13-C13 -> 4
A14: AGUAZUL | B14: 4 | D14: 4 | E14: =D14-B14 -> 0 | F14: =D14-C14 -> 4
A15: AGUSTIN CODAZZI | C15: 3 | D15: 3 | E15: =D15-B15 -> 3 | F15: =D15-C15 -> 0
A16: AIPE | C16: 3 | D16: 3 | E16: =D16-B16 -> 3 | F16: =D16-C16 -> 0
A17: ALBAN | B17: 2 | D17: 2 | E17: =D17-B17 -> 0 | F17: =D17-C17 -> 2
A18: ALBANIA | B18: 6 | C18: 3 | D18: 9 | E18: =D18-B18 -> 3 | F18: =D18-C18 -> 6
A19: ALCALA | C19: 2 | D19: 2 | E19: =D19-B19 -> 2 | F19: =D19-C19 -> 0
A20: ALDANA | C20: 2 | D20: 2 | E20: =D20-B20 -> 2 | F20: =D20-C20 -> 0
A21: ALEJANDRIA | C21: 2 | D21: 2 | E21: =D21-B21 -> 2 | F21: =D21-C21 -> 0
A22: ALGARROBO | C22: 2 | D22: 2 | E22: =D22-B22 -> 2 | F22: =D22-C22 -> 0
A23: ALGECIRAS | C23: 3 | D23: 3 | E23: =D23-B23 -> 3 | F23: =D23-C23 -> 0
A24: ALMAGUER | C24: 4 | D24: 4 | E24: =D24-B24 -> 4 | F24: =D24-C24 -> 0
A25: ALMEIDA | C25: 2 | D25: 2 | E25: =D25-B25 -> 2 | F25: =D25-C25 -> 0
A26: ALPUJARRA | C26: 2 | D26: 2 | E26: =D26-B26 -> 2 | F26: =D26-C26 -> 0
A27: ALTAMIRA | C27: 2 | D27: 2 | E27: =D27-B27 -> 2 | F27: =D27-C27 -> 0
A28: ALTO BAUDO | C28: 3 | D28: 3 | E28: =D28-B28 -> 3 | F28: =D28-C28 -> 0
A29: ALTOS DEL ROSARIO | C29: 3 | D29: 3 | E29: =D29-B29 -> 3 | F29: =D29-C29 -> 0
A30: ALVARADO | B30: 3 | D30: 3 | E30: =D30-B30 -> 0 | F30: =D30-C30 -> 3
A31: AMAGA | C31: 3 | D31: 3 | E31: =D31-B31 -> 3 | F31: =D31-C31 -> 0
A32: AMALFI | C32: 3 | D32: 3 | E32: =D32-B32 -> 3 | F32: =D32-C32 -> 0
A33: AMBALEMA | B33: 2 | D33: 2 | E33: =D33-B33 -> 0 | F33: =D33-C33 -> 2
A34: ANAPOIMA | B34: 3 | D34: 3 | E34: =D34-B34 -> 0 | F34: =D34-C34 -> 3
A35: ANCUYA | C35: 2 | D35: 2 | E35: =D35-B35 -> 2 | F35: =D35-C35 -> 0
A36: ANDALUCIA | B36: 2 | D36: 2 | E36: =D36-B36 -> 0 | F36: =D36-C36 -> 2
A37: ANDES | C37: 3 | D37: 3 | E37: =D37-B37 -> 3 | F37: =D37-C37 -> 0
A38: ANGELOPOLIS | C38: 2 | D38: 2 | E38: =D38-B38 -> 2 | F38: =D38-C38 -> 0
A39: ANGOSTURA | C39: 3 | D39: 3 | E39: =D39-B39 -> 3 | F39: =D39-C39 -> 0
A40: ANOLAIMA | B40: 3 | D40: 3 | E40: =D40-B40 -> 0 | F40: =D40-C40 -> 3
A41: ANORI | C41: 2 | D41: 2 | E41: =D41-B41 -> 2 | F41: =D41-C41 -> 0
A42: ANSERMA | B42: 4 | D42: 4 | E42: =D42-B42 -> 0 | F42: =D42-C42 -> 4
A43: ANSERMANUEVO | B43: 3 | D43: 3 | E43: =D43-B43 -> 0 | F43: =D43-C43 -> 3
A44: ANZA | C44: 3 | D44: 3 | E44: =D44-B44 -> 3 | F44: =D44-C44 -> 0
A45: ANZOATEGUI | C45: 3 | D45: 3 | E45: =D45-B45 -> 3 | F45: =D45-C45 -> 0
A46: APARTADO | C46: 3 | D46: 3 | E46: =D46-B46 -> 3 | F46: =D46-C46 -> 0
A47: APIA | C47: 3 | D47: 3 | E47: =D47-B47 -> 3 | F47: =D47-C47 -> 0
A48: APULO | B48: 2 | D48: 2 | E48: =D48-B48 -> 0 | F48: =D48-C48 -> 2
A49: AQUITANIA | B49: 4 | D49: 4 | E49: =D49-B49 -> 0 | F49: =D49-C49 -> 4
A50: ARACATACA | B50: 3 | D50: 3 | E50: =D50-B50 -> 0 | F50: =D50-C50 -> 3
A51: ARANZAZU | B51: 2 | D51: 2 | E51: =D51-B51 -> 0 | F51: =D51-C51 -> 2
A52: ARATOCA | B52: 3 | D52: 3 | E52: =D52-B52 -> 0 | F52: =D52-C52 -> 3
A53: ARAUCA | C53: 4 | D53: 4 | E53: =D53-B53 -> 4 | F53: =D53-C53 -> 0
A54: ARAUQUITA | C54: 4 | D54: 4 | E54: =D54-B54 -> 4 | F54: =D54-C54 -> 0
A55: ARBELAEZ | B55: 3 | D55: 3 | E55: =D55-B55 -> 0 | F55: =D55-C55 -> 3
A56: ARBOLEDA - BERRUECOS | C56: 3 | D56: 3 | E56: =D56-B56 -> 3 | F56: =D56-C56 -> 0
A57: ARBOLEDAS | B57: 3 | D57: 3 | E57: =D57-B57 -> 0 | F57: =D57-C57 -> 3
A58: ARBOLETES | C58: 4 | D58: 4 | E58: =D58-B58 -> 4 | F58: =D58-C58 -> 0
A59: ARCABUCO | B59: 2 | D59: 2 | E59: =D59-B59 -> 0 | F59: =D59-C59 -> 2
A60: ARENAL | C60: 2 | D60: 2 | E60: =D60-B60 -> 2 | F60: =D60-C60 -> 0
A61: ARGELIA | B61: 2 | C61: 5 | D61: 7 | E61: =D61-B61 -> 5 | F61: =D61-C61 -> 2
A62: ARIGUANI | C62: 4 | D62: 4 | E62: =D62-B62 -> 4 | F62: =D62-C62 -> 0
A63: ARJONA | B63: 4 | D63: 4 | E63: =D63-B63 -> 0 | F63: =D63-C63 -> 4
A64: ARMENIA | B64: 6 | C64: 2 | D64: 8 | E64: =D64-B64 -> 2 | F64: =D64-C64 -> 6
A65: ARMERO | B65: 3 | D65: 3 | E65: =D65-B65 -> 0 | F65: =D65-C65 -> 3
A66: ARROYOHONDO | C66: 2 | D66: 2 | E66: =D66-B66 -> 2 | F66: =D66-C66 -> 0
A67: ASTREA | C67: 3 | D67: 3 | E67: =D67-B67 -> 3 | F67: =D67-C67 -> 0
A68: ATACO | B68: 3 | D68: 3 | E68: =D68-B68 -> 0 | F68: =D68-C68 -> 3
A69: ATRATO | C69: 3 | D69: 3 | E69: =D69-B69 -> 3 | F69: =D69-C69 -> 0
A70: AYAPEL | B70: 4 | D70: 4 | E70: =D70-B70 -> 0 | F70: =D70-C70 -> 4
A71: BAGADO | C71: 3 | D71: 3 | E71: =D71-B71 -> 3 | F71: =D71-C71 -> 0
A72: BAHIA SOLANO | C72: 3 | D72: 3 | E72: =D72-B72 -> 3 | F72: =D72-C72 -> 0
A73: BAJO BAUDO | C73: 3 | D73: 3 | E73: =D73-B73 -> 3 | F73: =D73-C73 -> 0
A74: BALBOA | B74: 2 | C74: 5 | D74: 7 | E74: =D74-B74 -> 5 | F74: =D74-C74 -> 2
A75: BARANOA | B75: 3 | D75: 3 | E75: =D75-B75 -> 0 | F75: =D75-C75 -> 3
A76: BARAYA | C76: 2 | D76: 2 | E76: =D76-B76 -> 2 | F76: =D76-C76 -> 0
A77: BARBACOAS | C77: 6 | D77: 6 | E77: =D77-B77 -> 6 | F77: =D77-C77 -> 0
A78: BARBOSA | B78: 5 | D78: 5 | E78: =D78-B78 -> 0 | F78: =D78-C78 -> 5
A79: BARICHARA | C79: 3 | D79: 3 | E79: =D79-B79 -> 3 | F79: =D79-C79 -> 0
A80: BARRANCA DE UPIA | B80: 2 | D80: 2 | E80: =D80-B80 -> 0 | F80: =D80-C80 -> 2
A81: BARRANCABERMEJA | B81: 7 | D81: 7 | E81: =D81-B81 -> 0 | F81: =D81-C81 -> 7
A82: BARRANCAS | B82: 4 | D82: 4 | E82: =D82-B82 -> 0 | F82: =D82-C82 -> 4
A83: BARRANCO DE LOBA | C83: 3 | D83: 3 | E83: =D83-B83 -> 3 | F83: =D83-C83 -> 0
A84: BARRANCO MINAS | C84: 4 | D84: 4 | E84: =D84-B84 -> 4 | F84: =D84-C84 -> 0
A85: BARRANQUILLA | C85: 15 | D85: 15 | E85: =D85-B85 -> 15 | F85: =D85-C85 -> 0
A86: BECERRIL | B86: 2 | D86: 2 | E86: =D86-B86 -> 0 | F86: =D86-C86 -> 2
A87: BELALCAZAR | C87: 2 | D87: 2 | E87: =D87-B87 -> 2 | F87: =D87-C87 -> 0
A88: BELEN | B88: 2 | C88: 2 | D88: 4 | E88: =D88-B88 -> 2 | F88: =D88-C88 -> 2
A89: BELEN DE LOS ANDAQUIES | C89: 3 | D89: 3 | E89: =D89-B89 -> 3 | F89: =D89-C89 -> 0
A90: BELEN DE UMBRIA | B90: 3 | D90: 3 | E90: =D90-B90 -> 0 | F90: =D90-C90 -> 3
A91: BELLO | C91: 8 | D91: 8 | E91: =D91-B91 -> 8 | F91: =D91-C91 -> 0
A92: BELMIRA | C92: 2 | D92: 2 | E92: =D92-B92 -> 2 | F92: =D92-C92 -> 0
A93: BELTRAN | C93: 2 | D93: 2 | E93: =D93-B93 -> 2 | F93: =D93-C93 -> 0
A94: BERBEO | B94: 2 | D94: 2 | E94: =D94-B94 -> 0 | F94: =D94-C94 -> 2
A95: BETANIA | C95: 2 | D95: 2 | E95: =D95-B95 -> 2 | F95: =D95-C95 -> 0
A96: BETEITIVA | C96: 2 | D96: 2 | E96: =D96-B96 -> 2 | F96: =D96-C96 -> 0
A97: BETULIA | B97: 3 | C97: 3 | D97: 6 | E97: =D97-B97 -> 3 | F97: =D97-C97 -> 3
A98: BITUIMA | C98: 2 | D98: 2 | E98: =D98-B98 -> 2 | F98: =D98-C98 -> 0
A99: BOAVITA | B99: 2 | D99: 2 | E99: =D99-B99 -> 0 | F99: =D99-C99 -> 2
A100: BOCHALEMA | B100: 3 | D100: 3 | E100: =D100-B100 -> 0 | F100: =D100-C100 -> 3
...

Sheet Лист8
A1: Coordinadora covering | B1: COD | C1: NO COD | D1: ИТОГО | E1: 1 | F1: 3
A2: ABEJORRAL | B2: 3 | D2: 3 | E2: =D2-B2 -> 0 | F2: =D2-C2 -> 3
A3: ABREGO | B3: 4 | D3: 4 | E3: =D3-B3 -> 0 | F3: =D3-C3 -> 4
A4: ABRIAQUI | B4: 2 | D4: 2 | E4: =D4-B4 -> 0 | F4: =D4-C4 -> 2
A5: ACACIAS | B5: 5 | D5: 5 | E5: =D5-B5 -> 0 | F5: =D5-C5 -> 5
A6: ACANDI | B6: 3 | D6: 3 | E6: =D6-B6 -> 0 | F6: =D6-C6 -> 3
A7: ACEVEDO | B7: 6 | D7: 6 | E7: =D7-B7 -> 0 | F7: =D7-C7 -> 6
A8: ACHI | B8: 3 | D8: 3 | E8: =D8-B8 -> 0 | F8: =D8-C8 -> 3
A9: AGRADO | B9: 2 | D9: 2 | E9: =D9-B9 -> 0 | F9: =D9-C9 -> 2
A10: AGUA DE DIOS | B10: 2 | D10: 2 | E10: =D10-B10 -> 0 | F10: =D10-C10 -> 2
A11: AGUACHICA | B11: 3 | D11: 3 | E11: =D11-B11 -> 0 | F11: =D11-C11 -> 3
A12: AGUADA | B12: 2 | D12: 2 | E12: =D12-B12 -> 0 | F12: =D12-C12 -> 2
A13: AGUADAS | B13: 4 | D13: 4 | E13: =D13-B13 -> 0 | F13: =D13-C13 -> 4
... A63: ARJONA | B63: 4 | D63: 4 | E63: =D63-B63 -> 0 | F63: =D63-C63 -> 4
A64: ARMENIA | B64: 2 | C64: 6 | D64: 8 | E64: =D64-B64 -> 6 | F64: =D64-C64 -> 2
A65: ARMERO | B65: 3 | D65: 3 | E65: =D65-B65 -> 0 | F65: =D65-C65 -> 3
A66: ARROYOHONDO | B66: 2 | D66: 2 | E66: =D66-B66 -> 0 | F66: =D66-C66 -> 2
A67: ASTREA | B67: 3 | D67: 3 | E67: =D67-B67 -> 0 | F67: =D67-C67 -> 3
A68: ATACO | B68: 3 | D68: 3 | E68: =D68-B68 -> 0 | F68: =D68-C68 -> 3
A69: ATRATO | B69: 3 | D69: 3 | E69: =D69-B69 -> 0 | F69: =D69-C69 -> 3
A70: AYAPEL | B70: 4 | D70: 4 | E70: =D70-B70 -> 0 | F70: =D70-C70 -> 4
A71: BAGADO | B71: 3 | D71: 3 | E71: =D71-B71 -> 0 | F71: =D71-C71 -> 3
A72: BAHIA SOLANO | B72: 3 | D72: 3 | E72: =D72-B72 -> 0 | F72: =D72-C72 -> 3
A73: BAJO BAUDO | B73: 3 | D73: 3 | E73: =D73-B73 -> 0 | F73: =D73-C73 -> 3
A74: BALBOA | B74: 7 | D74: 7 | E74: =D74-B74 -> 0 | F74: =D74-C74 -> 7
A75: BARANOA | B75: 3 | D75: 3 | E75: =D75-B75 -> 0 | F75: =D75-C75 -> 3
A76: BARAYA | B76: 2 | D76: 2 | E76: =D76-B76 -> 0 | F76: =D76-C76 -> 2
A77: BARBACOAS | B77: 6 | D77: 6 | E77: =D77-B77 -> 0 | F77: =D77-C77 -> 6
A78: BARBOSA | B78: 2 | C78: 3 | D78: 5 | E78: =D78-B78 -> 3 | F78: =D78-C78 -> 2
A79: BARICHARA | B79: 3 | D79: 3 | E79: =D79-B79 -> 0 | F79: =D79-C79 -> 3
A80: BARRANCA DE UPIA | B80: 2 | D80: 2 | E80: =D80-B80 -> 0 | F80: =D80-C80 -> 2
A81: BARRANCABERMEJA | B81: 7 | D81: 7 | E81: =D81-B81 -> 0 | F81: =D81-C81 -> 7
A82: BARRANCAS | B82: 4 | D82: 4 | E82: =D82-B82 -> 0 | F82: =D82-C82 -> 4
A83: BARRANCO DE LOBA | B83: 3 | D83: 3 | E83: =D83-B83 -> 0 | F83: =D83-C83 -> 3
A84: BARRANCO MINAS | B84: 4 | D84: 4 | E84: =D84-B84 -> 0 | F84: =D84-C84 -> 4
A85: BARRANQUILLA | C85: 15 | D85: 15 | E85: =D85-B85 -> 15 | F85: =D85-C85 -> 0
A86: BECERRIL | B86: 2 | D86: 2 | E86: =D86-B86 -> 0 | F86: =D86-C86 -> 2
A87: BELALCAZAR | B87: 2 | D87: 2 | E87: =D87-B87 -> 0 | F87: =D87-C87 -> 2
A88: BELEN | B88: 4 | D88: 4 | E88: =D88-B88 -> 0 | F88: =D88-C88 -> 4
A89: BELEN DE LOS ANDAQUIES | B89: 3 | D89: 3 | E89: =D89-B89 -> 0 | F89: =D89-C89 -> 3
A90: BELEN DE UMBRIA | B90: 3 | D90: 3 | E90: =D90-B90 -> 0 | F90: =D90-C90 -> 3
A91: BELLO | C91: 8 | D91: 8 | E91: =D91-B91 -> 8 | F91: =D91-C91 -> 0
A92: BELMIRA | B92: 2 | D92: 2 | E92: =D92-B92 -> 0 | F92: =D92-C92 -> 2
A93: BELTRAN | B93: 2 | D93: 2 | E93: =D93-B93 -> 0 | F93: =D93-C93 -> 2
A94: BERBEO | B94: 2 | D94: 2 | E94: =D94-B94 -> 0 | F94: =D94-C94 -> 2
A95: BETANIA | B95: 2 | D95: 2 | E95: =D95-B95 -> 0 | F95: =D95-C95 -> 2
A96: BETEITIVA | B96: 2 | D96: 2 | E96: =D96-B96 -> 0 | F96: =D96-C96 -> 2
A97: BETULIA | B97: 6 | D97: 6 | E97: =D97-B97 -> 0 | F97: =D97-C97 -> 6
A98: BITUIMA | B98: 2 | D98: 2 | E98: =D98-B98 -> 0 | F98: =D98-C98 -> 2
A99: BOAVITA | B99: 2 | D99: 2 | E99: =D99-B99 -> 0 | F99: =D99-C99 -> 2
A100: BOCHALEMA | B100: 3 | D100: 3 | E100: =D100-B100 -> 0 | F100: =D100-C100 -> 3
A101: BOJACA | B101: 2 | D101: 2 | E101: =D101-B101 -> 0 | F101: =D101-C101 -> 2
A102: BOJAYA | B102: 2 | D102: 2 | E102: =D102-B102 -> 0 | F102: =D102-C102 -> 2
A103: BOLIVAR | B103: 14 | D103: 14 | E103: =D103-B103 -> 0 | F103: =D103-C103 -> 14
... A106: BRICEÑO | B106: 5 | D106: 5 | E106: =D106-B106 -> 0 | F106: =D106-C106 -> 5
A107: BUCARAMANGA | C107: 9 | D107: 9 | E107: =D107-B107 -> 9 | F107: =D107-C107 -> 0
A108: BUCARASICA | B108: 3 | D108: 3 | E108: =D108-B108 -> 0 | F108: =D108-C108 -> 3
A109: BUENAVENTURA | B109: 8 | D109: 8 | E109: =D109-B109 -> 0 | F109: =D109-C109 -> 8
A110: BUENAVISTA | B110: 10 | D110: 10 | E110: =D110-B110 -> 0 | F110: =D110-C110 -> 10
A111: BUENOS AIRES | B111: 5 | D111: 5 | E111: =D111-B111 -> 0 | F111: =D111-C111 -> 5
A112: BUESACO | B112: 6 | D112: 6 | E112: =D112-B112 -> 0 | F112: =D112-C112 -> 6
A113: BUGALAGRANDE | B113: 3 | D113: 3 | E113: =D113-B113 -> 0 | F113: =D113-C113 -> 3
A114: BURITICA | B114: 3 | D114: 3 | E114: =D114-B114 -> 0 | F114: =D114-C114 -> 3
A115: BUSBANZA | B115: 2 | D115: 2 | E115: =D115-B115 -> 0 | F115: =D115-C115 -> 2
A116: CABRERA | B116: 4 | D116: 4 | E116: =D116-B116 -> 0 | F116: =D116-C116 -> 4
A117: CABUYARO | B117: 3 | D117: 3 | E117: =D117-B117 -> 0 | F117: =D117-C117 -> 3
A118: CACAHUAL | B118: 3 | D118: 3 | E118: =D118-B118 -> 0 | F118: =D118-C118 -> 3
A119: CACERES | B119: 3 | D119: 3 | E119: =D119-B119 -> 0 | F119: =D119-C119 -> 3
... A127: CAJIBIO | B127: 6 | D127: 6 | E127: =D127-B127 -> 0 | F127: =D127-C127 -> 6
A128: CAJICA | C128: 2 | D128: 2 | E128: =D128-B128 -> 2 | F128: =D128-C128 -> 0
A129: CALAMAR | B129: 9 | D129: 9 | E129: =D129-B129 -> 0 | F129: =D129-C129 -> 9
A130: CALARCA | C130: 3 | D130: 3 | E130: =D130-B130 -> 3 | F130: =D130-C130 -> 0
A131: CALDAS | B131: 2 | C131: 3 | D131: 5 | E131: =D131-B131 -> 3 | F131: =D131-C131 -> 2
A132: CALDONO | B132: 5 | D132: 5 | E132: =D132-B132 -> 0 | F132: =D132-C132 -> 5
A133: CALI | B133: 37 | D133: 37 | E133: =D133-B133 -> 0 | F133: =D133-C133 -> 37
A134: CALIFORNIA | B134: 2 | D134: 2 | E134: =D134-B134 -> 0 | F134: =D134-C134 -> 2
A135: CALIMA | B135: 3 | D135: 3 | E135: =D135-B135 -> 0 | F135: =D135-C135 -> 3
A136: CALOTO | C136: 6 | D136: 6 | E136: =D136-B136 -> 6 | F136: =D136-C136 -> 0
A137: CAMPAMENTO | B137: 2 | D137: 2 | E137: =D137-B137 -> 0 | F137: =D137-C137 -> 2
A138: CAMPO DE LA CRUZ | B138: 2 | D138: 2 | E138: =D138-B138 -> 0 | F138: =D138-C138 -> 2
A139: CAMPOALEGRE | B139: 3 | D139: 3 | E139: =D139-B139 -> 0 | F139: =D139-C139 -> 3
A140: CAMPOHERMOSO | B140: 2 | D140: 2 | E140: =D140-B140 -> 0 | F140: =D140-C140 -> 2
A141: CANALETE | B141: 3 | D141: 3 | E141: =D141-B141 -> 0 | F141: =D141-C141 -> 3
A142: CAÑASGORDAS | B142: 3 | D142: 3 | E142: =D142-B142 -> 0 | F142: =D142-C142 -> 3
A143: CANDELARIA | B143: 6 | D143: 6 | E143: =D143-B143 -> 0 | F143: =D143-C143 -> 6
A144: CANTAGALLO | B144: 2 | D144: 2 | E144: =D144-B144 -> 0 | F144: =D144-C144 -> 2
A145: CAPARRAPI | B145: 3 | D145: 3 | E145: =D145-B145 -> 0 | F145: =D145-C145 -> 3
A146: CAPITANEJO | B146: 3 | D146: 3 | E146: =D146-B146 -> 0 | F146: =D146-C146 -> 3
A147: CAQUEZA | B147: 2 | D147: 2 | E147: =D147-B147 -> 0 | F147: =D147-C147 -> 2
A148: CARACOLI | B148: 2 | D148: 2 | E148: =D148-B148 -> 0 | F148: =D148-C148 -> 2
... A155: CAROLINA | B155: 2 | D155: 2 | E155: =D155-B155 -> 0 | F155: =D155-C155 -> 2
A156: CARTAGENA | C156: 19 | D156: 19 | E156: =D156-B156 -> 19 | F156: =D156-C156 -> 0
A157: CARTAGENA DEL CHAIRA | B157: 5 | D157: 5 | E157: =D157-B157 -> 0 | F157: =D157-C157 -> 5
A158: CARTAGO | B158: 3 | D158: 3 | E158: =D158-B158 -> 0 | F158: =D158-C158 -> 3
A159: CARURU | B159: 3 | D159: 3 | E159: =D159-B159 -> 0 | F159: =D159-C159 -> 3
A160: CASABIANCA | B160: 3 | D160: 3 | E160: =D160-B160 -> 0 | F160: =D160-C160 -> 3
A161: CASTILLA LA NUEVA | B161: 3 | D161: 3 | E161: =D161-B161 -> 0 | F161: =D161-C161 -> 3
A162: CAUCASIA | B162: 3 | D162: 3 | E162: =D162-B162 -> 0 | F162: =D162-C162 -> 3
A163: CEPITA | B163: 2 | D163: 2 | E163: =D163-B163 -> 0 | F163: =D163-C163 -> 2
A164: CERETE | C164: 4 | D164: 4 | E164: =D164-B164 -> 4 | F164: =D164-C164 -> 0
...

Sheet вся Колумбия
A1: ОКТРУГ | B1: КОД ОКРУГА | C1: ГОРОД/ПОСЕЛЕНИЕ | D1: ИНДЕКС | E1: Курьерка 1 | F1: Курьерка 2 | G1: Курьерка 3
A2: SANTANDER | B2: 68615 | C2: RIONEGRO | D2: 687519 | E2: ЕСТЬ | F2: НЕТ ДОСТАВКИ | G2: НЕТ ДОСТАВКИ | H2: Servientrega covering | P2: Количество по полю Coordinadora covering | Q2: Названия столбцов
A3: SUCRE | B3: 70204 | C3: COLOSO | D3: 707030 | E3: НЕТ ДОСТАВКИ | F3: НЕТ ДОСТАВКИ | G3: НЕТ ДОСТАВКИ | P3: Названия строк | Q3: NO | R3: SI | S3: (пусто) | T3: Общий итог
A4: ANTIOQUIA | B4: 5674 | C4: SAN VICENTE | D4: 54018 | E4: НЕТ ДОСТАВКИ | F4: НЕТ ДОСТАВКИ | G4: НЕТ ДОСТАВКИ | H4: Количество по полю Servientrega covering | I4: Названия столбцов | P4: ABEJORRAL | Q4: 3 | T4: 3
A5: LA GUAJIRA | B5: 44090 | C5: DIBULLA | D5: 446007 | E5: ЕСТЬ | F5: НЕТ ДОСТАВКИ | G5: НЕТ ДОСТАВКИ | H5: Названия строк | I5: ЕСТЬ | J5: НЕТ ДОСТАВКИ | K5: (пусто) | L5: Общий итог | M5: 1 | N5: 2 | P5: ABREGO | Q5: 4 | T5: 4
A6: BOYACA | B6: 15621 | C6: RONDON | D6: 153420 | E6: НЕТ ДОСТАВКИ | F6: НЕТ ДОСТАВКИ | G6: НЕТ ДОСТАВКИ | H6: ABEJORRAL | J6: 3 | L6: 3 | M6: =GETPIVOTDATA("Servientrega covering",$H$4,"ГОРОД/ПОСЕЛЕНИЕ","ABEJORRAL")-GETPIVOTDATA("Servientrega covering",$H$4,"ГОРОД/ПОСЕЛЕНИЕ","ABEJORRAL","Servientrega covering","НЕТ ДОСТАВКИ") -> 0 | N6: =GETPIVOTDATA("Servientrega covering",$H$4,"ГОРОД/ПОСЕЛЕНИЕ","ABEJORRAL")-GETPIVOTDATA("Servientrega covering",$H$4,"ГОРОД/ПОСЕЛЕНИЕ","ABEJORRAL","Servientrega covering","ЕСТЬ") -> 3 | P6: ABRIAQUI | Q6: 2 | T6: 2
A7: MAGDALENA | B7: 47545 | C7: PIJIÑO DEL CARMEN | D7: 474048 | E7: НЕТ ДОСТАВКИ | F7: НЕТ ДОСТАВКИ | G7: НЕТ ДОСТАВКИ | H7: ABREGO | J7: 4 | L7: 4 | M7: =GETPIVOTDATA("Servientrega covering",$H$4,"ГОРОД/ПОСЕЛЕНИЕ","ABEJORRAL")-GETPIVOTDATA("Servientrega covering",$H$4,"ГОРОД/ПОСЕЛЕНИЕ","ABEJORRAL","Servientrega covering","НЕТ ДОСТАВКИ") -> 0 | N7: =GETPIVOTDATA("Servientrega covering",$H$4,"ГОРОД/ПОСЕЛЕНИЕ","ABEJORRAL")-GETPIVOTDATA("Servientrega covering",$H$4,"ГОРОД/ПОСЕЛЕНИЕ","ABEJORRAL","Servientrega covering","ЕСТЬ") -> 3 | P7: ACACIAS | Q7: 5 | T7: 5
A8: CUNDINAMARCA | B8: 25592 | C8: QUEBRADANEGRA | D8: 253427 | E8: НЕТ ДОСТАВКИ | F8: НЕТ ДОСТАВКИ | G8: НЕТ ДОСТАВКИ | H8: ABRIAQUI | J8: 2 | L8: 2 | M8: =GETPIVOTDATA("Servientrega covering",$H$4,"ГОРОД/ПОСЕЛЕНИЕ","ABEJORRAL")-GETPIVOTDATA("Servientrega covering",$H$4,"ГОРОД/ПОСЕЛЕНИЕ","ABEJORRAL","Servientrega covering","НЕТ ДОСТАВКИ") -> 0 | N8: =GETPIVOTDATA("Servientrega covering",$H$4,"ГОРОД/ПОСЕЛЕНИЕ","ABEJORRAL")-GETPIVOTDATA("Servientrega covering",$H$4,"ГОРОД/ПОСЕЛЕНИЕ","ABEJORRAL","Servientrega covering","ЕСТЬ") -> 3 | P8: ACANDI | Q8: 3 | T8: 3
A9: ANTIOQUIA | B9: 5002 | C9: ABEJORRAL | D9: 55030 | E9: НЕТ ДОСТАВКИ | F9: НЕТ ДОСТАВКИ | G9: НЕТ ДОСТАВКИ | H9: ACACIAS | I9: 5 | L9: 5 | M9: =GETPIVOTDATA("Servientrega covering",$H$4,"ГОРОД/ПОСЕЛЕНИЕ","ABEJORRAL")-GETPIVOTDATA("Servientrega covering",$H$4,"ГОРОД/ПОСЕЛЕНИЕ","ABEJORRAL","Servientrega covering","НЕТ ДОСТАВКИ") -> 0 | N9: =GETPIVOTDATA("Servientrega covering",$H$4,"ГОРОД/ПОСЕЛЕНИЕ","ABEJORRAL")-GETPIVOTDATA("Servientrega covering",$H$4,"ГОРОД/ПОСЕЛЕНИЕ","ABEJORRAL","Servientrega covering","ЕСТЬ") -> 3 | P9: ACEVEDO | Q9: 6 | T9: 6
A10: BOYACA | B10: 15753 | C10: SOATA | D10: 151007 | E10: ЕСТЬ | F10: НЕТ ДОСТАВКИ | G10: НЕТ ДОСТАВКИ | H10: ACANDI | J10: 3 | L10: 3 | M10: =GETPIVOTDATA("Servientrega covering",$H$4,"ГОРОД/ПОСЕЛЕНИЕ","ABEJORRAL")-GETPIVOTDATA("Servientrega covering",$H$4,"ГОРОД/ПОСЕЛЕНИЕ","ABEJORRAL","Servientrega covering","НЕТ ДОСТАВКИ") -> 0 | N10: =GETPIVOTDATA("Servientrega covering",$H$4,"ГОРОД/ПОСЕЛЕНИЕ","ABEJORRAL")-GETPIVOTDATA("Servientrega covering",$H$4,"ГОРОД/ПОСЕЛЕНИЕ","ABEJORRAL","Servientrega covering","ЕСТЬ") -> 3 | P10: ACHI | Q10: 3 | T10: 3
A11: META | B11: 50711 | C11: VISTAHERMOSA | D11: 504068 | E11: ЕСТЬ | F11: НЕТ ДОСТАВКИ | G11: НЕТ ДОСТАВКИ | H11: ACEVEDO | J11: 6 | L11: 6 | M11: =GETPIVOTDATA("Servientrega covering",$H$4,"ГОРОД/ПОСЕЛЕНИЕ","ABEJORRAL")-GETPIVOTDATA("Servientrega covering",$H$4,"ГОРОД/ПОСЕЛЕНИЕ","ABEJORRAL","Servientrega covering","НЕТ ДОСТАВКИ") -> 0 | N11: =GETPIVOTDATA("Servientrega covering",$H$4,"ГОРОД/ПОСЕЛЕНИЕ","ABEJORRAL")-GETPIVOTDATA("Servientrega covering",$H$4,"ГОРОД/ПОСЕЛЕНИЕ","ABEJORRAL","Servientrega covering","ЕСТЬ") -> 3 | P11: AGRADO | Q11: 2 | T11: 2
A12: TOLIMA | B12: 73449 | C12: MELGAR | D12: 734007 | E12: ЕСТЬ | F12: ЕСТЬ | G12: НЕТ ДОСТАВКИ | H12: ACHI | J12: 3 | L12: 3 | M12: =GETPIVOTDATA("Servientrega covering",$H$4,"ГОРОД/ПОСЕЛЕНИЕ","ABEJORRAL")-GETPIVOTDATA("Servientrega covering",$H$4,"ГОРОД/ПОСЕЛЕНИЕ","ABEJORRAL","Servientrega covering","НЕТ ДОСТАВКИ") -> 0 | N12: =GETPIVOTDATA("Servientrega covering",$H$4,"ГОРОД/ПОСЕЛЕНИЕ","ABEJORRAL")-GETPIVOTDATA("Servientrega covering",$H$4,"ГОРОД/ПОСЕЛЕНИЕ","ABEJORRAL","Servientrega covering","ЕСТЬ") -> 3 | P12: AGUA DE DIOS | Q12: 2 | T12: 2
A13: ANTIOQUIA | B13: 5264 | C13: ENTRERRIOS | D13: 51437 | E13: НЕТ ДОСТАВКИ | F13: НЕТ ДОСТАВКИ | G13: НЕТ ДОСТАВКИ | H13: AGRADO | J13: 2 | L13: 2 | M13: =GETPIVOTDATA("Servientrega covering",$H$4,"ГОРОД/ПОСЕЛЕНИЕ","ABEJORRAL")-GETPIVOTDATA("Servientrega covering",$H$4,"ГОРОД/ПОСЕЛЕНИЕ","ABEJORRAL","Servientrega covering","НЕТ ДОСТАВКИ") -> 0 | N13: =GETPIVOTDATA("Servientrega covering",$H$4,"ГОРОД/ПОСЕЛЕНИЕ","ABEJORRAL")-GETPIVOTDATA("Servientrega covering",$H$4,"ГОРОД/ПОСЕЛЕНИЕ","ABEJORRAL","Servientrega covering","ЕСТЬ") -> 3 | P13: AGUACHICA | Q13: 3 | T13: 3
A14: CAUCA | B14: 19142 | C14: CALOTO | D14: 191077 | E14: ЕСТЬ | F14: ЕСТЬ | G14: НЕТ ДОСТАВКИ | H14: AGUA DE DIOS | I14: 2 | L14: 2 | M14: =GETPIVOTDATA("Servientrega covering",$H$4,"ГОРОД/ПОСЕЛЕНИЕ","ABEJORRAL")-GETPIVOTDATA("Servientrega covering",$H$4,"ГОРОД/ПОСЕЛЕНИЕ","ABEJORRAL","Servientrega covering","НЕТ ДОСТАВКИ") -> 0 | N14: =GETPIVOTDATA("Servientrega covering",$H$4,"ГОРОД/ПОСЕЛЕНИЕ","ABEJORRAL")-GETPIVOTDATA("Servientrega covering",$H$4,"ГОРОД/ПОСЕЛЕНИЕ","ABEJORRAL","Servientrega covering","ЕСТЬ") -> 3 | P14: AGUADA | Q14: 2 | T14: 2
A15: META | B15: 50577 | C15: PUERTO LLERAS | D15: 503008 | E15: ЕСТЬ | F15: НЕТ ДОСТАВКИ | G15: НЕТ ДОСТАВКИ | H15: AGUACHICA | I15: 3 | L15: 3 | M15: =GETPIVOTDATA("Servientrega covering",$H$4,"ГОРОД/ПОСЕЛЕНИЕ","ABEJORRAL")-GETPIVOTDATA("Servientrega covering",$H$4,"ГОРОД/ПОСЕЛЕНИЕ","ABEJORRAL","Servientrega covering","НЕТ ДОСТАВКИ") -> 0 | N15: =GETPIVOTDATA("Servientrega covering",$H$4,"ГОРОД/ПОСЕЛЕНИЕ","ABEJORRAL")-GETPIVOTDATA("Servientrega covering",$H$4,"ГОРОД/ПОСЕЛЕНИЕ","ABEJORRAL","Servientrega covering","ЕСТЬ") -> 3 | P15: AGUADAS | Q15: 4 | T15: 4
A16: ANTIOQUIA | B16: 5001 | C16: MEDELLIN | D16: 50032 | E16: НЕТ ДОСТАВКИ | F16: ЕСТЬ | G16: НЕТ ДОСТАВКИ | H16: AGUADA | J16: 2 | L16: 2 | M16: =GETPIVOTDATA("Servientrega covering",$H$4,"ГОРОД/ПОСЕЛЕНИЕ","ABEJORRAL")-GETPIVOTDATA("Servientrega covering",$H$4,"ГОРОД/ПОСЕЛЕНИЕ","ABEJORRAL","Servientrega covering","НЕТ ДОСТАВКИ") -> 0 | N16: =GETPIVOTDATA("Servientrega covering",$H$4,"ГОРОД/ПОСЕЛЕНИЕ","ABEJORRAL")-GETPIVOTDATA("Servientrega covering",$H$4,"ГОРОД/ПОСЕЛЕНИЕ","ABEJORRAL","Servientrega covering","ЕСТЬ") -> 3 | P16: AGUAZUL | Q16: 4 | T16: 4
A17: ANTIOQUIA | B17: 5138 | C17: CAÑASGORDAS | D17: 57067 | E17: НЕТ ДОСТАВКИ | F17: НЕТ ДОСТАВКИ | G17: НЕТ ДОСТАВКИ | H17: AGUADAS | I17: 4 | L17: 4 | M17: =GETPIVOTDATA("Servientrega covering",$H$4,"ГОРОД/ПОСЕЛЕНИЕ","ABEJORRAL")-GETPIVOTDATA("Servientrega covering",$H$4,"ГОРОД/ПОСЕЛЕНИЕ","ABEJORRAL","Servientrega covering","НЕТ ДОСТАВКИ") -> 0 | N17: =GETPIVOTDATA("Servientrega covering",$H$4,"ГОРОД/ПОСЕЛЕНИЕ","ABEJORRAL")-GETPIVOTDATA("Servientrega covering",$H$4,"ГОРОД/ПОСЕЛЕНИЕ","ABEJORRAL","Servientrega covering","ЕСТЬ") -> 3 | P17: AGUSTIN ЕСТЬAZZI | Q17: 3 | T17: 3
A18: ARCHIPIELAGO DE SAN ANDRES | B18: 88001 | C18: SAN ANDRES | D18: 880007 | E18: НЕТ ДОСТАВКИ | F18: НЕТ ДОСТАВКИ | G18: НЕТ ДОСТАВКИ | H18: AGUAZUL | I18: 4 | L18: 4 | M18: =GETPIVOTDATA("Servientrega covering",$H$4,"ГОРОД/ПОСЕЛЕНИЕ","ABEJORRAL")-GETPIVOTDATA("Servientrega covering",$H$4,"ГОРОД/ПОСЕЛЕНИЕ","ABEJORRAL","Servientrega covering","НЕТ ДОСТАВКИ") -> 0 | N18: =GETPIVOTDATA("Servientrega covering",$H$4,"ГОРОД/ПОСЕЛЕНИЕ","ABEJORRAL")-GETPIVOTDATA("Servientrega covering",$H$4,"ГОРОД/ПОСЕЛЕНИЕ","ABEJORRAL","Servientrega covering","ЕСТЬ") -> 3 | P18: AIPE | Q18: 3 | T18: 3
A19: CORDOBA | B19: 23672 | C19: SAN ANTERO | D19: 231520 | E19: ЕСТЬ | F19: НЕТ ДОСТАВКИ | G19: НЕТ ДОСТАВКИ | H19: AGUSTIN ЕСТЬAZZI | J19: 3 | L19: 3 | M19: =GETPIVOTDATA("Servientrega covering",$H$4,"ГОРОД/ПОСЕЛЕНИЕ","ABEJORRAL")-GETPIVOTDATA("Servientrega covering",$H$4,"ГОРОД/ПОСЕЛЕНИЕ","ABEJORRAL","Servientrega covering","НЕТ ДОСТАВКИ") -> 0 | N19: =GETPIVOTDATA("Servientrega covering",$H$4,"ГОРОД/ПОСЕЛЕНИЕ","ABEJORRAL")-GETPIVOTDATA("Servientrega covering",$H$4,"ГОРОД/ПОСЕЛЕНИЕ","ABEJORRAL","Servientrega covering","ЕСТЬ") -> 3 | P19: ALBAN | Q19: 2 | T19: 2
A20: NARIÑO | B20: 52835 | C20: SAN ANDRES DE TUMACO | D20: 528538 | E20: ЕСТЬ | F20: НЕТ ДОСТАВКИ | G20: НЕТ ДОСТАВКИ | H20: AIPE | J20: 3 | L20: 3 | M20: =GETPIVOTDATA("Servientrega covering",$H$4,"ГОРОД/ПОСЕЛЕНИЕ","ABEJORRAL")-GETPIVOTDATA("Servientrega covering",$H$4,"ГОРОД/ПОСЕЛЕНИЕ","ABEJORRAL","Servientrega covering","НЕТ ДОСТАВКИ") -> 0 | N20: =GETPIVOTDATA("Servientrega covering",$H$4,"ГОРОД/ПОСЕЛЕНИЕ","ABEJORRAL")-GETPIVOTDATA("Servientrega covering",$H$4,"ГОРОД/ПОСЕЛЕНИЕ","ABEJORRAL","Servientrega covering","ЕСТЬ") -> 3 | P20: ALBANIA | Q20: 9 | T20: 9
A21: HUILA | B21: 41359 | C21: ISNOS | D21: 418049 | E21: НЕТ ДОСТАВКИ | F21: НЕТ ДОСТАВКИ | G21: НЕТ ДОСТАВКИ | H21: ALBAN | I21: 2 | L21: 2 | M21: =GETPIVOTDATA("Servientrega covering",$H$4,"ГОРОД/ПОСЕЛЕНИЕ","ABEJORRAL")-GETPIVOTDATA("Servientrega covering",$H$4,"ГОРОД/ПОСЕЛЕНИЕ","ABEJORRAL","Servientrega covering","НЕТ ДОСТАВКИ") -> 0 | N21: =GETPIVOTDATA("Servientrega covering",$H$4,"ГОРОД/ПОСЕЛЕНИЕ","ABEJORRAL")-GETPIVOTDATA("Servientrega covering",$H$4,"ГОРОД/ПОСЕЛЕНИЕ","ABEJORRAL","Servientrega covering","ЕСТЬ") -> 3 | P21: ALCALA | Q21: 2 | T21: 2
A22: META | B22: 50287 | C22: FUENTE DE ORO | D22: 504027 | E22: ЕСТЬ | F22: НЕТ ДОСТАВКИ | G22: НЕТ ДОСТАВКИ | H22: ALBANIA | I22: 6 | J22: 3 | L22: 9 | M22: =GETPIVOTDATA("Servientrega covering",$H$4,"ГОРОД/ПОСЕЛЕНИЕ","ABEJORRAL")-GETPIVOTDATA("Servientrega covering",$H$4,"ГОРОД/ПОСЕЛЕНИЕ","ABEJORRAL","Servientrega covering","НЕТ ДОСТАВКИ") -> 0 | N22: =GETPIVOTDATA("Servientrega covering",$H$4,"ГОРОД/ПОСЕЛЕНИЕ","ABEJORRAL")-GETPIVOTDATA("Servientrega covering",$H$4,"ГОРОД/ПОСЕЛЕНИЕ","ABEJORRAL","Servientrega covering","ЕСТЬ") -> 3 | P22: ALDANA | Q22: 2 | T22: 2
A23: HUILA | B23: 41013 | C23: AGRADO | D23: 414040 | E23: НЕТ ДОСТАВКИ | F23: НЕТ ДОСТАВКИ | G23: НЕТ ДОСТАВКИ | H23: ALCALA | J23: 2 | L23: 2 | M23: =GETPIVOTDATA("Servientrega covering",$H$4,"ГОРОД/ПОСЕЛЕНИЕ","ABEJORRAL")-GETPIVOTDATA("Servientrega covering",$H$4,"ГОРОД/ПОСЕЛЕНИЕ","ABEJORRAL","Servientrega covering","НЕТ ДОСТАВКИ") -> 0 | N23: =GETPIVOTDATA("Servientrega covering",$H$4,"ГОРОД/ПОСЕЛЕНИЕ","ABEJORRAL")-GETPIVOTDATA("Servientrega covering",$H$4,"ГОРОД/ПОСЕЛЕНИЕ","ABEJORRAL","Servientrega covering","ЕСТЬ") -> 3 | P23: ALEJANDRIA | Q23: 2 | T23: 2
A24: TOLIMA | B24: 73200 | C24: COELLO | D24: 733508 | E24: НЕТ ДОСТАВКИ | F24: НЕТ ДОСТАВКИ | G24: НЕТ ДОСТАВКИ | H24: ALDANA | J24: 2 | L24: 2 | M24: =GETPIVOTDATA("Servientrega covering",$H$4,"ГОРОД/ПОСЕЛЕНИЕ","ABEJORRAL")-GETPIVOTDATA("Servientrega covering",$H$4,"ГОРОД/ПОСЕЛЕНИЕ","ABEJORRAL","Servientrega covering","НЕТ ДОСТАВКИ") -> 0 | N24: =GETPIVOTDATA("Servientrega covering",$H$4,"ГОРОД/ПОСЕЛЕНИЕ","ABEJORRAL")-GETPIVOTDATA("Servientrega covering",$H$4,"ГОРОД/ПОСЕЛЕНИЕ","ABEJORRAL","Servientrega covering","ЕСТЬ") -> 3 | P24: ALGARROBO | Q24: 2 | T24: 2
A25: NARIÑO | B25: 52317 | C25: GUACHUCAL | D25: 524587 | E25: НЕТ ДОСТАВКИ | F25: НЕТ ДОСТАВКИ | G25: НЕТ ДОСТАВКИ | H25: ALEJANDRIA | J25: 2 | L25: 2 | M25: =GETPIVOTDATA("Servientrega covering",$H$4,"ГОРОД/ПОСЕЛЕНИЕ","ABEJORRAL")-GETPIVOTDATA("Servientrega covering",$H$4,"ГОРОД/ПОСЕЛЕНИЕ","ABEJORRAL","Servientrega covering","НЕТ ДОСТАВКИ") -> 0 | N25: =GETPIVOTDATA("Servientrega covering",$H$4,"ГОРОД/ПОСЕЛЕНИЕ","ABEJORRAL")-GETPIVOTDATA("Servientrega covering",$H$4,"ГОРОД/ПОСЕЛЕНИЕ","ABEJORRAL","Servientrega covering","ЕСТЬ") -> 3 | P25: ALGECIRAS | Q25: 3 | T25: 3
A26: BOGOTA D.C. | B26: 11001 | C26: LOCALIDAD TEUSAQUILLO | D26: 111321 | E26: НЕТ ДОСТАВКИ | F26: НЕТ ДОСТАВКИ | G26: ЕСТЬ | H26: ALGARROBO | J26: 2 | L26: 2 | M26: =GETPIVOTDATA("Servientrega covering",$H$4,"ГОРОД/ПОСЕЛЕНИЕ","ABEJORRAL")-GETPIVOTDATA("Servientrega covering",$H$4,"ГОРОД/ПОСЕЛЕНИЕ","ABEJORRAL","Servientrega covering","НЕТ ДОСТАВКИ") -> 0 | N26: =GETPIVOTDATA("Servientrega covering",$H$4,"ГОРОД/ПОСЕЛЕНИЕ","ABEJORRAL")-GETPIVOTDATA("Servientrega covering",$H$4,"ГОРОД/ПОСЕЛЕНИЕ","ABEJORRAL","Servientrega covering","ЕСТЬ") -> 3 | P26: ALMAGUER | Q26: 4 | T26: 4
A27: NORTE DE SANTANDER | B27: 54670 | C27: SAN CALIXTO | D27: 547018 | E27: НЕТ ДОСТАВКИ | F27: НЕТ ДОСТАВКИ | G27: НЕТ ДОСТАВКИ | H27: ALGECIRAS | J27: 3 | L27: 3 | M27: =GETPIVOTDATA("Servientrega covering",$H$4,"ГОРОД/ПОСЕЛЕНИЕ","ABEJORRAL")-GETPIVOTDATA("Servientrega covering",$H$4,"ГОРОД/ПОСЕЛЕНИЕ","ABEJORRAL","Servientrega covering","НЕТ ДОСТАВКИ") -> 0 | N27: =GETPIVOTDATA("Servientrega covering",$H$4,"ГОРОД/ПОСЕЛЕНИЕ","ABEJORRAL")-GETPIVOTDATA("Servientrega covering",$H$4,"ГОРОД/ПОСЕЛЕНИЕ","ABEJORRAL","Servientrega covering","ЕСТЬ") -> 3 | P27: ALMEIDA | Q27: 2 | T27: 2
A28: TOLIMA | B28: 73001 | C28: IBAGUE | D28: 730002 | E28: ЕСТЬ | F28: ЕСТЬ | G28: НЕТ ДОСТАВКИ | H28: ALMAGUER | J28: 4 | L28: 4 | M28: =GETPIVOTDATA("Servientrega covering",$H$4,"ГОРОД/ПОСЕЛЕНИЕ","ABEJORRAL")-GETPIVOTDATA("Servientrega covering",$H$4,"ГОРОД/ПОСЕЛЕНИЕ","ABEJORRAL","Servientrega covering","НЕТ ДОСТАВКИ") -> 0 | N28: =GETPIVOTDATA("Servientrega covering",$H$4,"ГОРОД/ПОСЕЛЕНИЕ","ABEJORRAL")-GETPIVOTDATA("Servientrega covering",$H$4,"ГОРОД/ПОСЕЛЕНИЕ","ABEJORRAL","Servientrega covering","ЕСТЬ") -> 3 | P28: ALPUJARRA | Q28: 2 | T28: 2
A29: BOYACA | B29: 15180 | C29: CHISCAS | D29: 151407 | E29: ЕСТЬ | F29: НЕТ ДОСТАВКИ | G29: НЕТ ДОСТАВКИ | H29: ALMEIDA | J29: 2 | L29: 2 | M29: =GETPIVOTDATA("Servientrega covering",$H$4,"ГОРОД/ПОСЕЛЕНИЕ","ABEJORRAL")-GETPIVOTDATA("Servientrega covering",$H$4,"ГОРОД/ПОСЕЛЕНИЕ","ABEJORRAL","Servientrega covering","НЕТ ДОСТАВКИ") -> 0 | N29: =GETPIVOTDATA("Servientrega covering",$H$4,"ГОРОД/ПОСЕЛЕНИЕ","ABEJORRAL")-GETPIVOTDATA("Servientrega covering",$H$4,"ГОРОД/ПОСЕЛЕНИЕ","ABEJORRAL","Servientrega covering","ЕСТЬ") -> 3 | P29: ALTAMIRA | Q29: 2 | T29: 2
A30: SANTANDER | B30: 68264 | C30: ENCINO | D30: 682548 | E30: ЕСТЬ | F30: НЕТ ДОСТАВКИ | G30: НЕТ ДОСТАВКИ | H30: ALPUJARRA | J30: 2 | L30: 2 | M30: =GETPIVOTDATA("Servientrega covering",$H$4,"ГОРОД/ПОСЕЛЕНИЕ","ABEJORRAL")-GETPIVOTDATA("Servientrega covering",$H$4,"ГОРОД/ПОСЕЛЕНИЕ","ABEJORRAL","Servientrega covering","НЕТ ДОСТАВКИ") -> 0 | N30: =GETPIVOTDATA("Servientrega covering",$H$4,"ГОРОД/ПОСЕЛЕНИЕ","ABEJORRAL")-GETPIVOTDATA("Servientrega covering",$H$4,"ГОРОД/ПОСЕЛЕНИЕ","ABEJORRAL","Servientrega covering","ЕСТЬ") -> 3 | P30: ALTO BAUDO | Q30: 3 | T30: 3
A31: CESAR | B31: 20001 | C31: VALLEDUPAR | D31: 200009 | E31: ЕСТЬ | F31: ЕСТЬ | G31: НЕТ ДОСТАВКИ | H31: ALTAMIRA | J31: 2 | L31: 2 | M31: =GETPIVOTDATA("Servientrega covering",$H$4,"ГОРОД/ПОСЕЛЕНИЕ","ABEJORRAL")-GETPIVOTDATA("Servientrega covering",$H$4,"ГОРОД/ПОСЕЛЕНИЕ","ABEJORRAL","Servientrega covering","НЕТ ДОСТАВКИ") -> 0 | N31: =GETPIVOTDATA("Servientrega covering",$H$4,"ГОРОД/ПОСЕЛЕНИЕ","ABEJORRAL")-GETPIVOTDATA("Servientrega covering",$H$4,"ГОРОД/ПОСЕЛЕНИЕ","ABEJORRAL","Servientrega covering","ЕСТЬ") -> 3 | P31: ALTOS DEL ROSARIO | Q31: 3 | T31: 3
A32: ANTIOQUIA | B32: 5264 | C32: ENTRERRIOS | D32: 51430 | E32: НЕТ ДОСТАВКИ | F32: НЕТ ДОСТАВКИ | G32: НЕТ ДОСТАВКИ | H32: ALTO BAUDO | J32: 3 | L32: 3 | M32: =GETPIVOTDATA("Servientrega covering",$H$4,"ГОРОД/ПОСЕЛЕНИЕ","ABEJORRAL")-GETPIVOTDATA("Servientrega covering",$H$4,"ГОРОД/ПОСЕЛЕНИЕ","ABEJORRAL","Servientrega covering","НЕТ ДОСТАВКИ") -> 0 | N32: =GETPIVOTDATA("Servientrega covering",$H$4,"ГОРОД/ПОСЕЛЕНИЕ","ABEJORRAL")-GETPIVOTDATA("Servientrega covering",$H$4,"ГОРОД/ПОСЕЛЕНИЕ","ABEJORRAL","Servientrega covering","ЕСТЬ") -> 3 | P32: ALVARADO | Q32: 3 | T32: 3
A33: VALLE DEL CAUCA | B33: 76001 | C33: CALI | D33: 760036 | E33: ЕСТЬ | F33: НЕТ ДОСТАВКИ | G33: НЕТ ДОСТАВКИ | H33: ALTOS DEL ROSARIO | J33: 3 | L33: 3 | M33: =GETPIVOTDATA("Servientrega covering",$H$4,"ГОРОД/ПОСЕЛЕНИЕ","ABEJORRAL")-GETPIVOTDATA("Servientrega covering",$H$4,"ГОРОД/ПОСЕЛЕНИЕ","ABEJORRAL","Servientrega covering","НЕТ ДОСТАВКИ") -> 0 | N33: =GETPIVOTDATA("Servientrega covering",$H$4,"ГОРОД/ПОСЕЛЕНИЕ","ABEJORRAL")-GETPIVOTDATA("Servientrega covering",$H$4,"ГОРОД/ПОСЕЛЕНИЕ","ABEJORRAL","Servientrega covering","ЕСТЬ") -> 3 | P33: AMAGA | Q33: 3 | T33: 3
A34: BOLIVAR | B34: 13442 | C34: MARIA LA BAJA | D34: 131077 | E34: ЕСТЬ | F34: НЕТ ДОСТАВКИ | G34: НЕТ ДОСТАВКИ | H34: ALVARADO | I34: 3 | L34: 3 | M34: =GETPIVOTDATA("Servientrega covering",$H$4,"ГОРОД/ПОСЕЛЕНИЕ","ABEJORRAL")-GETPIVOTDATA("Servientrega covering",$H$4,"ГОРОД/ПОСЕЛЕНИЕ","ABEJORRAL","Servientrega covering","НЕТ ДОСТАВКИ") -> 0 | N34: =GETPIVOTDATA("Servientrega covering",$H$4,"ГОРОД/ПОСЕЛЕНИЕ","ABEJORRAL")-GETPIVOTDATA("Servientrega covering",$H$4,"ГОРОД/ПОСЕЛЕНИЕ","ABEJORRAL","Servientrega covering","ЕСТЬ") -> 3 | P34: AMALFI | Q34: 3 | T34: 3
A35: CAUCA | B35: 19142 | C35: CALOTO | D35: 191088 | E35: ЕСТЬ | F35: ЕСТЬ | G35: НЕТ ДОСТАВКИ | H35: AMAGA | J35: 3 | L35: 3 | M35: =GETPIVOTDATA("Servientrega covering",$H$4,"ГОРОД/ПОСЕЛЕНИЕ","ABEJORRAL")-GETPIVOTDATA("Servientrega covering",$H$4,"ГОРОД/ПОСЕЛЕНИЕ","ABEJORRAL","Servientrega covering","НЕТ ДОСТАВКИ") -> 0 | N35: =GETPIVOTDATA("Servientrega covering",$H$4,"ГОРОД/ПОСЕЛЕНИЕ","ABEJORRAL")-GETPIVOTDATA("Servientrega covering",$H$4,"ГОРОД/ПОСЕЛЕНИЕ","ABEJORRAL","Servientrega covering","ЕСТЬ") -> 3 | P35: AMBALEMA | Q35: 2 | T35: 2
A36: CUNDINAMARCA | B36: 25491 | C36: NOCAIMA | D36: 253627 | E36: НЕТ ДОСТАВКИ | F36: НЕТ ДОСТАВКИ | G36: НЕТ ДОСТАВКИ | H36: AMALFI | J36: 3 | L36: 3 | M36: =GETPIVOTDATA("Servientrega covering",$H$4,"ГОРОД/ПОСЕЛЕНИЕ","ABEJORRAL")-GETPIVOTDATA("Servientrega covering",$H$4,"ГОРОД/ПОСЕЛЕНИЕ","ABEJORRAL","Servientrega covering","НЕТ ДОСТАВКИ") -> 0 | N36: =GETPIVOTDATA("Servientrega covering",$H$4,"ГОРОД/ПОСЕЛЕНИЕ","ABEJORRAL")-GETPIVOTDATA("Servientrega covering",$H$4,"ГОРОД/ПОСЕЛЕНИЕ","ABEJORRAL","Servientrega covering","ЕСТЬ") -> 3 | P36: ANAPOIMA | Q36: 3 | T36: 3
A37: ATLANTICO | B37: 8078 | C37: BARANOA | D37: 82020 | E37: ЕСТЬ | F37: НЕТ ДОСТАВКИ | G37: НЕТ ДОСТАВКИ | H37: AMBALEMA | I37: 2 | L37: 2 | M37: =GETPIVOTDATA("Servientrega covering",$H$4,"ГОРОД/ПОСЕЛЕНИЕ","ABEJORRAL")-GETPIVOTDATA("Servientrega covering",$H$4,"ГОРОД/ПОСЕЛЕНИЕ","ABEJORRAL","Servientrega covering","НЕТ ДОСТАВКИ") -> 0 | N37: =GETPIVOTDATA("Servientrega covering",$H$4,"ГОРОД/ПОСЕЛЕНИЕ","ABEJORRAL")-GETPIVOTDATA("Servientrega covering",$H$4,"ГОРОД/ПОСЕЛЕНИЕ","ABEJORRAL","Servientrega covering","ЕСТЬ") -> 3 | P37: ANCUYA | Q37: 2 | T37: 2
A38: ANTIOQUIA | B38: 5145 | C38: CARAMANTA | D38: 56040 | E38: НЕТ ДОСТАВКИ | F38: НЕТ ДОСТАВКИ | G38: НЕТ ДОСТАВКИ | H38: ANAPOIMA | I38: 3 | L38: 3 | M38: =GETPIVOTDATA("Servientrega covering",$H$4,"ГОРОД/ПОСЕЛЕНИЕ","ABEJORRAL")-GETPIVOTDATA("Servientrega covering",$H$4,"ГОРОД/ПОСЕЛЕНИЕ","ABEJORRAL","Servientrega covering","НЕТ ДОСТАВКИ") -> 0 | N38: =GETPIVOTDATA("Servientrega covering",$H$4,"ГОРОД/ПОСЕЛЕНИЕ","ABEJORRAL")-GETPIVOTDATA("Servientrega covering",$H$4,"ГОРОД/ПОСЕЛЕНИЕ","ABEJORRAL","Servientrega covering","ЕСТЬ") -> 3 | P38: ANDALUCIA | Q38: 2 | T38: 2
A39: CHOCO | B39: 27361 | C39: ISTMINA | D39: 274017 | E39: НЕТ ДОСТАВКИ | F39: НЕТ ДОСТАВКИ | G39: НЕТ ДОСТАВКИ | H39: ANCUYA | J39: 2 | L39: 2 | M39: =GETPIVOTDATA("Servientrega covering",$H$4,"ГОРОД/ПОСЕЛЕНИЕ","ABEJORRAL")-GETPIVOTDATA("Servientrega covering",$H$4,"ГОРОД/ПОСЕЛЕНИЕ","ABEJORRAL","Servientrega covering","НЕТ ДОСТАВКИ") -> 0 | N39: =GETPIVOTDATA("Servientrega covering",$H$4,"ГОРОД/ПОСЕЛЕНИЕ","ABEJORRAL")-GETPIVOTDATA("Servientrega covering",$H$4,"ГОРОД/ПОСЕЛЕНИЕ","ABEJORRAL","Servientrega covering","ЕСТЬ") -> 3 | P39: ANDES | Q39: 3 | T39: 3
A40: META | B40: 50110 | C40: BARRANCA DE UPIA | D40: 501001 | E40: ЕСТЬ | F40: НЕТ ДОСТАВКИ | G40: НЕТ ДОСТАВКИ | H40: ANDALUCIA | I40: 2 | L40: 2 | M40: =GETPIVOTDATA("Servientrega covering",$H$4,"ГОРОД/ПОСЕЛЕНИЕ","ABEJORRAL")-GETPIVOTDATA("Servientrega covering",$H$4,"ГОРОД/ПОСЕЛЕНИЕ","ABEJORRAL","Servientrega covering","НЕТ ДОСТАВКИ") -> 0 | N40: =GETPIVOTDATA("Servientrega covering",$H$4,"ГОРОД/ПОСЕЛЕНИЕ","ABEJORRAL")-GETPIVOTDATA("Servientrega covering",$H$4,"ГОРОД/ПОСЕЛЕНИЕ","ABEJORRAL","Servientrega covering","ЕСТЬ") -> 3 | P40: ANGELOPOLIS | Q40: 2 | T40: 2
A41: NARIÑO | B41: 52250 | C41: EL CHARCO | D41: 527529 | E41: НЕТ ДОСТАВКИ | F41: НЕТ ДОСТАВКИ | G41: НЕТ ДОСТАВКИ | H41: ANDES | J41: 3 | L41: 3 | M41: =GETPIVOTDATA("Servientrega covering",$H$4,"ГОРОД/ПОСЕЛЕНИЕ","ABEJORRAL")-GETPIVOTDATA("Servientrega covering",$H$4,"ГОРОД/ПОСЕЛЕНИЕ","ABEJORRAL","Servientrega covering","НЕТ ДОСТАВКИ") -> 0 | N41: =GETPIVOTDATA("Servientrega covering",$H$4,"ГОРОД/ПОСЕЛЕНИЕ","ABEJORRAL")-GETPIVOTDATA("Servientrega covering",$H$4,"ГОРОД/ПОСЕЛЕНИЕ","ABEJORRAL","Servientrega covering","ЕСТЬ") -> 3 | P41: ANGOSTURA | Q41: 3 | T41: 3
A42: ANTIOQUIA | B42: 5209 | C42: CONCORDIA | D42: 56417 | E42: НЕТ ДОСТАВКИ | F42: НЕТ ДОСТАВКИ | G42: НЕТ ДОСТАВКИ | H42: ANGELOPOLIS | J42: 2 | L42: 2 | M42: =GETPIVOTDATA("Servientrega covering",$H$4,"ГОРОД/ПОСЕЛЕНИЕ","ABEJORRAL")-GETPIVOTDATA("Servientrega covering",$H$4,"ГОРОД/ПОСЕЛЕНИЕ","ABEJORRAL","Servientrega covering","НЕТ ДОСТАВКИ") -> 0 | N42: =GETPIVOTDATA("Servientrega covering",$H$4,"ГОРОД/ПОСЕЛЕНИЕ","ABEJORRAL")-GETPIVOTDATA("Servientrega covering",$H$4,"ГОРОД/ПОСЕЛЕНИЕ","ABEJORRAL","Servientrega covering","ЕСТЬ") -> 3 | P42: ANOLAIMA | Q42: 3 | T42: 3
A43: CUNDINAMARCA | B43: 25797 | C43: TENA | D43: 252610 | E43: НЕТ ДОСТАВКИ | F43: НЕТ ДОСТАВКИ | G43: НЕТ ДОСТАВКИ | H43: ANGOSTURA | J43: 3 | L43: 3 | M43: =GETPIVOTDATA("Servientrega covering",$H$4,"ГОРОД/ПОСЕЛЕНИЕ","ABEJORRAL")-GETPIVOTDATA("Servientrega covering",$H$4,"ГОРОД/ПОСЕЛЕНИЕ","ABEJORRAL","Servientrega covering","НЕТ ДОСТАВКИ") -> 0 | N43: =GETPIVOTDATA("Servientrega covering",$H$4,"ГОРОД/ПОСЕЛЕНИЕ","ABEJORRAL")-GETPIVOTDATA("Servientrega covering",$H$4,"ГОРОД/ПОСЕЛЕНИЕ","ABEJORRAL","Servientrega covering","ЕСТЬ") -> 3 | P43: ANORI | Q43: 2 | T43: 2
A44: NARIÑO | B44: 52720 | C44: SAPUYES | D44: 525550 | E44: НЕТ ДОСТАВКИ | F44: НЕТ ДОСТАВКИ | G44: НЕТ ДОСТАВКИ | H44: ANOLAIMA | I44: 3 | L44: 3 | M44: =GETPIVOTDATA("Servientrega covering",$H$4,"ГОРОД/ПОСЕЛЕНИЕ","ABEJORRAL")-GETPIVOTDATA("Servientrega covering",$H$4,"ГОРОД/ПОСЕЛЕНИЕ","ABEJORRAL","Servientrega covering","НЕТ ДОСТАВКИ") -> 0 | N44: =GETPIVOTDATA("Servientrega covering",$H$4,"ГОРОД/ПОСЕЛЕНИЕ","ABEJORRAL")-GETPIVOTDATA("Servientrega covering",$H$4,"ГОРОД/ПОСЕЛЕНИЕ","ABEJORRAL","Servientrega covering","ЕСТЬ") -> 3 | P44: ANSERMA | Q44: 4 | T44: 4
A45: HUILA | B45: 41001 | C45: NEIVA | D45: 410003 | E45: ЕСТЬ | F45: ЕСТЬ | G45: НЕТ ДОСТАВКИ | H45: ANORI | J45: 2 | L45: 2 | M45: =GETPIVOTDATA("Servientrega covering",$H$4,"ГОРОД/ПОСЕЛЕНИЕ","ABEJORRAL")-GETPIVOTDATA("Servientrega covering",$H$4,"ГОРОД/ПОСЕЛЕНИЕ","ABEJORRAL","Servientrega covering","НЕТ ДОСТАВКИ") -> 0 | N45: =GETPIVOTDATA("Servientrega covering",$H$4,"ГОРОД/ПОСЕЛЕНИЕ","ABEJORRAL")-GETPIVOTDATA("Servientrega covering",$H$4,"ГОРОД/ПОСЕЛЕНИЕ","ABEJORRAL","Servientrega covering","ЕСТЬ") -> 3 | P45: ANSERMANUEVO | Q45: 3 | T45: 3
A46: META | B46: 50001 | C46: VILLAVICENCIO | D46: 500004 | E46: ЕСТЬ | F46: ЕСТЬ | G46: НЕТ ДОСТАВКИ | H46: ANSERMA | I46: 4 | L46: 4 | M46: =GETPIVOTDATA("Servientrega covering",$H$4,"ГОРОД/ПОСЕЛЕНИЕ","ABEJORRAL")-GETPIVOTDATA("Servientrega covering",$H$4,"ГОРОД/ПОСЕЛЕНИЕ","ABEJORRAL","Servientrega covering","НЕТ ДОСТАВКИ") -> 0 | N46: =GETPIVOTDATA("Servientrega covering",$H$4,"ГОРОД/ПОСЕЛЕНИЕ","ABEJORRAL")-GETPIVOTDATA("Servientrega covering",$H$4,"ГОРОД/ПОСЕЛЕНИЕ","ABEJORRAL","Servientrega covering","ЕСТЬ") -> 3 | P46: ANZA | Q46: 3 | T46: 3
A47: BOYACA | B47: 15638 | C47: SACHICA | D47: 153880 | E47: ЕСТЬ | F47: НЕТ ДОСТАВКИ | G47: НЕТ ДОСТАВКИ | H47: ANSERMANUEVO | I47: 3 | L47: 3 | M47: =GETPIVOTDATA("Servientrega covering",$H$4,"ГОРОД/ПОСЕЛЕНИЕ","ABEJORRAL")-GETPIVOTDATA("Servientrega covering",$H$4,"ГОРОД/ПОСЕЛЕНИЕ","ABEJORRAL","Servientrega covering","НЕТ ДОСТАВКИ") -> 0 | N47: =GETPIVOTDATA("Servientrega covering",$H$4,"ГОРОД/ПОСЕЛЕНИЕ","ABEJORRAL")-GETPIVOTDATA("Servientrega covering",$H$4,"ГОРОД/ПОСЕЛЕНИЕ","ABEJORRAL","Servientrega covering","ЕСТЬ") -> 3 | P47: ANZOATEGUI | Q47: 3 | T47: 3
A48: NARIÑO | B48: 52250 | C48: EL CHARCO | D48: 527520 | E48: НЕТ ДОСТАВКИ | F48: НЕТ ДОСТАВКИ | G48: НЕТ ДОСТАВКИ | H48: ANZA | J48: 3 | L48: 3 | M48: =GETPIVOTDATA("Servientrega covering",$H$4,"ГОРОД/ПОСЕЛЕНИЕ","ABEJORRAL")-GETPIVOTDATA("Servientrega covering",$H$4,"ГОРОД/ПОСЕЛЕНИЕ","ABEJORRAL","Servientrega covering","НЕТ ДОСТАВКИ") -> 0 | N48: =GETPIVOTDATA("Servientrega covering",$H$4,"ГОРОД/ПОСЕЛЕНИЕ","ABEJORRAL")-GETPIVOTDATA("Servientrega covering",$H$4,"ГОРОД/ПОСЕЛЕНИЕ","ABEJORRAL","Servientrega covering","ЕСТЬ") -> 3 | P48: APARTADO | Q48: 3 | T48: 3
A49: BOYACA | B49: 15572 | C49: PUERTO BOYACA | D49: 155218 | E49: ЕСТЬ | F49: НЕТ ДОСТАВКИ | G49: НЕТ ДОСТАВКИ | H49: ANZOATEGUI | J49: 3 | L49: 3 | M49: =GETPIVOTDATA("Servientrega covering",$H$4,"ГОРОД/ПОСЕЛЕНИЕ","ABEJORRAL")-GETPIVOTDATA("Servientrega covering",$H$4,"ГОРОД/ПОСЕЛЕНИЕ","ABEJORRAL","Servientrega covering","НЕТ ДОСТАВКИ") -> 0 | N49: =GETPIVOTDATA("Servientrega covering",$H$4,"ГОРОД/ПОСЕЛЕНИЕ","ABEJORRAL")-GETPIVOTDATA("Servientrega covering",$H$4,"ГОРОД/ПОСЕЛЕНИЕ","ABEJORRAL","Servientrega covering","ЕСТЬ") -> 3 | P49: APIA | Q49: 3 | T49: 3
A50: ANTIOQUIA | B50: 5660 | C50: SAN LUIS | D50: 54438 | E50: НЕТ ДОСТАВКИ | F50: НЕТ ДОСТАВКИ | G50: НЕТ ДОСТАВКИ | H50: APARTADO | J50: 3 | L50: 3 | M50: =GETPIVOTDATA("Servientrega covering",$H$4,"ГОРОД/ПОСЕЛЕНИЕ","ABEJORRAL")-GETPIVOTDATA("Servientrega covering",$H$4,"ГОРОД/ПОСЕЛЕНИЕ","ABEJORRAL","Servientrega covering","НЕТ ДОСТАВКИ") -> 0 | N50: =GETPIVOTDATA("Servientrega covering",$H$4,"ГОРОД/ПОСЕЛЕНИЕ","ABEJORRAL")-GETPIVOTDATA("Servientrega covering",$H$4,"ГОРОД/ПОСЕЛЕНИЕ","ABEJORRAL","Servientrega covering","ЕСТЬ") -> 3 | P50: APULO | Q50: 2 | T50: 2
A51: CALDAS | B51: 17653 | C51: SALAMINA | D51: 172001 | E51: ЕСТЬ | F51: НЕТ ДОСТАВКИ | G51: НЕТ ДОСТАВКИ | H51: APIA | J51: 3 | L51: 3 | M51: =GETPIVOTDATA("Servientrega covering",$H$4,"ГОРОД/ПОСЕЛЕНИЕ","ABEJORRAL")-GETPIVOTDATA("Servientrega covering",$H$4,"ГОРОД/ПОСЕЛЕНИЕ","ABEJORRAL","Servientrega covering","НЕТ ДОСТАВКИ") -> 0 | N51: =GETPIVOTDATA("Servientrega covering",$H$4,"ГОРОД/ПОСЕЛЕНИЕ","ABEJORRAL")-GETPIVOTDATA("Servientrega covering",$H$4,"ГОРОД/ПОСЕЛЕНИЕ","ABEJORRAL","Servientrega covering","ЕСТЬ") -> 3 | P51: AQUITANIA | Q51: 4 | T51: 4
A52: CASANARE | B52: 85440 | C52: VILLANUEVA | D52: 855030 | E52: ЕСТЬ | F52: НЕТ ДОСТАВКИ | G52: НЕТ ДОСТАВКИ | H52: APULO | I52: 2 | L52: 2 | M52: =GETPIVOTDATA("Servientrega covering",$H$4,"ГОРОД/ПОСЕЛЕНИЕ","ABEJORRAL")-GETPIVOTDATA("Servientrega covering",$H$4,"ГОРОД/ПОСЕЛЕНИЕ","ABEJORRAL","Servientrega covering","НЕТ ДОСТАВКИ") -> 0 | N52: =GETPIVOTDATA("Servientrega covering",$H$4,"ГОРОД/ПОСЕЛЕНИЕ","ABEJORRAL")-GETPIVOTDATA("Servientrega covering",$H$4,"ГОРОД/ПОСЕЛЕНИЕ","ABEJORRAL","Servientrega covering","ЕСТЬ") -> 3 | P52: ARACATACA | Q52: 3 | T52: 3
A53: LA GUAJIRA | B53: 44001 | C53: RIOHACHA | D53: 440007 | E53: ЕСТЬ | F53: НЕТ ДОСТАВКИ | G53: НЕТ ДОСТАВКИ | H53: AQUITANIA | I53: 4 | L53: 4 | M53: =GETPIVOTDATA("Servientrega covering",$H$4,"ГОРОД/ПОСЕЛЕНИЕ","ABEJORRAL")-GETPIVOTDATA("Servientrega covering",$H$4,"ГОРОД/ПОСЕЛЕНИЕ","ABEJORRAL","Servientrega covering","НЕТ ДОСТАВКИ") -> 0 | N53: =GETPIVOTDATA("Servientrega covering",$H$4,"ГОРОД/ПОСЕЛЕНИЕ","ABEJORRAL")-GETPIVOTDATA("Servientrega covering",$H$4,"ГОРОД/ПОСЕЛЕНИЕ","ABEJORRAL","Servientrega covering","ЕСТЬ") -> 3 | P53: ARANZAZU | Q53: 2 | T53: 2
A54: VAUPES | B54: 97001 | C54: MITU | D54: 970009 | E54: НЕТ ДОСТАВКИ | F54: НЕТ ДОСТАВКИ | G54: НЕТ ДОСТАВКИ | H54: ARACATACA | I54: 3 | L54: 3 | M54: =GETPIVOTDATA("Servientrega covering",$H$4,"ГОРОД/ПОСЕЛЕНИЕ","ABEJORRAL")-GETPIVOTDATA("Servientrega covering",$H$4,"ГОРОД/ПОСЕЛЕНИЕ","ABEJORRAL","Servientrega covering","НЕТ ДОСТАВКИ") -> 0 | N54: =GETPIVOTDATA("Servientrega covering",$H$4,"ГОРОД/ПОСЕЛЕНИЕ","ABEJORRAL")-GETPIVOTDATA("Servientrega covering",$H$4,"ГОРОД/ПОСЕЛЕНИЕ","ABEJORRAL","Servientrega covering","ЕСТЬ") -> 3 | P54: ARATOCA | Q54: 3 | T54: 3
A55: NORTE DE SANTANDER | B55: 54418 | C55: LOURDES | D55: 545077 | E55: НЕТ ДОСТАВКИ | F55: НЕТ ДОСТАВКИ | G55: НЕТ ДОСТАВКИ | H55: ARANZAZU | I55: 2 | L55: 2 | M55: =GETPIVOTDATA("Servientrega covering",$H$4,"ГОРОД/ПОСЕЛЕНИЕ","ABEJORRAL")-GETPIVOTDATA("Servientrega covering",$H$4,"ГОРОД/ПОСЕЛЕНИЕ","ABEJORRAL","Servientrega covering","НЕТ ДОСТАВКИ") -> 0 | N55: =GETPIVOTDATA("Servientrega covering",$H$4,"ГОРОД/ПОСЕЛЕНИЕ","ABEJORRAL")-GETPIVOTDATA("Servientrega covering",$H$4,"ГОРОД/ПОСЕЛЕНИЕ","ABEJORRAL","Servientrega covering","ЕСТЬ") -> 3 | P55: ARAUCA | Q55: 4 | T55: 4
A56: CAQUETA | B56: 18001 | C56: FLORENCIA | D56: 180017 | E56: ЕСТЬ | F56: НЕТ ДОСТАВКИ | G56: НЕТ ДОСТАВКИ | H56: ARATOCA | I56: 3 | L56: 3 | M56: =GETPIVOTDATA("Servientrega covering",$H$4,"ГОРОД/ПОСЕЛЕНИЕ","ABEJORRAL")-GETPIVOTDATA("Servientrega covering",$H$4,"ГОРОД/ПОСЕЛЕНИЕ","ABEJORRAL","Servientrega covering","НЕТ ДОСТАВКИ") -> 0 | N56: =GETPIVOTDATA("Servientrega covering",$H$4,"ГОРОД/ПОСЕЛЕНИЕ","ABEJORRAL")-GETPIVOTDATA("Servientrega covering",$H$4,"ГОРОД/ПОСЕЛЕНИЕ","ABEJORRAL","Servientrega covering","ЕСТЬ") -> 3 | P56: ARAUQUITA | Q56: 4 | T56: 4
A57: SANTANDER | B57: 68209 | C57: CONFINES | D57: 683531 | E57: ЕСТЬ | F57: НЕТ ДОСТАВКИ | G57: НЕТ ДОСТАВКИ | H57: ARAUCA | J57: 4 | L57: 4 | M57: =GETPIVOTDATA("Servientrega covering",$H$4,"ГОРОД/ПОСЕЛЕНИЕ","ABEJORRAL")-GETPIVOTDATA("Servientrega covering",$H$4,"ГОРОД/ПОСЕЛЕНИЕ","ABEJORRAL","Servientrega covering","НЕТ ДОСТАВКИ") -> 0 | N57: =GETPIVOTDATA("Servientrega covering",$H$4,"ГОРОД/ПОСЕЛЕНИЕ","ABEJORRAL")-GETPIVOTDATA("Servientrega covering",$H$4,"ГОРОД/ПОСЕЛЕНИЕ","ABEJORRAL","Servientrega covering","ЕСТЬ") -> 3 | P57: ARBELAEZ | Q57: 3 | T57: 3
A58: SUCRE | B58: 70670 | C58: SAMPUES | D58: 705070 | E58: ЕСТЬ | F58: ЕСТЬ | G58: НЕТ ДОСТАВКИ | H58: ARAUQUITA | J58: 4 | L58: 4 | M58: =GETPIVOTDATA("Servientrega covering",$H$4,"ГОРОД/ПОСЕЛЕНИЕ","ABEJORRAL")-GETPIVOTDATA("Servientrega covering",$H$4,"ГОРОД/ПОСЕЛЕНИЕ","ABEJORRAL","Servientrega covering","НЕТ ДОСТАВКИ") -> 0 | N58: =GETPIVOTDATA("Servientrega covering",$H$4,"ГОРОД/ПОСЕЛЕНИЕ","ABEJORRAL")-GETPIVOTDATA("Servientrega covering",$H$4,"ГОРОД/ПОСЕЛЕНИЕ","ABEJORRAL","Servientrega covering","ЕСТЬ") -> 3 | P58: ARBOLEDA - BERRUECOS | Q58: 3 | T58: 3
A59: CAUCA | B59: 19256 | C59: EL TAMBO | D59: 193588 | E59: НЕТ ДОСТАВКИ | F59: НЕТ ДОСТАВКИ | G59: НЕТ ДОСТАВКИ | H59: ARBELAEZ | I59: 3 | L59: 3 | M59: =GETPIVOTDATA("Servientrega covering",$H$4,"ГОРОД/ПОСЕЛЕНИЕ","ABEJORRAL")-GETPIVOTDATA("Servientrega covering",$H$4,"ГОРОД/ПОСЕЛЕНИЕ","ABEJORRAL","Servientrega covering","НЕТ ДОСТАВКИ") -> 0 | N59: =GETPIVOTDATA("Servientrega covering",$H$4,"ГОРОД/ПОСЕЛЕНИЕ","ABEJORRAL")-GETPIVOTDATA("Servientrega covering",$H$4,"ГОРОД/ПОСЕЛЕНИЕ","ABEJORRAL","Servientrega covering","ЕСТЬ") -> 3 | P59: ARBOLEDAS | Q59: 3 | T59: 3
A60: ANTIOQUIA | B60: 5308 | C60: GIRARDOTA | D60: 51037 | E60: НЕТ ДОСТАВКИ | F60: ЕСТЬ | G60: НЕТ ДОСТАВКИ | H60: ARBOLEDA - BERRUECOS | J60: 3 | L60: 3 | M60: =GETPIVOTDATA("Servientrega covering",$H$4,"ГОРОД/ПОСЕЛЕНИЕ","ABEJORRAL")-GETPIVOTDATA("Servientrega covering",$H$4,"ГОРОД/ПОСЕЛЕНИЕ","ABEJORRAL","Servientrega covering","НЕТ ДОСТАВКИ") -> 0 | N60: =GETPIVOTDATA("Servientrega covering",$H$4,"ГОРОД/ПОСЕЛЕНИЕ","ABEJORRAL")-GETPIVOTDATA("Servientrega covering",$H$4,"ГОРОД/ПОСЕЛЕНИЕ","ABEJORRAL","Servientrega covering","ЕСТЬ") -> 3 | P60: ARBOLETES | Q60: 4 | T60: 4
A61: RISARALDA | B61: 66170 | C61: DOSQUEBRADAS | D61: 661007 | E61: ЕСТЬ | F61: ЕСТЬ | G61: НЕТ ДОСТАВКИ | H61: ARBOLEDAS | I61: 3 | L61: 3 | M61: =GETPIVOTDATA("Servientrega covering",$H$4,"ГОРОД/ПОСЕЛЕНИЕ","ABEJORRAL")-GETPIVOTDATA("Servientrega covering",$H$4,"ГОРОД/ПОСЕЛЕНИЕ","ABEJORRAL","Servientrega covering","НЕТ ДОСТАВКИ") -> 0 | N61: =GETPIVOTDATA("Servientrega covering",$H$4,"ГОРОД/ПОСЕЛЕНИЕ","ABEJORRAL")-GETPIVOTDATA("Servientrega covering",$H$4,"ГОРОД/ПОСЕЛЕНИЕ","ABEJORRAL","Servientrega covering","ЕСТЬ") -> 3 | P61: ARCABUCO | Q61: 2 | T61: 2
A62: ANTIOQUIA | B62: 5390 | C62: LA PINTADA | D62: 55068 | E62: НЕТ ДОСТАВКИ | F62: НЕТ ДОСТАВКИ | G62: НЕТ ДОСТАВКИ | H62: ARBOLETES | J62: 4 | L62: 4 | M62: =GETPIVOTDATA("Servientrega covering",$H$4,"ГОРОД/ПОСЕЛЕНИЕ","ABEJORRAL")-GETPIVOTDATA("Servientrega covering",$H$4,"ГОРОД/ПОСЕЛЕНИЕ","ABEJORRAL","Servientrega covering","НЕТ ДОСТАВКИ") -> 0 | N62: =GETPIVOTDATA("Servientrega covering",$H$4,"ГОРОД/ПОСЕЛЕНИЕ","ABEJORRAL")-GETPIVOTDATA("Servientrega covering",$H$4,"ГОРОД/ПОСЕЛЕНИЕ","ABEJORRAL","Servientrega covering","ЕСТЬ") -> 3 | P62: ARENAL | Q62: 2 | T62: 2
A63: NARIÑO | B63: 52560 | C63: POTOSI | D63: 524038 | E63: НЕТ ДОСТАВКИ | F63: НЕТ ДОСТАВКИ | G63: НЕТ ДОСТАВКИ | H63: ARCABUCO | I63: 2 | L63: 2 | M63: =GETPIVOTDATA("Servientrega covering",$H$4,"ГОРОД/ПОСЕЛЕНИЕ","ABEJORRAL")-GETPIVOTDATA("Servientrega covering",$H$4,"ГОРОД/ПОСЕЛЕНИЕ","ABEJORRAL","Servientrega covering","НЕТ ДОСТАВКИ") -> 0 | N63: =GETPIVOTDATA("Servientrega covering",$H$4,"ГОРОД/ПОСЕЛЕНИЕ","ABEJORRAL")-GETPIVOTDATA("Servientrega covering",$H$4,"ГОРОД/ПОСЕЛЕНИЕ","ABEJORRAL","Servientrega covering","ЕСТЬ") -> 3 | P63: ARGELIA | Q63: 7 | T63: 7
A64: RISARALDA | B64: 66001 | C64: PEREIRA | D64: 660004 | E64: ЕСТЬ | F64: ЕСТЬ | G64: НЕТ ДОСТАВКИ | H64: ARENAL | J64: 2 | L64: 2 | M64: =GETPIVOTDATA("Servientrega covering",$H$4,"ГОРОД/ПОСЕЛЕНИЕ","ABEJORRAL")-GETPIVOTDATA("Servientrega covering",$H$4,"ГОРОД/ПОСЕЛЕНИЕ","ABEJORRAL","Servientrega covering","НЕТ ДОСТАВКИ") -> 0 | N64: =GETPIVOTDATA("Servientrega covering",$H$4,"ГОРОД/ПОСЕЛЕНИЕ","ABEJORRAL")-GETPIVOTDATA("Servientrega covering",$H$4,"ГОРОД/ПОСЕЛЕНИЕ","ABEJORRAL","Servientrega covering","ЕСТЬ") -> 3 | P64: ARIGUANI | Q64: 4 | T64: 4
A65: NORTE DE SANTANDER | B65: 54001 | C65: CUCUTA | D65: 540004 | E65: ЕСТЬ | F65: НЕТ ДОСТАВКИ | G65: НЕТ ДОСТАВКИ | H65: ARGELIA | I65: 2 | J65: 5 | L65: 7 | M65: =GETPIVOTDATA("Servientrega covering",$H$4,"ГОРОД/ПОСЕЛЕНИЕ","ABEJORRAL")-GETPIVOTDATA("Servientrega covering",$H$4,"ГОРОД/ПОСЕЛЕНИЕ","ABEJORRAL","Servientrega covering","НЕТ ДОСТАВКИ") -> 0 | N65: =GETPIVOTDATA("Servientrega covering",$H$4,"ГОРОД/ПОСЕЛЕНИЕ","ABEJORRAL")-GETPIVOTDATA("Servientrega covering",$H$4,"ГОРОД/ПОСЕЛЕНИЕ","ABEJORRAL","Servientrega covering","ЕСТЬ") -> 3 | P65: ARJONA | Q65: 4 | T65: 4
A66: ATLANTICO | B66: 8573 | C66: PUERTO COLOMBIA | D66: 81007 | E66: НЕТ ДОСТАВКИ | F66: НЕТ ДОСТАВКИ | G66: НЕТ ДОСТАВКИ | H66: ARIGUANI | J66: 4 | L66: 4 | M66: =GETPIVOTDATA("Servientrega covering",$H$4,"ГОРОД/ПОСЕЛЕНИЕ","ABEJORRAL")-GETPIVOTDATA("Servientrega covering",$H$4,"ГОРОД/ПОСЕЛЕНИЕ","ABEJORRAL","Servientrega covering","НЕТ ДОСТАВКИ") -> 0 | N66: =GETPIVOTDATA("Servientrega covering",$H$4,"ГОРОД/ПОСЕЛЕНИЕ","ABEJORRAL")-GETPIVOTDATA("Servientrega covering",$H$4,"ГОРОД/ПОСЕЛЕНИЕ","ABEJORRAL","Servientrega covering","ЕСТЬ") -> 3 | P66: ARMENIA | Q66: 2 | R66: 6 | T66: 8
A67: SUCRE | B67: 70400 | C67: LA UNION | D67: 704050 | E67: НЕТ ДОСТАВКИ | F67: НЕТ ДОСТАВКИ | G67: НЕТ ДОСТАВКИ | H67: ARJONA | I67: 4 | L67: 4 | M67: =GETPIVOTDATA("Servientrega covering",$H$4,"ГОРОД/ПОСЕЛЕНИЕ","ABEJORRAL")-GETPIVOTDATA("Servientrega covering",$H$4,"ГОРОД/ПОСЕЛЕНИЕ","ABEJORRAL","Servientrega covering","НЕТ ДОСТАВКИ") -> 0 | N67: =GETPIVOTDATA("Servientrega covering",$H$4,"ГОРОД/ПОСЕЛЕНИЕ","ABEJORRAL")-GETPIVOTDATA("Servientrega covering",$H$4,"ГОРОД/ПОСЕЛЕНИЕ","ABEJORRAL","Servientrega covering","ЕСТЬ") -> 3 | P67: ARMERO | Q67: 3 | T67: 3
A68: CESAR | B68: 20175 | C68: CHIMICHAGUA | D68: 201057 | E68: ЕСТЬ | F68: НЕТ ДОСТАВКИ | G68: НЕТ ДОСТАВКИ | H68: ARMENIA | I68: 6 | J68: 2 | L68: 8 | M68: =GETPIVOTDATA("Servientrega covering",$H$4,"ГОРОД/ПОСЕЛЕНИЕ","ABEJORRAL")-GETPIVOTDATA("Servientrega covering",$H$4,"ГОРОД/ПОСЕЛЕНИЕ","ABEJORRAL","Servientrega covering","НЕТ ДОСТАВКИ") -> 0 | N68: =GETPIVOTDATA("Servientrega covering",$H$4,"ГОРОД/ПОСЕЛЕНИЕ","ABEJORRAL")-GETPIVOTDATA("Servientrega covering",$H$4,"ГОРОД/ПОСЕЛЕНИЕ","ABEJORRAL","Servientrega covering","ЕСТЬ") -> 3 | P68: ARROYOHONDO | Q68: 2 | T68: 2
A69: CASANARE | B69: 85001 | C69: YOPAL | D69: 850001 | E69: ЕСТЬ | F69: ЕСТЬ | G69: НЕТ ДОСТАВКИ | H69: ARMERO | I69: 3 | L69: 3 | M69: =GETPIVOTDATA("Servientrega covering",$H$4,"ГОРОД/ПОСЕЛЕНИЕ","ABEJORRAL")-GETPIVOTDATA("Servientrega covering",$H$4,"ГОРОД/ПОСЕЛЕНИЕ","ABEJORRAL","Servientrega covering","НЕТ ДОСТАВКИ") -> 0 | N69: =GETPIVOTDATA("Servientrega covering",$H$4,"ГОРОД/ПОСЕЛЕНИЕ","ABEJORRAL")-GETPIVOTDATA("Servientrega covering",$H$4,"ГОРОД/ПОСЕЛЕНИЕ","ABEJORRAL","Servientrega covering","ЕСТЬ") -> 3 | P69: ASTREA | Q69: 3 | T69: 3
A70: NARIÑO | B70: 52260 | C70: EL TAMBO | D70: 522068 | E70: НЕТ ДОСТАВКИ | F70: НЕТ ДОСТАВКИ | G70: НЕТ ДОСТАВКИ | H70: ARROYOHONDO | J70: 2 | L70: 2 | M70: =GETPIVOTDATA("Servientrega covering",$H$4,"ГОРОД/ПОСЕЛЕНИЕ","ABEJORRAL")-GETPIVOTDATA("Servientrega covering",$H$4,"ГОРОД/ПОСЕЛЕНИЕ","ABEJORRAL","Servientrega covering","НЕТ ДОСТАВКИ") -> 0 | N70: =GETPIVOTDATA("Servientrega covering",$H$4,"ГОРОД/ПОСЕЛЕНИЕ","ABEJORRAL")-GETPIVOTDATA("Servientrega covering",$H$4,"ГОРОД/ПОСЕЛЕНИЕ","ABEJORRAL","Servientrega covering","ЕСТЬ") -> 3 | P70: ATACO | Q70: 3 | T70: 3
A71: BOLIVAR | B71: 13001 | C71: CARTAGENA | D71: 130015 | E71: ЕСТЬ | F71: ЕСТЬ | G71: НЕТ ДОСТАВКИ | H71: ASTREA | J71: 3 | L71: 3 | M71: =GETPIVOTDATA("Servientrega covering",$H$4,"ГОРОД/ПОСЕЛЕНИЕ","ABEJORRAL")-GETPIVOTDATA("Servientrega covering",$H$4,"ГОРОД/ПОСЕЛЕНИЕ","ABEJORRAL","Servientrega covering","НЕТ ДОСТАВКИ") -> 0 | N71: =GETPIVOTDATA("Servientrega covering",$H$4,"ГОРОД/ПОСЕЛЕНИЕ","ABEJORRAL")-GETPIVOTDATA("Servientrega covering",$H$4,"ГОРОД/ПОСЕЛЕНИЕ","ABEJORRAL","Servientrega covering","ЕСТЬ") -> 3 | P71: ATRATO | Q71: 3 | T71: 3
A72: SANTANDER | B72: 68397 | C72: LA PAZ | D72: 685517 | E72: НЕТ ДОСТАВКИ | F72: НЕТ ДОСТАВКИ | G72: НЕТ ДОСТАВКИ | H72: ATACO | I72: 3 | L72: 3 | M72: =GETPIVOTDATA("Servientrega covering",$H$4,"ГОРОД/ПОСЕЛЕНИЕ","ABEJORRAL")-GETPIVOTDATA("Servientrega covering",$H$4,"ГОРОД/ПОСЕЛЕНИЕ","ABEJORRAL","Servientrega covering","НЕТ ДОСТАВКИ") -> 0 | N72: =GETPIVOTDATA("Servientrega covering",$H$4,"ГОРОД/ПОСЕЛЕНИЕ","ABEJORRAL")-GETPIVOTDATA("Servientrega covering",$H$4,"ГОРОД/ПОСЕЛЕНИЕ","ABEJORRAL","Servientrega covering","ЕСТЬ") -> 3 | P72: AYAPEL | Q72: 4 | T72: 4
A73: BOLIVAR | B73: 13430 | C73: MAGANGUE | D73: 132527 | E73: ЕСТЬ | F73: НЕТ ДОСТАВКИ | G73: НЕТ ДОСТАВКИ | H73: ATRATO | J73: 3 | L73: 3 | M73: =GETPIVOTDATA("Servientrega covering",$H$4,"ГОРОД/ПОСЕЛЕНИЕ","ABEJORRAL")-GETPIVOTDATA("Servientrega covering",$H$4,"ГОРОД/ПОСЕЛЕНИЕ","ABEJORRAL","Servientrega covering","НЕТ ДОСТАВКИ") -> 0 | N73: =GETPIVOTDATA("Servientrega covering",$H$4,"ГОРОД/ПОСЕЛЕНИЕ","ABEJORRAL")-GETPIVOTDATA("Servientrega covering",$H$4,"ГОРОД/ПОСЕЛЕНИЕ","ABEJORRAL","Servientrega covering","ЕСТЬ") -> 3 | P73: BAGADO | Q73: 3 | T73: 3
A74: SANTANDER | B74: 68081 | C74: BARRANCABERMEJA | D74: 687038 | E74: ЕСТЬ | F74: НЕТ ДОСТАВКИ | G74: НЕТ ДОСТАВКИ | H74: AYAPEL | I74: 4 | L74: 4 | M74: =GETPIVOTDATA("Servientrega covering",$H$4,"ГОРОД/ПОСЕЛЕНИЕ","ABEJORRAL")-GETPIVOTDATA("Servientrega covering",$H$4,"ГОРОД/ПОСЕЛЕНИЕ","ABEJORRAL","Servientrega covering","НЕТ ДОСТАВКИ") -> 0 | N74: =GETPIVOTDATA("Servientrega covering",$H$4,"ГОРОД/ПОСЕЛЕНИЕ","ABEJORRAL")-GETPIVOTDATA("Servientrega covering",$H$4,"ГОРОД/ПОСЕЛЕНИЕ","ABEJORRAL","Servientrega covering","ЕСТЬ") -> 3 | P74: BAHIA SOLANO | Q74: 3 | T74: 3
A75: CESAR | B75: 20250 | C75: EL PASO | D75: 201038 | E75: НЕТ ДОСТАВКИ | F75: НЕТ ДОСТАВКИ | G75: НЕТ ДОСТАВКИ | H75: BAGADO | J75: 3 | L75: 3 | M75: =GETPIVOTDATA("Servientrega covering",$H$4,"ГОРОД/ПОСЕЛЕНИЕ","ABEJORRAL")-GETPIVOTDATA("Servientrega covering",$H$4,"ГОРОД/ПОСЕЛЕНИЕ","ABEJORRAL","Servientrega covering","НЕТ ДОСТАВКИ") -> 0 | N75: =GETPIVOTDATA("Servientrega covering",$H$4,"ГОРОД/ПОСЕЛЕНИЕ","ABEJORRAL")-GETPIVOTDATA("Servientrega covering",$H$4,"ГОРОД/ПОСЕЛЕНИЕ","ABEJORRAL","Servientrega covering","ЕСТЬ") -> 3 | P75: BAJO BAUDO | Q75: 3 | T75: 3
A76: BOYACA | B76: 15047 | C76: AQUITANIA | D76: 152429 | E76: ЕСТЬ | F76: НЕТ ДОСТАВКИ | G76: НЕТ ДОСТАВКИ | H76: BAHIA SOLANO | J76: 3 | L76: 3 | M76: =GETPIVOTDATA("Servientrega covering",$H$4,"ГОРОД/ПОСЕЛЕНИЕ","ABEJORRAL")-GETPIVOTDATA("Servientrega covering",$H$4,"ГОРОД/ПОСЕЛЕНИЕ","ABEJORRAL","Servientrega covering","НЕТ ДОСТАВКИ") -> 0 | N76: =GETPIVOTDATA("Servientrega covering",$H$4,"ГОРОД/ПОСЕЛЕНИЕ","ABEJORRAL")-GETPIVOTDATA("Servientrega covering",$H$4,"ГОРОД/ПОСЕЛЕНИЕ","ABEJORRAL","Servientrega covering","ЕСТЬ") -> 3 | P76: BALBOA | Q76: 7 | T76: 7
A77: CUNDINAMARCA | B77: 25612 | C77: RICAURTE | D77: 252417 | E77: НЕТ ДОСТАВКИ | F77: ЕСТЬ | G77: НЕТ ДОСТАВКИ | H77: BAJO BAUDO | J77: 3 | L77: 3 | M77: =GETPIVOTDATA("Servientrega covering",$H$4,"ГОРОД/ПОСЕЛЕНИЕ","ABEJORRAL")-GETPIVOTDATA("Servientrega covering",$H$4,"ГОРОД/ПОСЕЛЕНИЕ","ABEJORRAL","Servientrega covering","НЕТ ДОСТАВКИ") -> 0 | N77: =GETPIVOTDATA("Servientrega covering",$H$4,"ГОРОД/ПОСЕЛЕНИЕ","ABEJORRAL")-GETPIVOTDATA("Servientrega covering",$H$4,"ГОРОД/ПОСЕЛЕНИЕ","ABEJORRAL","Servientrega covering","ЕСТЬ") -> 3 | P77: BARANOA | Q77: 3 | T77: 3
A78: SUCRE | B78: 70110 | C78: BUENAVISTA | D78: 702037 | E78: НЕТ ДОСТАВКИ | F78: НЕТ ДОСТАВКИ | G78: НЕТ ДОСТАВКИ | H78: BALBOA | I78: 2 | J78: 5 | L78: 7 | M78: =GETPIVOTDATA("Servientrega covering",$H$4,"ГОРОД/ПОСЕЛЕНИЕ","ABEJORRAL")-GETPIVOTDATA("Servientrega covering",$H$4,"ГОРОД/ПОСЕЛЕНИЕ","ABEJORRAL","Servientrega covering","НЕТ ДОСТАВКИ") -> 0 | N78: =GETPIVOTDATA("Servientrega covering",$H$4,"ГОРОД/ПОСЕЛЕНИЕ","ABEJORRAL")-GETPIVOTDATA("Servientrega covering",$H$4,"ГОРОД/ПОСЕЛЕНИЕ","ABEJORRAL","Servientrega covering","ЕСТЬ") -> 3 | P78: BARAYA | Q78: 2 | T78: 2
A79: HUILA | B79: 41359 | C79: ISNOS | D79: 418047 | E79: НЕТ ДОСТАВКИ | F79: НЕТ ДОСТАВКИ | G79: НЕТ ДОСТАВКИ | H79: BARANOA | I79: 3 | L79: 3 | M79: =GETPIVOTDATA("Servientrega covering",$H$4,"ГОРОД/ПОСЕЛЕНИЕ","ABEJORRAL")-GETPIVOTDATA("Servientrega covering",$H$4,"ГОРОД/ПОСЕЛЕНИЕ","ABEJORRAL","Servientrega covering","НЕТ ДОСТАВКИ") -> 0 | N79: =GETPIVOTDATA("Servientrega covering",$H$4,"ГОРОД/ПОСЕЛЕНИЕ","ABEJORRAL")-GETPIVOTDATA("Servientrega covering",$H$4,"ГОРОД/ПОСЕЛЕНИЕ","ABEJORRAL","Servientrega covering","ЕСТЬ") -> 3 | P79: BARBACOAS | Q79: 6 | T79: 6
A80: ANTIOQUIA | B80: 5125 | C80: CAICEDO | D80: 56847 | E80: НЕТ ДОСТАВКИ | F80: НЕТ ДОСТАВКИ | G80: НЕТ ДОСТАВКИ | H80: BARAYA | J80: 2 | L80: 2 | M80: =GETPIVOTDATA("Servientrega covering",$H$4,"ГОРОД/ПОСЕЛЕНИЕ","ABEJORRAL")-GETPIVOTDATA("Servientrega covering",$H$4,"ГОРОД/ПОСЕЛЕНИЕ","ABEJORRAL","Servientrega covering","НЕТ ДОСТАВКИ") -> 0 | N80: =GETPIVOTDATA("Servientrega covering",$H$4,"ГОРОД/ПОСЕЛЕНИЕ","ABEJORRAL")-GETPIVOTDATA("Servientrega covering",$H$4,"ГОРОД/ПОСЕЛЕНИЕ","ABEJORRAL","Servientrega covering","ЕСТЬ") -> 3 | P80: BARBOSA | Q80: 2 | R80: 3 | T80: 5
A81: TOLIMA | B81: 73675 | C81: SAN ANTONIO | D81: 735538 | E81: ЕСТЬ | F81: НЕТ ДОСТАВКИ | G81: НЕТ ДОСТАВКИ | H81: BARBACOAS | J81: 6 | L81: 6 | M81: =GETPIVOTDATA("Servientrega covering",$H$4,"ГОРОД/ПОСЕЛЕНИЕ","ABEJORRAL")-GETPIVOTDATA("Servientrega covering",$H$4,"ГОРОД/ПОСЕЛЕНИЕ","ABEJORRAL","Servientrega covering","НЕТ ДОСТАВКИ") -> 0 | N81: =GETPIVOTDATA("Servientrega covering",$H$4,"ГОРОД/ПОСЕЛЕНИЕ","ABEJORRAL")-GETPIVOTDATA("Servientrega covering",$H$4,"ГОРОД/ПОСЕЛЕНИЕ","ABEJORRAL","Servientrega covering","ЕСТЬ") -> 3 | P81: BARICHARA | Q81: 3 | T81: 3
A82: SANTANDER | B82: 68500 | C82: OIBA | D82: 683019 | E82: ЕСТЬ | F82: НЕТ ДОСТАВКИ | G82: НЕТ ДОСТАВКИ | H82: BARBOSA | I82: 5 | L82: 5 | M82: =GETPIVOTDATA("Servientrega covering",$H$4,"ГОРОД/ПОСЕЛЕНИЕ","ABEJORRAL")-GETPIVOTDATA("Servientrega covering",$H$4,"ГОРОД/ПОСЕЛЕНИЕ","ABEJORRAL","Servientrega covering","НЕТ ДОСТАВКИ") -> 0 | N82: =GETPIVOTDATA("Servientrega covering",$H$4,"ГОРОД/ПОСЕЛЕНИЕ","ABEJORRAL")-GETPIVOTDATA("Servientrega covering",$H$4,"ГОРОД/ПОСЕЛЕНИЕ","ABEJORRAL","Servientrega covering","ЕСТЬ") -> 3 | P82: BARRANCA DE UPIA | Q82: 2 | T82: 2
A83: ATLANTICO | B83: 8001 | C83: BARRANQUILLA | D83: 80006 | E83: НЕТ ДОСТАВКИ | F83: ЕСТЬ | G83: НЕТ ДОСТАВКИ | H83: BARICHARA | J83: 3 | L83: 3 | M83: =GETPIVOTDATA("Servientrega covering",$H$4,"ГОРОД/ПОСЕЛЕНИЕ","ABEJORRAL")-GETPIVOTDATA("Servientrega covering",$H$4,"ГОРОД/ПОСЕЛЕНИЕ","ABEJORRAL","Servientrega covering","НЕТ ДОСТАВКИ") -> 0 | N83: =GETPIVOTDATA("Servientrega covering",$H$4,"ГОРОД/ПОСЕЛЕНИЕ","ABEJORRAL")-GETPIVOTDATA("Servientrega covering",$H$4,"ГОРОД/ПОСЕЛЕНИЕ","ABEJORRAL","Servientrega covering","ЕСТЬ") -> 3 | P83: BARRANCABERMEJA | Q83: 7 | T83: 7
A84: CESAR | B84: 20032 | C84: ASTREA | D84: 201048 | E84: НЕТ ДОСТАВКИ | F84: НЕТ ДОСТАВКИ | G84: НЕТ ДОСТАВКИ | H84: BARRANCA DE UPIA | I84: 2 | L84: 2 | M84: =GETPIVOTDATA("Servientrega covering",$H$4,"ГОРОД/ПОСЕЛЕНИЕ","ABEJORRAL")-GETPIVOTDATA("Servientrega covering",$H$4,"ГОРОД/ПОСЕЛЕНИЕ","ABEJORRAL","Servientrega covering","НЕТ ДОСТАВКИ") -> 0 | N84: =GETPIVOTDATA("Servientrega covering",$H$4,"ГОРОД/ПОСЕЛЕНИЕ","ABEJORRAL")-GETPIVOTDATA("Servientrega covering",$H$4,"ГОРОД/ПОСЕЛЕНИЕ","ABEJORRAL","Servientrega covering","ЕСТЬ") -> 3 | P84: BARRANCAS | Q84: 4 | T84: 4
A85: BOGOTA D.C. | B85: 11001 | C85: LOCALIDAD CHAPINERO | D85: 110231 | E85: НЕТ ДОСТАВКИ | F85: НЕТ ДОСТАВКИ | G85: ЕСТЬ | H85: BARRANCABERMEJA | I85: 7 | L85: 7 | M85: =GETPIVOTDATA("Servientrega covering",$H$4,"ГОРОД/ПОСЕЛЕНИЕ","ABEJORRAL")-GETPIVOTDATA("Servientrega covering",$H$4,"ГОРОД/ПОСЕЛЕНИЕ","ABEJORRAL","Servientrega covering","НЕТ ДОСТАВКИ") -> 0 | N85: =GETPIVOTDATA("Servientrega covering",$H$4,"ГОРОД/ПОСЕЛЕНИЕ","ABEJORRAL")-GETPIVOTDATA("Servientrega covering",$H$4,"ГОРОД/ПОСЕЛЕНИЕ","ABEJORRAL","Servientrega covering","ЕСТЬ") -> 3 | P85: BARRANCO DE LOBA | Q85: 3 | T85: 3
A86: ANTIOQUIA | B86: 5400 | C86: LA UNION | D86: 55020 | E86: НЕТ ДОСТАВКИ | F86: НЕТ ДОСТАВКИ | G86: НЕТ ДОСТАВКИ | H86: BARRANCAS | I86: 4 | L86: 4 | M86: =GETPIVOTDATA("Servientrega covering",$H$4,"ГОРОД/ПОСЕЛЕНИЕ","ABEJORRAL")-GETPIVOTDATA("Servientrega covering",$H$4,"ГОРОД/ПОСЕЛЕНИЕ","ABEJORRAL","Servientrega covering","НЕТ ДОСТАВКИ") -> 0 | N86: =GETPIVOTDATA("Servientrega covering",$H$4,"ГОРОД/ПОСЕЛЕНИЕ","ABEJORRAL")-GETPIVOTDATA("Servientrega covering",$H$4,"ГОРОД/ПОСЕЛЕНИЕ","ABEJORRAL","Servientrega covering","ЕСТЬ") -> 3 | P86: BARRANCO MINAS | Q86: 4 | T86: 4
A87: CHOCO | B87: 27660 | C87: SAN JOSE DEL PALMAR | D87: 273077 | E87: НЕТ ДОСТАВКИ | F87: НЕТ ДОСТАВКИ | G87: НЕТ ДОСТАВКИ | H87: BARRANCO DE LOBA | J87: 3 | L87: 3 | M87: =GETPIVOTDATA("Servientrega covering",$H$4,"ГОРОД/ПОСЕЛЕНИЕ","ABEJORRAL")-GETPIVOTDATA("Servientrega covering",$H$4,"ГОРОД/ПОСЕЛЕНИЕ","ABEJORRAL","Servientrega covering","НЕТ ДОСТАВКИ") -> 0 | N87: =GETPIVOTDATA("Servientrega covering",$H$4,"ГОРОД/ПОСЕЛЕНИЕ","ABEJORRAL")-GETPIVOTDATA("Servientrega covering",$H$4,"ГОРОД/ПОСЕЛЕНИЕ","ABEJORRAL","Servientrega covering","ЕСТЬ") -> 3 | P87: BARRANQUILLA | R87: 15 | T87: 15
A88: BOYACA | B88: 15798 | C88: TENZA | D88: 153207 | E88: ЕСТЬ | F88: НЕТ ДОСТАВКИ | G88: НЕТ ДОСТАВКИ | H88: BARRANCO MINAS | J88: 4 | L88: 4 | M88: =GETPIVOTDATA("Servientrega covering",$H$4,"ГОРОД/ПОСЕЛЕНИЕ","ABEJORRAL")-GETPIVOTDATA("Servientrega covering",$H$4,"ГОРОД/ПОСЕЛЕНИЕ","ABEJORRAL","Servientrega covering","НЕТ ДОСТАВКИ") -> 0 | N88: =GETPIVOTDATA("Servientrega covering",$H$4,"ГОРОД/ПОСЕЛЕНИЕ","ABEJORRAL")-GETPIVOTDATA("Servientrega covering",$H$4,"ГОРОД/ПОСЕЛЕНИЕ","ABEJORRAL","Servientrega covering","ЕСТЬ") -> 3 | P88: BECERRIL | Q88: 2 | T88: 2
A89: CESAR | B89: 20228 | C89: CURUMANI | D89: 203067 | E89: ЕСТЬ | F89: НЕТ ДОСТАВКИ | G89: НЕТ ДОСТАВКИ | H89: BARRANQUILLA | J89: 15 | L89: 15 | M89: =GETPIVOTDATA("Servientrega covering",$H$4,"ГОРОД/ПОСЕЛЕНИЕ","ABEJORRAL")-GETPIVOTDATA("Servientrega covering",$H$4,"ГОРОД/ПОСЕЛЕНИЕ","ABEJORRAL","Servientrega covering","НЕТ ДОСТАВКИ") -> 0 | N89: =GETPIVOTDATA("Servientrega covering",$H$4,"ГОРОД/ПОСЕЛЕНИЕ","ABEJORRAL")-GETPIVOTDATA("Servientrega covering",$H$4,"ГОРОД/ПОСЕЛЕНИЕ","ABEJORRAL","Servientrega covering","ЕСТЬ") -> 3 | P89: BELALCAZAR | Q89: 2 | T89: 2
A90: CUNDINAMARCA | B90: 25815 | C90: TOCAIMA | D90: 252848 | E90: ЕСТЬ | F90: НЕТ ДОСТАВКИ | G90: НЕТ ДОСТАВКИ | H90: BECERRIL | I90: 2 | L90: 2 | M90: =GETPIVOTDATA("Servientrega covering",$H$4,"ГОРОД/ПОСЕЛЕНИЕ","ABEJORRAL")-GETPIVOTDATA("Servientrega covering",$H$4,"ГОРОД/ПОСЕЛЕНИЕ","ABEJORRAL","Servientrega covering","НЕТ ДОСТАВКИ") -> 0 | N90: =GETPIVOTDATA("Servientrega covering",$H$4,"ГОРОД/ПОСЕЛЕНИЕ","ABEJORRAL")-GETPIVOTDATA("Servientrega covering",$H$4,"ГОРОД/ПОСЕЛЕНИЕ","ABEJORRAL","Servientrega covering","ЕСТЬ") -> 3 | P90: BELEN | Q90: 4 | T90: 4
A91: BOYACA | B91: 15464 | C91: MONGUA | D91: 152001 | E91: ЕСТЬ | F91: НЕТ ДОСТАВКИ | G91: НЕТ ДОСТАВКИ | H91: BELALCAZAR | J91: 2 | L91: 2 | M91: =GETPIVOTDATA("Servientrega covering",$H$4,"ГОРОД/ПОСЕЛЕНИЕ","ABEJORRAL")-GETPIVOTDATA("Servientrega covering",$H$4,"ГОРОД/ПОСЕЛЕНИЕ","ABEJORRAL","Servientrega covering","НЕТ ДОСТАВКИ") -> 0 | N91: =GETPIVOTDATA("Servientrega covering",$H$4,"ГОРОД/ПОСЕЛЕНИЕ","ABEJORRAL")-GETPIVOTDATA("Servientrega covering",$H$4,"ГОРОД/ПОСЕЛЕНИЕ","ABEJORRAL","Servientrega covering","ЕСТЬ") -> 3 | P91: BELEN DE LOS ANDAQUIES | Q91: 3 | T91: 3
A92: LA GUAJIRA | B92: 44090 | C92: DIBULLA | D92: 446009 | E92: ЕСТЬ | F92: НЕТ ДОСТАВКИ | G92: НЕТ ДОСТАВКИ | H92: BELEN | I92: 2 | J92: 2 | L92: 4 | M92: =GETPIVOTDATA("Servientrega covering",$H$4,"ГОРОД/ПОСЕЛЕНИЕ","ABEJORRAL")-GETPIVOTDATA("Servientrega covering",$H$4,"ГОРОД/ПОСЕЛЕНИЕ","ABEJORRAL","Servientrega covering","НЕТ ДОСТАВКИ") -> 0 | N92: =GETPIVOTDATA("Servientrega covering",$H$4,"ГОРОД/ПОСЕЛЕНИЕ","ABEJORRAL")-GETPIVOTDATA("Servientrega covering",$H$4,"ГОРОД/ПОСЕЛЕНИЕ","ABEJORRAL","Servientrega covering","ЕСТЬ") -> 3 | P92: BELEN DE UMBRIA | Q92: 3 | T92: 3
A93: QUINDIO | B93: 63272 | C93: FILANDIA | D93: 634001 | E93: НЕТ ДОСТАВКИ | F93: НЕТ ДОСТАВКИ | G93: НЕТ ДОСТАВКИ | H93: BELEN DE LOS ANDAQUIES | J93: 3 | L93: 3 | M93: =GETPIVOTDATA("Servientrega covering",$H$4,"ГОРОД/ПОСЕЛЕНИЕ","ABEJORRAL")-GETPIVOTDATA("Servientrega covering",$H$4,"ГОРОД/ПОСЕЛЕНИЕ","ABEJORRAL","Servientrega covering","НЕТ ДОСТАВКИ") -> 0 | N93: =GETPIVOTDATA("Servientrega covering",$H$4,"ГОРОД/ПОСЕЛЕНИЕ","ABEJORRAL")-GETPIVOTDATA("Servientrega covering",$H$4,"ГОРОД/ПОСЕЛЕНИЕ","ABEJORRAL","Servientrega covering","ЕСТЬ") -> 3 | P93: BELLO | R93: 8 | T93: 8
A94: CAUCA | B94: 19397 | C94: LA VEGA | D94: 194028 | E94: НЕТ ДОСТАВКИ | F94: НЕТ ДОСТАВКИ | G94: НЕТ ДОСТАВКИ | H94: BELEN DE UMBRIA | I94: 3 | L94: 3 | M94: =GETPIVOTDATA("Servientrega covering",$H$4,"ГОРОД/ПОСЕЛЕНИЕ","ABEJORRAL")-GETPIVOTDATA("Servientrega covering",$H$4,"ГОРОД/ПОСЕЛЕНИЕ","ABEJORRAL","Servientrega covering","НЕТ ДОСТАВКИ") -> 0 | N94: =GETPIVOTDATA("Servientrega covering",$H$4,"ГОРОД/ПОСЕЛЕНИЕ","ABEJORRAL")-GETPIVOTDATA("Servientrega covering",$H$4,"ГОРОД/ПОСЕЛЕНИЕ","ABEJORRAL","Servientrega covering","ЕСТЬ") -> 3 | P94: BELMIRA | Q94: 2 | T94: 2
A95: HUILA | B95: 41676 | C95: SANTA MARIA | D95: 412020 | E95: НЕТ ДОСТАВКИ | F95: НЕТ ДОСТАВКИ | G95: НЕТ ДОСТАВКИ | H95: BELLO | J95: 8 | L95: 8 | M95: =GETPIVOTDATA("Servientrega covering",$H$4,"ГОРОД/ПОСЕЛЕНИЕ","ABEJORRAL")-GETPIVOTDATA("Servientrega covering",$H$4,"ГОРОД/ПОСЕЛЕНИЕ","ABEJORRAL","Servientrega covering","НЕТ ДОСТАВКИ") -> 0 | N95: =GETPIVOTDATA("Servientrega covering",$H$4,"ГОРОД/ПОСЕЛЕНИЕ","ABEJORRAL")-GETPIVOTDATA("Servientrega covering",$H$4,"ГОРОД/ПОСЕЛЕНИЕ","ABEJORRAL","Servientrega covering","ЕСТЬ") -> 3 | P95: BELTRAN | Q95: 2 | T95: 2
A96: ANTIOQUIA | B96: 5667 | C96: SAN RAFAEL | D96: 53838 | E96: НЕТ ДОСТАВКИ | F96: НЕТ ДОСТАВКИ | G96: НЕТ ДОСТАВКИ | H96: BELMIRA | J96: 2 | L96: 2 | M96: =GETPIVOTDATA("Servientrega covering",$H$4,"ГОРОД/ПОСЕЛЕНИЕ","ABEJORRAL")-GETPIVOTDATA("Servientrega covering",$H$4,"ГОРОД/ПОСЕЛЕНИЕ","ABEJORRAL","Servientrega covering","НЕТ ДОСТАВКИ") -> 0 | N96: =GETPIVOTDATA("Servientrega covering",$H$4,"ГОРОД/ПОСЕЛЕНИЕ","ABEJORRAL")-GETPIVOTDATA("Servientrega covering",$H$4,"ГОРОД/ПОСЕЛЕНИЕ","ABEJORRAL","Servientrega covering","ЕСТЬ") -> 3 | P96: BERBEO | Q96: 2 | T96: 2
A97: SANTANDER | B97: 68001 | C97: BUCARAMANGA | D97: 680001 | E97: ЕСТЬ | F97: ЕСТЬ | G97: НЕТ ДОСТАВКИ | H97: BELTRAN | J97: 2 | L97: 2 | M97: =GETPIVOTDATA("Servientrega covering",$H$4,"ГОРОД/ПОСЕЛЕНИЕ","ABEJORRAL")-GETPIVOTDATA("Servientrega covering",$H$4,"ГОРОД/ПОСЕЛЕНИЕ","ABEJORRAL","Servientrega covering","НЕТ ДОСТАВКИ") -> 0 | N97: =GETPIVOTDATA("Servientrega covering",$H$4,"ГОРОД/ПОСЕЛЕНИЕ","ABEJORRAL")-GETPIVOTDATA("Servientrega covering",$H$4,"ГОРОД/ПОСЕЛЕНИЕ","ABEJORRAL","Servientrega covering","ЕСТЬ") -> 3 | P97: BETANIA | Q97: 2 | T97: 2
A98: BOYACA | B98: 15673 | C98: SAN MATEO | D98: 151201 | E98: ЕСТЬ | F98: НЕТ ДОСТАВКИ | G98: НЕТ ДОСТАВКИ | H98: BERBEO | I98: 2 | L98: 2 | M98: =GETPIVOTDATA("Servientrega covering",$H$4,"ГОРОД/ПОСЕЛЕНИЕ","ABEJORRAL")-GETPIVOTDATA("Servientrega covering",$H$4,"ГОРОД/ПОСЕЛЕНИЕ","ABEJORRAL","Servientrega covering","НЕТ ДОСТАВКИ") -> 0 | N98: =GETPIVOTDATA("Servientrega covering",$H$4,"ГОРОД/ПОСЕЛЕНИЕ","ABEJORRAL")-GETPIVOTDATA("Servientrega covering",$H$4,"ГОРОД/ПОСЕЛЕНИЕ","ABEJORRAL","Servientrega covering","ЕСТЬ") -> 3 | P98: BETEITIVA | Q98: 2 | T98: 2
A99: NARIÑO | B99: 52435 | C99: MALLAMA | D99: 525068 | E99: НЕТ ДОСТАВКИ | F99: НЕТ ДОСТАВКИ | G99: НЕТ ДОСТАВКИ | H99: BETANIA | J99: 2 | L99: 2 | M99: =GETPIVOTDATA("Servientrega covering",$H$4,"ГОРОД/ПОСЕЛЕНИЕ","ABEJORRAL")-GETPIVOTDATA("Servientrega covering",$H$4,"ГОРОД/ПОСЕЛЕНИЕ","ABEJORRAL","Servientrega covering","НЕТ ДОСТАВКИ") -> 0 | N99: =GETPIVOTDATA("Servientrega covering",$H$4,"ГОРОД/ПОСЕЛЕНИЕ","ABEJORRAL")-GETPIVOTDATA("Servientrega covering",$H$4,"ГОРОД/ПОСЕЛЕНИЕ","ABEJORRAL","Servientrega covering","ЕСТЬ") -> 3 | P99: BETULIA | Q99: 6 | T99: 6
A100: ANTIOQUIA | B100: 5030 | C100: AMAGA | D100: 55840 | E100: НЕТ ДОСТАВКИ | F100: НЕТ ДОСТАВКИ | G100: НЕТ ДОСТАВКИ | H100: BETEITIVA | J100: 2 | L100: 2 | M100: =GETPIVOTDATA("Servientrega covering",$H$4,"ГОРОД/ПОСЕЛЕНИЕ","ABEJORRAL")-GETPIVOTDATA("Servientrega covering",$H$4,"ГОРОД/ПОСЕЛЕНИЕ","ABEJORRAL","Servientrega covering","НЕТ ДОСТАВКИ") -> 0 | N100: =GETPIVOTDATA("Servientrega covering",$H$4,"ГОРОД/ПОСЕЛЕНИЕ","ABEJORRAL")-GETPIVOTDATA("Servientrega covering",$H$4,"ГОРОД/ПОСЕЛЕНИЕ","ABEJORRAL","Servientrega covering","ЕСТЬ") -> 3 | P100: BITUIMA | Q100: 2 | T100: 2
...

Sheet нет доставки ни одной КС
A1: ОКТРУГ | B1: КОД ОКРУГА | C1: ГОРОД/ПОСЕЛЕНИЕ | D1: ИНДЕКС
A2: SUCRE | B2: 70204 | C2: COLOSO | D2: 707030
A3: ANTIOQUIA | B3: 5674 | C3: SAN VICENTE | D3: 54018
A4: BOYACA | B4: 15621 | C4: RONDON | D4: 153420
A5: MAGDALENA | B5: 47545 | C5: PIJIÑO DEL CARMEN | D5: 474048
A6: CUNDINAMARCA | B6: 25592 | C6: QUEBRADANEGRA | D6: 253427
A7: ANTIOQUIA | B7: 5002 | C7: ABEJORRAL | D7: 55030
A8: ANTIOQUIA | B8: 5264 | C8: ENTRERRIOS | D8: 51437
A9: ANTIOQUIA | B9: 5138 | C9: CAÑASGORDAS | D9: 57067
A10: ARCHIPIELAGO DE SAN ANDRES | B10: 88001 | C10: SAN ANDRES | D10: 880007
A11: HUILA | B11: 41359 | C11: ISNOS | D11: 418049
A12: HUILA | B12: 41013 | C12: AGRADO | D12: 414040
A13: TOLIMA | B13: 73200 | C13: COELLO | D13: 733508
... A1873: HUILA | B1873: 41020 | C1873: ALGECIRAS | D1873: 413048

Sheet доставка в часть инд по городу
A1: ALBANIA
A2: ARGELIA
A3: ARMENIA
A4: BALBOA
A5: BELEN
A6: BETULIA
A7: BOLIVAR
A8: BUENAVISTA
A9: CABRERA
A10: CALOTO
A11: CANDELARIA
A12: CONCEPCION
... A41: SAN PEDRO
