Workbook

Sheet КЛАДС СЕРВИНТРЕГА
A1: город | B1: ID CIUDAD ORIGEN | C1: DANE CIUDAD ORIGEN | D1: REGIONAL ORIGEN | E1: NOMBRE CIUDAD ORIGEN | F1: FRECUENCIA ORIGEN | G1: ID CIUDAD DESTINO | H1: DANE | I1: CIUDAD DESTINO | J1: REGIONAL DESTINO | K1: NOMBRE CIUDAD DESTINO | L1: город | M1: FRECUENCIA DESTINO | N1: TIEMPO ENTREGA COMERCIAL (DÃ­as) | O1: TIEMPO ENTREGA COMERCIAL (Minutos) | P1: TIPO TRAYECTO | Q1: RESTRICCION FISICA
A2: ACACIAS | B2: 10 | C2: 11001000 | D2: BOGOTA | E2: BOGOTA-CUNDINAMARCA | F2: LUN, MAR, MIE, JUE, VIE, SAB | G2: 149 | H2: 50006 | I2: 0 | J2: LLANOS | K2: ACACIAS-META | L2: ACACIAS | N2: 2 | O2: 2880 | P2: ZONAL | Q2: PESO: 500 kgs LARGO: 300 cms ANCHO: 300 cms ALTO: 300 cms | R2: =VLOOKUP(A2,'[1]КЛАДР РАНЕЕ ЗАГРУЖЕННЫЙ'!A:A,1,0) -> ACACIAS
A3: ACAPULCO | B3: 10 | C3: 11001000 | D3: BOGOTA | E3: BOGOTA-CUNDINAMARCA | F3: LUN, MAR, MIE, JUE, VIE, SAB | G3: 881 | H3: 68307 | I3: 7 | J3: ORIENTE | K3: ACAPULCO-SANTANDER(CENTPOBL) | L3: ACAPULCO | M3: MAR, JUE, SAB | N3: 1 | O3: 1440 | P3: NACIONAL | Q3: PESO: 50 kgs LARGO: 50 cms ANCHO: 50 cms ALTO: 50 cms | R3: =VLOOKUP(A3,'[1]КЛАДР РАНЕЕ ЗАГРУЖЕННЫЙ'!A:A,1,0) -> ACAPULCO
A4: AGUA DE DIOS | B4: 10 | C4: 11001000 | D4: BOGOTA | E4: BOGOTA-CUNDINAMARCA | F4: LUN, MAR, MIE, JUE, VIE, SAB | G4: 280 | H4: 25001 | I4: 0 | J4: REGIONAL CENTRO | K4: AGUA DE DIOS-CUNDINAMARCA | L4: AGUA DE DIOS | N4: 1 | O4: 1440 | P4: ZONAL | Q4: PESO: 50 kgs LARGO: 150 cms ANCHO: 100 cms ALTO: 100 cms | R4: =VLOOKUP(A4,'[1]КЛАДР РАНЕЕ ЗАГРУЖЕННЫЙ'!A:A,1,0) -> AGUA DE DIOS
A5: AGUACHICA | B5: 10 | C5: 11001000 | D5: BOGOTA | E5: BOGOTA-CUNDINAMARCA | F5: LUN, MAR, MIE, JUE, VIE, SAB | G5: 3 | H5: 20011 | I5: 0 | J5: ORIENTE | K5: AGUACHICA-CESAR | L5: AGUACHICA | M5: LUN, MAR, MIE, JUE, VIE, SAB | N5: 2 | O5: 2880 | P5: NACIONAL | Q5: PESO: 200 kgs LARGO: 200 cms ANCHO: 200 cms ALTO: 200 cms | R5: =VLOOKUP(A5,'[1]КЛАДР РАНЕЕ ЗАГРУЖЕННЫЙ'!A:A,1,0) -> AGUACHICA
A6: AGUADAS | B6: 10 | C6: 11001000 | D6: BOGOTA | E6: BOGOTA-CUNDINAMARCA | F6: LUN, MAR, MIE, JUE, VIE, SAB | G6: 234 | H6: 17013 | I6: 0 | J6: EJE CAFETERO | K6: AGUADAS-CALDAS | L6: AGUADAS | N6: 4 | O6: 5760 | P6: NACIONAL | Q6: PESO: 100 kgs LARGO: 100 cms ANCHO: 100 cms ALTO: 100 cms | R6: =VLOOKUP(A6,'[1]КЛАДР РАНЕЕ ЗАГРУЖЕННЫЙ'!A:A,1,0) -> AGUADAS
A7: AGUAS CLARAS | B7: 10 | C7: 11001000 | D7: BOGOTA | E7: BOGOTA-CUNDINAMARCA | F7: LUN, MAR, MIE, JUE, VIE, SAB | G7: 936 | H7: 54498 | I7: 2 | J7: ORIENTE | K7: AGUAS CLARAS-NORTE DE SANTANDER(CORRGTO) | L7: AGUAS CLARAS | M7: MAR | N7: 8 | O7: 11520 | P7: TRAYECTO ESPECIAL | Q7: PESO: 30 kgs LARGO: 50 cms ANCHO: 50 cms ALTO: 50 cms | R7: =VLOOKUP(A7,'[1]КЛАДР РАНЕЕ ЗАГРУЖЕННЫЙ'!A:A,1,0) -> AGUAS CLARAS
A8: AGUAZUL | B8: 10 | C8: 11001000 | D8: BOGOTA | E8: BOGOTA-CUNDINAMARCA | F8: LUN, MAR, MIE, JUE, VIE, SAB | G8: 128 | H8: 85010 | I8: 0 | J8: LLANOS | K8: AGUAZUL-CASANARE | L8: AGUAZUL | N8: 2 | O8: 2880 | P8: NACIONAL | Q8: PESO: 500 kgs LARGO: 300 cms ANCHO: 200 cms ALTO: 200 cms | R8: =VLOOKUP(A8,'[1]КЛАДР РАНЕЕ ЗАГРУЖЕННЫЙ'!A:A,1,0) -> AGUAZUL
A9: ALBAN | B9: 10 | C9: 11001000 | D9: BOGOTA | E9: BOGOTA-CUNDINAMARCA | F9: LUN, MAR, MIE, JUE, VIE, SAB | G9: 391 | H9: 25019 | I9: 0 | J9: REGIONAL CENTRO | K9: ALBAN-CUNDINAMARCA | L9: ALBAN | N9: 1 | O9: 1440 | P9: ZONAL | Q9: PESO: 50 kgs LARGO: 150 cms ANCHO: 100 cms ALTO: 100 cms | R9: =VLOOKUP(A9,'[1]КЛАДР РАНЕЕ ЗАГРУЖЕННЫЙ'!A:A,1,0) -> ALBAN
A10: ALBANIA (S) | B10: 10 | C10: 11001000 | D10: BOGOTA | E10: BOGOTA-CUNDINAMARCA | F10: LUN, MAR, MIE, JUE, VIE, SAB | G10: 958 | H10: 68020 | I10: 0 | J10: BOYACA | K10: ALBANIA (S)-SANTANDER | L10: ALBANIA (S) | M10: LUN, MAR, MIE, JUE, VIE, SAB | N10: 2 | O10: 2880 | P10: NACIONAL | Q10: PESO: 30 kgs LARGO: 40 cms ANCHO: 40 cms ALTO: 40 cms | R10: =VLOOKUP(A10,'[1]КЛАДР РАНЕЕ ЗАГРУЖЕННЫЙ'!A:A,1,0) -> ALBANIA (S)
A11: ALBANIA | B11: 10 | C11: 11001000 | D11: BOGOTA | E11: BOGOTA-CUNDINAMARCA | F11: LUN, MAR, MIE, JUE, VIE, SAB | G11: 676 | H11: 44035 | I11: 0 | J11: NORTE | K11: ALBANIA-LA GUAJIRA | L11: ALBANIA | M11: LUN, MAR, MIE, JUE, VIE | N11: 3 | O11: 4320 | P11: NACIONAL | Q11: PESO: 50 kgs LARGO: 100 cms ANCHO: 100 cms ALTO: 100 cms | R11: =VLOOKUP(A11,'[1]КЛАДР РАНЕЕ ЗАГРУЖЕННЫЙ'!A:A,1,0) -> ALBANIA
A12: ALTO POMPEYA | B12: 10 | C12: 11001000 | D12: BOGOTA | E12: BOGOTA-CUNDINAMARCA | F12: LUN, MAR, MIE, JUE, VIE, SAB | G12: 1070 | H12: 50001 | I12: 15 | J12: LLANOS | K12: ALTO POMPEYA-META(CAS) | L12: ALTO POMPEYA | M12: LUN, MAR, MIE, JUE, VIE, SAB | N12: 2 | O12: 2880 | P12: NACIONAL | Q12: PESO: 500 kgs LARGO: 300 cms ANCHO: 200 cms ALTO: 200 cms | R12: =VLOOKUP(A12,'[1]КЛАДР РАНЕЕ ЗАГРУЖЕННЫЙ'!A:A,1,0) -> ALTO POMPEYA
A13: ALVARADO | B13: 10 | C13: 11001000 | D13: BOGOTA | E13: BOGOTA-CUNDINAMARCA | F13: LUN, MAR, MIE, JUE, VIE, SAB | G13: 599 | H13: 73026 | I13: 0 | J13: EJE CAFETERO | K13: ALVARADO-TOLIMA | L13: ALVARADO | N13: 2 | O13: 2880 | P13: NACIONAL | Q13: PESO: 50 kgs LARGO: 100 cms ANCHO: 100 cms ALTO: 100 cms | R13: =VLOOKUP(A13,'[1]КЛАДР РАНЕЕ ЗАГРУЖЕННЫЙ'!A:A,1,0) -> ALVARADO
A14: AMBALEMA | B14: 10 | C14: 11001000 | D14: BOGOTA | E14: BOGOTA-CUNDINAMARCA | F14: LUN, MAR, MIE, JUE, VIE, SAB | G14: 787 | H14: 73030 | I14: 0 | J14: EJE CAFETERO | K14: AMBALEMA-TOLIMA | L14: AMBALEMA | N14: 3 | O14: 4320 | P14: NACIONAL | Q14: PESO: 50 kgs LARGO: 50 cms ANCHO: 50 cms ALTO: 50 cms | R14: =VLOOKUP(A14,'[1]КЛАДР РАНЕЕ ЗАГРУЖЕННЫЙ'!A:A,1,0) -> AMBALEMA
A15: ANAPOIMA | B15: 10 | C15: 11001000 | D15: BOGOTA | E15: BOGOTA-CUNDINAMARCA | F15: LUN, MAR, MIE, JUE, VIE, SAB | G15: 190 | H15: 25035 | I15: 0 | J15: REGIONAL CENTRO | K15: ANAPOIMA-CUNDINAMARCA | L15: ANAPOIMA | M15: LUN, MAR, MIE, JUE, VIE, SAB | N15: 1 | O15: 1440 | P15: ZONAL | Q15: PESO: 100 kgs LARGO: 150 cms ANCHO: 100 cms ALTO: 100 cms | R15: =VLOOKUP(A15,'[1]КЛАДР РАНЕЕ ЗАГРУЖЕННЫЙ'!A:A,1,0) -> ANAPOIMA
A16: ANDALUCIA | B16: 10 | C16: 11001000 | D16: BOGOTA | E16: BOGOTA-CUNDINAMARCA | F16: LUN, MAR, MIE, JUE, VIE, SAB | G16: 166 | H16: 76036 | I16: 0 | J16: OCCIDENTE | K16: ANDALUCIA-VALLE | L16: ANDALUCIA | N16: 1 | O16: 1440 | P16: NACIONAL | Q16: PESO: 50 kgs LARGO: 60 cms ANCHO: 60 cms ALTO: 60 cms | R16: =VLOOKUP(A16,'[1]КЛАДР РАНЕЕ ЗАГРУЖЕННЫЙ'!A:A,1,0) -> ANDALUCIA
A17: ANOLAIMA | B17: 10 | C17: 11001000 | D17: BOGOTA | E17: BOGOTA-CUNDINAMARCA | F17: LUN, MAR, MIE, JUE, VIE, SAB | G17: 255 | H17: 25040 | I17: 0 | J17: REGIONAL CENTRO | K17: ANOLAIMA-CUNDINAMARCA | L17: ANOLAIMA | M17: LUN, MAR, MIE, JUE, VIE, SAB | N17: 1 | O17: 1440 | P17: ZONAL | Q17: PESO: 50 kgs LARGO: 150 cms ANCHO: 100 cms ALTO: 100 cms | R17: =VLOOKUP(A17,'[1]КЛАДР РАНЕЕ ЗАГРУЖЕННЫЙ'!A:A,1,0) -> ANOLAIMA
A18: ANSERMA NUEVO | B18: 10 | C18: 11001000 | D18: BOGOTA | E18: BOGOTA-CUNDINAMARCA | F18: LUN, MAR, MIE, JUE, VIE, SAB | G18: 797 | H18: 76041 | I18: 0 | J18: EJE CAFETERO | K18: ANSERMA NUEVO-VALLE | L18: ANSERMA NUEVO | N18: 2 | O18: 2880 | P18: NACIONAL | Q18: PESO: 45 kgs LARGO: 45 cms ANCHO: 45 cms ALTO: 45 cms | R18: =VLOOKUP(A18,'[1]КЛАДР РАНЕЕ ЗАГРУЖЕННЫЙ'!A:A,1,0) -> ANSERMA NUEVO
A19: ANSERMA | B19: 10 | C19: 11001000 | D19: BOGOTA | E19: BOGOTA-CUNDINAMARCA | F19: LUN, MAR, MIE, JUE, VIE, SAB | G19: 110 | H19: 17042 | I19: 0 | J19: EJE CAFETERO | K19: ANSERMA-CALDAS | L19: ANSERMA | N19: 2 | O19: 2880 | P19: NACIONAL | Q19: PESO: 400 kgs LARGO: 400 cms ANCHO: 400 cms ALTO: 400 cms | R19: =VLOOKUP(A19,'[1]КЛАДР РАНЕЕ ЗАГРУЖЕННЫЙ'!A:A,1,0) -> ANSERMA
A20: APARTADO | B20: 10 | C20: 11001000 | D20: BOGOTA | E20: BOGOTA-CUNDINAMARCA | F20: LUN, MAR, MIE, JUE, VIE, SAB | G20: 2 | H20: 50450 | I20: 0 | J20: ANTIOQUIA | K20: APARTADO-ANTIOQUIA | L20: APARTADO | N20: 2 | O20: 2880 | P20: NACIONAL | Q20: PESO: 1000 kgs LARGO: 400 cms ANCHO: 180 cms ALTO: 170 cms | R20: =VLOOKUP(A20,'[1]КЛАДР РАНЕЕ ЗАГРУЖЕННЫЙ'!A:A,1,0) -> APARTADO
A21: APIAY | B21: 10 | C21: 11001000 | D21: BOGOTA | E21: BOGOTA-CUNDINAMARCA | F21: LUN, MAR, MIE, JUE, VIE, SAB | G21: 653 | H21: 50001 | I21: 19 | J21: LLANOS | K21: APIAY-META(CENTPOBL) | L21: APIAY | N21: 2 | O21: 2880 | P21: NACIONAL | Q21: PESO: 1000 kgs LARGO: 400 cms ANCHO: 180 cms ALTO: 170 cms | R21: =VLOOKUP(A21,'[1]КЛАДР РАНЕЕ ЗАГРУЖЕННЫЙ'!A:A,1,0) -> APIAY
A22: APULO | B22: 10 | C22: 11001000 | D22: BOGOTA | E22: BOGOTA-CUNDINAMARCA | F22: LUN, MAR, MIE, JUE, VIE, SAB | G22: 191 | H22: 25599 | I22: 0 | J22: REGIONAL CENTRO | K22: APULO-CUNDINAMARCA | L22: APULO | M22: LUN, MAR, MIE, JUE, VIE, SAB | N22: 1 | O22: 1440 | P22: ZONAL | Q22: PESO: 1000 kgs LARGO: 400 cms ANCHO: 180 cms ALTO: 170 cms | R22: =VLOOKUP(A22,'[1]КЛАДР РАНЕЕ ЗАГРУЖЕННЫЙ'!A:A,1,0) -> APULO
A23: AQUITANIA | B23: 10 | C23: 11001000 | D23: BOGOTA | E23: BOGOTA-CUNDINAMARCA | F23: LUN, MAR, MIE, JUE, VIE, SAB | G23: 323 | H23: 15047 | I23: 0 | J23: BOYACA | K23: AQUITANIA-BOYACA | L23: AQUITANIA | M23: LUN, MAR, MIE, JUE, VIE | N23: 1 | O23: 1440 | P23: NACIONAL | Q23: PESO: 1000 kgs LARGO: 400 cms ANCHO: 180 cms ALTO: 170 cms | R23: =VLOOKUP(A23,'[1]КЛАДР РАНЕЕ ЗАГРУЖЕННЫЙ'!A:A,1,0) -> AQUITANIA
A24: ARACATACA | B24: 10 | C24: 11001000 | D24: BOGOTA | E24: BOGOTA-CUNDINAMARCA | F24: LUN, MAR, MIE, JUE, VIE, SAB | G24: 155 | H24: 47053 | I24: 0 | J24: NORTE | K24: ARACATACA-MAGDALENA | L24: ARACATACA | M24: LUN, MAR, MIE, JUE, VIE | N24: 2 | O24: 2880 | P24: NACIONAL | Q24: PESO: 1000 kgs LARGO: 400 cms ANCHO: 180 cms ALTO: 170 cms | R24: =VLOOKUP(A24,'[1]КЛАДР РАНЕЕ ЗАГРУЖЕННЫЙ'!A:A,1,0) -> ARACATACA
A25: ARANZAZU | B25: 10 | C25: 11001000 | D25: BOGOTA | E25: BOGOTA-CUNDINAMARCA | F25: LUN, MAR, MIE, JUE, VIE, SAB | G25: 789 | H25: 17050 | I25: 0 | J25: EJE CAFETERO | K25: ARANZAZU-CALDAS | L25: ARANZAZU | M25: LUN, MIE, VIE | N25: 4 | O25: 5760 | P25: NACIONAL | Q25: PESO: 1000 kgs LARGO: 400 cms ANCHO: 180 cms ALTO: 170 cms | R25: =VLOOKUP(A25,'[1]КЛАДР РАНЕЕ ЗАГРУЖЕННЫЙ'!A:A,1,0) -> ARANZAZU
A26: ARATOCA | B26: 10 | C26: 11001000 | D26: BOGOTA | E26: BOGOTA-CUNDINAMARCA | F26: LUN, MAR, MIE, JUE, VIE, SAB | G26: 459 | H26: 68051 | I26: 0 | J26: ORIENTE | K26: ARATOCA-SANTANDER | L26: ARATOCA | M26: LUN, MAR, MIE, JUE, VIE, SAB | N26: 1 | O26: 1440 | P26: NACIONAL | Q26: PESO: 1000 kgs LARGO: 400 cms ANCHO: 180 cms ALTO: 170 cms | R26: =VLOOKUP(A26,'[1]КЛАДР РАНЕЕ ЗАГРУЖЕННЫЙ'!A:A,1,0) -> ARATOCA
A27: ARBELAEZ | B27: 10 | C27: 11001000 | D27: BOGOTA | E27: BOGOTA-CUNDINAMARCA | F27: LUN, MAR, MIE, JUE, VIE, SAB | G27: 515 | H27: 25053 | I27: 0 | J27: REGIONAL CENTRO | K27: ARBELAEZ-CUNDINAMARCA | L27: ARBELAEZ | M27: LUN, MIE, VIE | N27: 2 | O27: 2880 | P27: NACIONAL | Q27: PESO: 1000 kgs LARGO: 400 cms ANCHO: 180 cms ALTO: 170 cms | R27: =VLOOKUP(A27,'[1]КЛАДР РАНЕЕ ЗАГРУЖЕННЫЙ'!A:A,1,0) -> ARBELAEZ
A28: ARBOLEDAS | B28: 10 | C28: 11001000 | D28: BOGOTA | E28: BOGOTA-CUNDINAMARCA | F28: LUN, MAR, MIE, JUE, VIE, SAB | G28: 503 | H28: 54051 | I28: 0 | J28: ORIENTE | K28: ARBOLEDAS-NORTE DE SANTANDER | L28: ARBOLEDAS | M28: LUN, MAR, MIE, JUE, VIE, SAB | N28: 5 | O28: 7200 | P28: TRAYECTO ESPECIAL | Q28: PESO: 50 kgs LARGO: 50 cms ANCHO: 50 cms ALTO: 50 cms | R28: =VLOOKUP(A28,'[1]КЛАДР РАНЕЕ ЗАГРУЖЕННЫЙ'!A:A,1,0) -> ARBOLEDAS
A29: ARCABUCO | B29: 10 | C29: 11001000 | D29: BOGOTA | E29: BOGOTA-CUNDINAMARCA | F29: LUN, MAR, MIE, JUE, VIE, SAB | G29: 324 | H29: 15051 | I29: 0 | J29: BOYACA | K29: ARCABUCO-BOYACA | L29: ARCABUCO | M29: LUN, MIE, VIE | N29: 1 | O29: 1440 | P29: NACIONAL | Q29: PESO: 1000 kgs LARGO: 400 cms ANCHO: 180 cms ALTO: 170 cms | R29: =VLOOKUP(A29,'[1]КЛАДР РАНЕЕ ЗАГРУЖЕННЫЙ'!A:A,1,0) -> ARCABUCO
A30: ARGELIA (V) | B30: 10 | C30: 11001000 | D30: BOGOTA | E30: BOGOTA-CUNDINAMARCA | F30: LUN, MAR, MIE, JUE, VIE, SAB | G30: 1172 | H30: 76054 | I30: 0 | J30: EJE CAFETERO | K30: ARGELIA (V)-VALLE | L30: ARGELIA (V) | M30: LUN, MIE, VIE | N30: 4 | O30: 5760 | P30: NACIONAL | Q30: PESO: 1000 kgs LARGO: 400 cms ANCHO: 180 cms ALTO: 170 cms | R30: =VLOOKUP(A30,'[1]КЛАДР РАНЕЕ ЗАГРУЖЕННЫЙ'!A:A,1,0) -> ARGELIA (V)
A31: ARJONA B | B31: 10 | C31: 11001000 | D31: BOGOTA | E31: BOGOTA-CUNDINAMARCA | F31: LUN, MAR, MIE, JUE, VIE, SAB | G31: 657 | H31: 13052 | I31: 0 | J31: NORTE | K31: ARJONA B-BOLIVAR | L31: ARJONA B | M31: LUN, MAR, MIE, JUE, VIE, SAB | N31: 2 | O31: 2880 | P31: NACIONAL | Q31: PESO: 1000 kgs LARGO: 400 cms ANCHO: 180 cms ALTO: 170 cms | R31: =VLOOKUP(A31,'[1]КЛАДР РАНЕЕ ЗАГРУЖЕННЫЙ'!A:A,1,0) -> ARJONA B
A32: ARMENIA (Q) | B32: 10 | C32: 11001000 | D32: BOGOTA | E32: BOGOTA-CUNDINAMARCA | F32: LUN, MAR, MIE, JUE, VIE, SAB | G32: 1 | H32: 63001 | I32: 0 | J32: EJE CAFETERO | K32: ARMENIA (Q)-QUINDIO | L32: ARMENIA (Q) | N32: 1 | O32: 1440 | P32: NACIONAL | Q32: PESO: 1000 kgs LARGO: 400 cms ANCHO: 180 cms ALTO: 170 cms | R32: =VLOOKUP(A32,'[1]КЛАДР РАНЕЕ ЗАГРУЖЕННЫЙ'!A:A,1,0) -> ARMENIA (Q)
A33: ARMERO | B33: 10 | C33: 11001000 | D33: BOGOTA | E33: BOGOTA-CUNDINAMARCA | F33: LUN, MAR, MIE, JUE, VIE, SAB | G33: 475 | H33: 73055 | I33: 0 | J33: EJE CAFETERO | K33: ARMERO-TOLIMA | L33: ARMERO | M33: MAR, JUE, SAB | N33: 2 | O33: 2880 | P33: NACIONAL | Q33: PESO: 1000 kgs LARGO: 400 cms ANCHO: 180 cms ALTO: 170 cms | R33: =VLOOKUP(A33,'[1]КЛАДР РАНЕЕ ЗАГРУЖЕННЫЙ'!A:A,1,0) -> ARMERO
A34: ATACO | B34: 10 | C34: 11001000 | D34: BOGOTA | E34: BOGOTA-CUNDINAMARCA | F34: LUN, MAR, MIE, JUE, VIE, SAB | G34: 1213 | H34: 73067 | I34: 0 | J34: EJE CAFETERO | K34: ATACO-TOLIMA | L34: ATACO | N34: 5 | O34: 7200 | P34: NACIONAL | Q34: PESO: 1000 kgs LARGO: 400 cms ANCHO: 180 cms ALTO: 170 cms | R34: =VLOOKUP(A34,'[1]КЛАДР РАНЕЕ ЗАГРУЖЕННЫЙ'!A:A,1,0) -> ATACO
A35: AYAPEL | B35: 10 | C35: 11001000 | D35: BOGOTA | E35: BOGOTA-CUNDINAMARCA | F35: LUN, MAR, MIE, JUE, VIE, SAB | G35: 106 | H35: 23068 | I35: 0 | J35: ANTIOQUIA | K35: AYAPEL-CORDOBA | L35: AYAPEL | N35: 5 | O35: 7200 | P35: NACIONAL | Q35: PESO: 1000 kgs LARGO: 400 cms ANCHO: 180 cms ALTO: 170 cms | R35: =VLOOKUP(A35,'[1]КЛАДР РАНЕЕ ЗАГРУЖЕННЫЙ'!A:A,1,0) -> AYAPEL
A36: BALBOA | B36: 10 | C36: 11001000 | D36: BOGOTA | E36: BOGOTA-CUNDINAMARCA | F36: LUN, MAR, MIE, JUE, VIE, SAB | G36: 791 | H36: 66075 | I36: 0 | J36: EJE CAFETERO | K36: BALBOA-RISARALDA | L36: BALBOA | M36: LUN, MIE, VIE | N36: 4 | O36: 5760 | P36: NACIONAL | Q36: PESO: 1000 kgs LARGO: 400 cms ANCHO: 180 cms ALTO: 170 cms | R36: =VLOOKUP(A36,'[1]КЛАДР РАНЕЕ ЗАГРУЖЕННЫЙ'!A:A,1,0) -> BALBOA
A37: BARANOA | B37: 10 | C37: 11001000 | D37: BOGOTA | E37: BOGOTA-CUNDINAMARCA | F37: LUN, MAR, MIE, JUE, VIE, SAB | G37: 319 | H37: 8078 | I37: 0 | J37: NORTE | K37: BARANOA-ATLANTICO | L37: BARANOA | N37: 2 | O37: 2880 | P37: NACIONAL | Q37: PESO: 1000 kgs LARGO: 400 cms ANCHO: 180 cms ALTO: 170 cms | R37: =VLOOKUP(A37,'[1]КЛАДР РАНЕЕ ЗАГРУЖЕННЫЙ'!A:A,1,0) -> BARANOA
A38: BARBOSA | B38: 10 | C38: 11001000 | D38: BOGOTA | E38: BOGOTA-CUNDINAMARCA | F38: LUN, MAR, MIE, JUE, VIE, SAB | G38: 281 | H38: 5079 | I38: 0 | J38: ANTIOQUIA | K38: BARBOSA-ANTIOQUIA | L38: BARBOSA | N38: 2 | O38: 2880 | P38: NACIONAL | Q38: PESO: 1000 kgs LARGO: 400 cms ANCHO: 180 cms ALTO: 170 cms | R38: =VLOOKUP(A38,'[1]КЛАДР РАНЕЕ ЗАГРУЖЕННЫЙ'!A:A,1,0) -> BARBOSA
A39: BARBOSA | B39: 10 | C39: 11001000 | D39: BOGOTA | E39: BOGOTA-CUNDINAMARCA | F39: LUN, MAR, MIE, JUE, VIE, SAB | G39: 13 | H39: 68077 | I39: 0 | J39: BOYACA | K39: BARBOSA-SANTANDER | L39: BARBOSA | M39: LUN, MAR, MIE, JUE, VIE, SAB | N39: 1 | O39: 1440 | P39: NACIONAL | Q39: PESO: 1000 kgs LARGO: 400 cms ANCHO: 180 cms ALTO: 170 cms | R39: =VLOOKUP(A39,'[1]КЛАДР РАНЕЕ ЗАГРУЖЕННЫЙ'!A:A,1,0) -> BARBOSA
A40: BARRANCA DE UPIA | B40: 10 | C40: 11001000 | D40: BOGOTA | E40: BOGOTA-CUNDINAMARCA | F40: LUN, MAR, MIE, JUE, VIE, SAB | G40: 1322 | H40: 50110 | I40: 0 | J40: LLANOS | K40: BARRANCA DE UPIA-META | L40: BARRANCA DE UPIA | M40: LUN, MAR, MIE, JUE, VIE, SAB | N40: 2 | O40: 2880 | P40: NACIONAL | Q40: PESO: 1000 kgs LARGO: 400 cms ANCHO: 180 cms ALTO: 170 cms | R40: =VLOOKUP(A40,'[1]КЛАДР РАНЕЕ ЗАГРУЖЕННЫЙ'!A:A,1,0) -> BARRANCA DE UPIA
...

Sheet COD
A3: Row Labels | B3: Count of codigo_postal
A4: NO COD | B4: 0.5661505
A5: COD | B5: 0.4338495
A6: Grand Total | B6: 1

Sheet Coordinadora cover area_
A1: nombre_municipio | B1: nombre_departamento | C1: nombre_municipio | D1: codigo_postal | E1: Coordinadora covering 1
A2: RIONEGRO | B2: SANTANDER | C2: RIONEGRO | D2: 687519 | E2: NO
A3: COLOSO | B3: SUCRE | C3: COLOSO | D3: 707030 | E3: NO
A4: SAN VICENTE | B4: ANTIOQUIA | C4: SAN VICENTE | D4: 54018 | E4: NO
A5: DIBULLA | B5: LA GUAJIRA | C5: DIBULLA | D5: 446007 | E5: NO
A6: RONDON | B6: BOYACA | C6: RONDON | D6: 153420 | E6: NO
A7: PIJIÑO DEL CARMEN | B7: MAGDALENA | C7: PIJIÑO DEL CARMEN | D7: 474048 | E7: NO
A8: QUEBRADANEGRA | B8: CUNDINAMARCA | C8: QUEBRADANEGRA | D8: 253427 | E8: NO
A9: ABEJORRAL | B9: ANTIOQUIA | C9: ABEJORRAL | D9: 55030 | E9: NO
A10: SOATA | B10: BOYACA | C10: SOATA | D10: 151007 | E10: NO
A11: VISTAHERMOSA | B11: META | C11: VISTAHERMOSA | D11: 504068 | E11: NO
A12: MELGAR | B12: TOLIMA | C12: MELGAR | D12: 734007 | E12: SI
A13: ENTRERRIOS | B13: ANTIOQUIA | C13: ENTRERRIOS | D13: 51437 | E13: NO
... A3682: ALGECIRAS | B3682: HUILA | C3682: ALGECIRAS | D3682: 413048 | E3682: NO

Sheet Лист4
A1: codigo_postal | B1: nombre_departamento | C1: nombre_municipio | D1: codigo_postal | E1: Coordinadora covering 1
A2: 687519 | B2: SANTANDER | C2: RIONEGRO | D2: 687519 | E2: NO
A3: 707030 | B3: SUCRE | C3: COLOSO | D3: 707030 | E3: NO
A4: 54018 | B4: ANTIOQUIA | C4: SAN VICENTE | D4: 54018 | E4: NO
A5: 446007 | B5: LA GUAJIRA | C5: DIBULLA | D5: 446007 | E5: NO
A6: 153420 | B6: BOYACA | C6: RONDON | D6: 153420 | E6: NO
A7: 474048 | B7: MAGDALENA | C7: PIJIÑO DEL CARMEN | D7: 474048 | E7: NO
A8: 253427 | B8: CUNDINAMARCA | C8: QUEBRADANEGRA | D8: 253427 | E8: NO
A9: 55030 | B9: ANTIOQUIA | C9: ABEJORRAL | D9: 55030 | E9: NO
A10: 151007 | B10: BOYACA | C10: SOATA | D10: 151007 | E10: NO
A11: 504068 | B11: META | C11: VISTAHERMOSA | D11: 504068 | E11: NO
A12: 734007 | B12: TOLIMA | C12: MELGAR | D12: 734007 | E12: SI
A13: 51437 | B13: ANTIOQUIA | C13: ENTRERRIOS | D13: 51437 | E13: NO
... A3682: 413048 | B3682: HUILA | C3682: ALGECIRAS | D3682: 413048 | E3682: NO

Sheet Servintrega cover area
A1: noid | B1: codigo_departamento | C1: nombre_departamento | D1: codigo_municipio | E1: nombre_municipio | F1: zona_postal | G1: codigo_postal | H1: limite_norte | I1: limite_sur | J1: limite_este | K1: limite_oeste | L1: tipo | M1: barrios_contenidos_en_el_codigo_postal | N1: veredas_contenidas_en_el_codigo_postal | O1: Servientrega covering | P1: Coordinadora covering 1
A2: 3003 | B2: 68 | C2: SANTANDER | D2: 68615 | E2: RIONEGRO | F2: 6875 | G2: 687519 | H2: M. LA ESPE.- CACHI. Y RÍO CÁCHI. | I2: M. LEBRIJA Y RÍO CÁCHI. DEL SUR | J2: MUNICIPIO EL PLAYÓN | K2: MUNICIPIO SABANA DE TORRES | L2: Rural | M2: Sin Informacion de Barrios | N2: Caribe- Irlanda- Puerto Limón- Villa Eva- Bocas | O2: =IFERROR(IF(VLOOKUP(D2,'КЛАДС СЕРВИНТРЕГА'!$H$1:$H$524,1,FALSE),"COD",),"NO COD") -> COD
A3: 3089 | B3: 70 | C3: SUCRE | D3: 70204 | E3: COLOSO | F3: 7070 | G3: 707030 | H3: KR 2 | I3: LIMITE URBANO | J3: CL 1 | K3: LIMITE URBANO | L3: Urbano | M3: 6 de Enero- Calle Nueva- Villa María | N3: Sin Informacion de Veredas | O3: =IFERROR(IF(VLOOKUP(D3,'КЛАДС СЕРВИНТРЕГА'!$H$1:$H$524,1,FALSE),"COD",),"NO COD") -> NO COD
A4: 183 | B4: 5 | C4: ANTIOQUIA | D4: 5674 | E4: SAN VICENTE | F4: 540 | G4: 54018 | H4: VIA SAN VICENTE - CONCEPCION | I4: M. MARINILLA Y RÍO NEGRO | J4: MUNICIPIO PEÑOL | K4: MUNICIPIO GUARNE | L4: Rural | M4: Sin Informacion de Barrios | N4: Compañia Abajo- El Canelo- El Carmelo- La Cabaña- La Peña- Piedra Gorda- Salto Arriba | O4: =IFERROR(IF(VLOOKUP(D4,'КЛАДС СЕРВИНТРЕГА'!$H$1:$H$524,1,FALSE),"COD",),"NO COD") -> NO COD
A5: 2089 | B5: 44 | C5: LA GUAJIRA | D5: 44090 | E5: DIBULLA | F5: 4460 | G5: 446007 | H5: MAR CARIBE | I5: VÍA RIOHACHA-SANTA MARTA | J5: MUNICIPIO RIOHACHA | K5: VÍA CASA DE ALUMINIO-MAR CARIBE | L5: Rural | M5: Sin Informacion de Barrios | N5: Sin Informacion de Veredas | O5: =IFERROR(IF(VLOOKUP(D5,'КЛАДС СЕРВИНТРЕГА'!$H$1:$H$524,1,FALSE),"COD",),"NO COD") -> COD
A6: 877 | B6: 15 | C6: BOYACA | D6: 15621 | E6: RONDON | F6: 1534 | G6: 153420 | H6: LIMITE URBANO | I6: LIMITE URBANO | J6: LIMITE URBANO | K6: LIMITE URBANO | L6: Urbano | M6: Sin Informacion de Barrios | N6: Sin Informacion de Veredas | O6: =IFERROR(IF(VLOOKUP(D6,'КЛАДС СЕРВИНТРЕГА'!$H$1:$H$524,1,FALSE),"COD",),"NO COD") -> NO COD
A7: 2129 | B7: 47 | C7: MAGDALENA | D7: 47545 | E7: PIJIÑO DEL CARMEN | F7: 4740 | G7: 474048 | H7: MUNICIPIO SANTA ANA | I7: M. ASTREA Y SAN SEBAS. DE BUENAVIS. | J7: MUNICIPIO EL PASO | K7: RÍO (PERMANENTE) | L7: Rural | M7: Sin Informacion de Barrios | N7: Casa Blanca- San Jose de Prevension | O7: =IFERROR(IF(VLOOKUP(D7,'КЛАДС СЕРВИНТРЕГА'!$H$1:$H$524,1,FALSE),"COD",),"NO COD") -> NO COD
A8: 1765 | B8: 25 | C8: CUNDINAMARCA | D8: 25592 | E8: QUEBRADANEGRA | F8: 2534 | G8: 253427 | H8: MUNICIPIO UTICA | I8: MUNICIPIO VILLETA | J8: MUNICIPIO NIMAIMA | K8: MUNICIPIO GUADUAS | L8: Rural | M8: Sin Informacion de Barrios | N8: Cune- GALETA- HATO- LA ESPERANZA- LA FLORIDA- LA UNION- NACEDEROS- Salitre Blanco- Salitre Negro | O8: =IFERROR(IF(VLOOKUP(D8,'КЛАДС СЕРВИНТРЕГА'!$H$1:$H$524,1,FALSE),"COD",),"NO COD") -> NO COD
A9: 228 | B9: 5 | C9: ANTIOQUIA | D9: 5002 | E9: ABEJORRAL | F9: 550 | G9: 55030 | H9: LIMITE URBANO | I9: LIMITE URBANO | J9: LIMITE URBANO | K9: LIMITE URBANO | L9: Urbano | M9: Sin Informacion de Barrios | N9: Alto de Letras | O9: =IFERROR(IF(VLOOKUP(D9,'КЛАДС СЕРВИНТРЕГА'!$H$1:$H$524,1,FALSE),"COD",),"NO COD") -> NO COD
A10: 745 | B10: 15 | C10: BOYACA | D10: 15753 | E10: SOATA | F10: 1510 | G10: 151007 | H10: MPIO. TIPACOQUE | I10: MUNICIPIO SUSACÓN | J10: MUNICIPIO BOAVITA | K10: MUNICIPIO ONZAGA | L10: Rural | M10: Sin Informacion de Barrios | N10: Cabecera Municipal- Cañabravo- Centro- Centro- El Espinal- El Espinal- La Chorrera- Llano Grande- LLanoGrande | O10: =IFERROR(IF(VLOOKUP(D10,'КЛАДС СЕРВИНТРЕГА'!$H$1:$H$524,1,FALSE),"COD",),"NO COD") -> COD
A11: 2248 | B11: 50 | C11: META | D11: 50711 | E11: VISTAHERMOSA | F11: 5040 | G11: 504068 | H11: RÍO GUEJAR- CAÑO TUBO Y CACHAMA | I11: MPIO. SAN J. DEL GAVIARE | J11: MUNICIPIO PUERTO RICO | K11: MUNICIPIO LA MACARENA | L11: Rural | M11: Sin Informacion de Barrios | N11: Angoleta- Argentina- Bajo Vergel- Brisas del Guejar- Cachicamo- Charcon- Puerto Nuevo | O11: =IFERROR(IF(VLOOKUP(D11,'КЛАДС СЕРВИНТРЕГА'!$H$1:$H$524,1,FALSE),"COD",),"NO COD") -> COD
A12: 3190 | B12: 73 | C12: TOLIMA | D12: 73449 | E12: MELGAR | F12: 7340 | G12: 734007 | H12: MUNICIPIO NILO | I12: MUNICIPIO CUNDAY | J12: MUNICIPIO ICONONZO | K12: MPIO. CARMEN DE APICALÁ | L12: Rural | M12: Sin Informacion de Barrios | N12: Buenavista- Calcuta- Cualamaná- El Águila- El Águila Baja- El Floral- Inalí- La Primavera | O12: =IFERROR(IF(VLOOKUP(D12,'КЛАДС СЕРВИНТРЕГА'!$H$1:$H$524,1,FALSE),"COD",),"NO COD") -> COD
A13: 68 | B13: 5 | C13: ANTIOQUIA | D13: 5264 | E13: ENTRERRIOS | F13: 514 | G13: 51437 | H13: MUNICIPIO BELMIRA | I13: M. SAN PEDRO DE LOS MI. | J13: M. STA ROSA DE OSOS | K13: MUNICIPIO BELMIRA | L13: Rural | M13: Sin Informacion de Barrios | N13: Cabecera Municipal- Cucurucho- El Botón- El Peñol- El Progreso- Embalse Río Grande- La Muñoz- La Planta- Las Brisas- Los Salados- Orobajo Río Grande- Pío XII- Quebrada del Medio- Río Chico- Río Grande- Riochico- Tesorero- Verbenal | O13: =IFERROR(IF(VLOOKUP(D13,'КЛАДС СЕРВИНТРЕГА'!$H$1:$H$524,1,FALSE),"COD",),"NO COD") -> NO COD
... A800: 791 | B800: 15 | C800: BOYACA | D800: 15820 | E800: TOPAGA | F800: 1520 | G800: 152047 | H800: MPIO. CORRALES Y GAMEZA | I800: MPIO. MONGUI Y MONGUA | J800: MPIO. GAMEZA Y MONGUA | K800: MPIO. NOBSA Y SOGAMOSO | L800: Rural | M800: Sin Informacion de Barrios | N800: Sin Informacion de Veredas | O800: =IFERROR(IF(VLOOKUP(D800,'КЛАДС СЕРВИНТРЕГА'!$H$1:$H$524,1,FALSE),"COD",),"NO COD") -> COD
A801: 356 | B801: 5 | C801: ANTIOQUIA | D801: 5842 | E801: URAMITA | F801: 574 | G801: 57447 | H801: MUNICIPIO BEBEIBA | I801: M. C. GORDAS Y FRONTINO | J801: M. CAÑASGORDAS Y PEQUE | K801: 0 | L801: Rural | M801: Sin Informacion de Barrios | N801: Alto del Pital- Ambalema- Arenales- Balcon- Barrancon- Botija Arriba- Buena Vista- Caliche- Caracolal- Caunce- Chachafrutal- Chontadural- Chontaduro- Cominal- Corozo- Cumbre- El Llano- El Palón- El Pital- Encalichada- Esperanza Botija- | O801: =IFERROR(IF(VLOOKUP(D801,'КЛАДС СЕРВИНТРЕГА'!$H$1:$H$524,1,FALSE),"COD",),"NO COD") -> NO COD
A802: 2734 | B802: 68 | C802: SANTANDER | D802: 68001 | E802: BUCARAMANGA | F802: 6800 | G802: 680002 | H802: LIMITE URBANO | I802: CL 45 | J802: LIMITE URBANO | K802: KR 24 | L802: Urbano | M802: Albania- Antonia Santos- Aurora- Buenos Aires- Cuartel- El Prado- Galán- Las Américas- Los Pinos- Mejoras Públicas- Miraflores- Morrorico- Planta La Flora- Quinta Brigada- San Alonso- U.I.S- Universidad- Vegas de Morrorico | N802: Gualilo Alto- La Malaña- Pedregal- San José | O802: =IFERROR(IF(VLOOKUP(D802,'КЛАДС СЕРВИНТРЕГА'!$H$1:$H$524,1,FALSE),"COD",),"NO COD") -> COD
A803: 2748 | B803: 68 | C803: SANTANDER | D803: 68820 | E803: TONA | F803: 6805 | G803: 680541 | H803: LIMITE URBANO | I803: CL 1 | J803: TV 1 | K803: KR 5A | L803: Urbano | M803: Sin Informacion de Barrios | N803: Sin Informacion de Veredas | O803: =IFERROR(IF(VLOOKUP(D803,'КЛАДС СЕРВИНТРЕГА'!$H$1:$H$524,1,FALSE),"COD",),"NO COD") -> NO COD
A804: 13 | B804: 5 | C804: ANTIOQUIA | D804: 5001 | E804: MEDELLIN | F804: 500 | G804: 50015 | H804: CL 49 | I804: CL 29 | J804: KR 46 Y 43A | K804: KR 61- 63 Y 49 | L804: Urbano | M804: Calle Nueva- Centro Administrativo- Corazón de Jesús- Guayaquil- La Alpujarra- Perpetuo Socorro | N804: Sin Informacion de Veredas | O804: =IFERROR(IF(VLOOKUP(D804,'КЛАДС СЕРВИНТРЕГА'!$H$1:$H$524,1,FALSE),"COD",),"NO COD") -> NO COD
A805: 3069 | B805: 70 | C805: SUCRE | D805: 70215 | E805: COROZAL | F805: 7050 | G805: 705037 | H805: MPIO. MORROA Y LOS PALMITOS | I805: AY. PULETAD Y VÍA LAS PALMAS-EL MAMÓN | J805: MPIO. SAN JUAN DE BETULIA | K805: MUNICIPIO SINCELEJO | L805: Rural | M805: Brucelas- Luis Carlos Galán- Marruecos | N805: El Mamon- Rincon de Las Flores | O805: =IFERROR(IF(VLOOKUP(D805,'КЛАДС СЕРВИНТРЕГА'!$H$1:$H$524,1,FALSE),"COD",),"NO COD") -> COD
A806: 2638 | B806: 54 | C806: NORTE DE SANTANDER | D806: 54206 | E806: CONVENCION | F806: 5470 | G806: 547057 | H806: MPIO. EL CARMEN Y PAÍS VENEZUELA | I806: MUNICIPIO TEORAMA | J806: PAÍS VENEZUELA | K806: RÍO SAYÁN BOKY Y M. EL CARMEN | L806: Rural | M806: Sin Informacion de Barrios | N806: Sin Informacion de Veredas | O806: =IFERROR(IF(VLOOKUP(D806,'КЛАДС СЕРВИНТРЕГА'!$H$1:$H$524,1,FALSE),"COD",),"NO COD") -> COD
A807: 3037 | B807: 70 | C807: SUCRE | D807: 70717 | E807: SAN PEDRO | F807: 7020 | G807: 702018 | H807: MPIO. OVEJAS Y LOS PALMITOS | I807: MPIO. SAN LUIS DE SINCE | J807: RÍO (PERMANENTE) | K807: MPIO. SAN LUIS DE SINCE | L807: Rural | M807: Sin Informacion de Barrios | N807: Calabozo- El Bajo de La Alegría- El Delirio- La Distancia- Los Chijetes- Los Galapagos- Monte Bazan- Oro Blanco- Paja Vieja- Paja Vieja- Perendengue- Perendengue- Rosario 1 y 2- Róvira- San Francisco- Santa Inés | O807: =IFERROR(IF(VLOOKUP(D807,'КЛАДС СЕРВИНТРЕГА'!$H$1:$H$524,1,FALSE),"COD",),"NO COD") -> COD
A808: 794 | B808: 15 | C808: BOYACA | D808: 15114 | E808: BUSBANZA | F808: 1520 | G808: 152080 | H808: KR 1 | I808: KR 5 | J808: CL 0 | K808: CL 6 | L808: Urbano | M808: Sin Informacion de Barrios | N808: Sin Informacion de Veredas | O808: =IFERROR(IF(VLOOKUP(D808,'КЛАДС СЕРВИНТРЕГА'!$H$1:$H$524,1,FALSE),"COD",),"NO COD") -> NO COD
A809: 536 | B809: 11 | C809: BOGOTA D.C. | D809: 11001 | E809: LOCALIDAD CIUDAD BOLIVAR | F809: 1119 | G809: 111971 | H809: CL 97 S | I809: BARRIO MUCHUELO ALTO RURAL | J809: RIO TUNJUELITO | K809: M. SOACHA | L809: Rural | M809: Brazuelos Occidental- Brazuelos Occidental Rural- Mochuelo Alto- Mochuelo Alto Rural- Quiba Alto | N809: Cabecera Municipal- SAN JORGE | O809: =IFERROR(IF(VLOOKUP(D809,'КЛАДС СЕРВИНТРЕГА'!$H$1:$H$524,1,FALSE),"COD",),"NO COD") -> NO COD
A810: 3530 | B810: 86 | C810: PUTUMAYO | D810: 86569 | E810: PUERTO CAICEDO | F810: 8620 | G810: 862080 | H810: LIMITE URBANO | I810: LIMITE URBANO | J810: LIMITE URBANO | K810: LIMITE URBANO | L810: Urbano | M810: Sin Informacion de Barrios | N810: Sin Informacion de Veredas | O810: =IFERROR(IF(VLOOKUP(D810,'КЛАДС СЕРВИНТРЕГА'!$H$1:$H$524,1,FALSE),"COD",),"NO COD") -> NO COD
A811: 1883 | B811: 27 | C811: CHOCO | D811: 27495 | E811: NUQUI | F811: 2760 | G811: 276050 | H811: LIMITE URBANO | I811: LIMITE URBANO | J811: LIMITE URBANO | K811: LIMITE URBANO | L811: Urbano | M811: Sin Informacion de Barrios | N811: Sin Informacion de Veredas | O811: =IFERROR(IF(VLOOKUP(D811,'КЛАДС СЕРВИНТРЕГА'!$H$1:$H$524,1,FALSE),"COD",),"NO COD") -> NO COD
A812: 2509 | B812: 52 | C812: NARIÑO | D812: 52079 | E812: BARBACOAS | F812: 5280 | G812: 528078 | H812: RÍO GUIZA | I812: ECUADOR Y MPIO. RICAURTE | J812: RÍO GUIZA | K812: MPIO. SAN ANDRES DE TUMACO | L812: Rural | M812: Sin Informacion de Barrios | N812: Sin Informacion de Veredas | O812: =IFERROR(IF(VLOOKUP(D812,'КЛАДС СЕРВИНТРЕГА'!$H$1:$H$524,1,FALSE),"COD",),"NO COD") -> NO COD
A813: 533 | B813: 11 | C813: BOGOTA D.C. | D813: 11001 | E813: LOCALIDAD CIUDAD BOLIVAR | F813: 1119 | G813: 111941 | H813: KR 40- 42 Y 45B | I813: KR 18Z Y 19D | J813: AC VILLAVICENCIO | K813: M. SOACHA | L813: Urbano | M813: Arborizadora Alta- Arborizadora Alta- Arborizadora Alta- Arborizadora Alta- Candelaria La Nueva- Cerro Colorado- Ciudad Bolívar- Ciudad Bolívar Rural III- El Satélite- Juan José Rondón- Las Acacias- Las Manas- Los Laureles II- Ronda- San Francisco- Villa | N813: Sin Informacion de Veredas | O813: =IFERROR(IF(VLOOKUP(D813,'КЛАДС СЕРВИНТРЕГА'!$H$1:$H$524,1,FALSE),"COD",),"NO COD") -> NO COD
... A2612: 3202 | B2612: 73 | C2612: TOLIMA | D2612: 73585 | E2612: PURIFICACION | F2612: 7345 | G2612: 734508 | H2612: VÍA SALDAÑA-EL BAURA-SAN CAYETANO | I2612: MPIO. COYAIMA Y PRADO | J2612: VÍA PRADO-SAN CAYETANO | K2612: MUNICIPIO SALDAÑA | L2612: Rural | M2612: Sin Informacion de Barrios | N2612: Añiles- Buenavista- Cabecera Municipal- Catalan- Chenche A Sector 2- Chenche A.Sector Palmas- Chenche Tres- Chenches Asoleados- Conchal- El Salitre- El Tambo- Hilarco- La Holanda- La Mata- La Ovejera- Primavera- Purificación- Romolinos- S | O2612: =IFERROR(IF(VLOOKUP(D2612,'КЛАДС СЕРВИНТРЕГА'!$H$1:$H$524,1,FALSE),"COD",),"NO COD") -> COD
A2613: 2327 | B2613: 52 | C2613: NARIÑO | D2613: 52019 | E2613: SAN JOSE DE ALBAN | F2613: 5210 | G2613: 521050 | H2613: LIMITE URBANO | I2613: LIMITE URBANO | J2613: LIMITE URBNO | L2613: Urbano | M2613: Sin Informacion de Barrios | N2613: Buenavista- Cabecera Municipal- El Carmelo- Fátima- San Luis | O2613: =IFERROR(IF(VLOOKUP(D2613,'КЛАДС СЕРВИНТРЕГА'!$H$1:$H$524,1,FALSE),"COD",),"NO COD") -> NO COD
A2614: 576 | B2614: 13 | C2614: BOLIVAR | D2614: 13838 | E2614: TURBANA | F2614: 1310 | G2614: 131010 | H2614: CL 27 | I2614: CL 1 | J2614: KR 1 | K2614: KR 22 | L2614: Urbano | M2614: Sin Informacion de Barrios | N2614: Sin Informacion de Veredas | O2614: =IFERROR(IF(VLOOKUP(D2614,'КЛАДС СЕРВИНТРЕГА'!$H$1:$H$524,1,FALSE),"COD",),"NO COD") -> NO COD
A2615: 520 | B2615: 11 | C2615: BOGOTA D.C. | D2615: 11001 | E2615: LOCALIDAD LOS MARTIRES | F2615: 1114 | G2615: 111411 | H2615: AC 26 | I2615: AC 1 | J2615: AK CARACAS - AK 14 | K2615: AK 30 | L2615: Urbano | M2615: Colseguros- Eduardo Santos- El Listón- El Progreso- El Vergel- Florida- La Estanzuela- La Favorita- La Pepita- La Sabana- Paloquemao- Ricaurte- Samper Mendoza- San Victorino- Santa Fé- Santa Isabel- Santa Isabel Sur- Usatama- Veraguas- Voto Nacional | N2615: Sin Informacion de Veredas | O2615: =IFERROR(IF(VLOOKUP(D2615,'КЛАДС СЕРВИНТРЕГА'!$H$1:$H$524,1,FALSE),"COD",),"NO COD") -> NO COD
A2616: 2170 | B2616: 47 | C2616: MAGDALENA | D2616: 47675 | E2616: SALAMINA | F2616: 4770 | G2616: 477040 | H2616: CL 22 | I2616: LIMITE URBANO | J2616: KR 24 | K2616: KR 0 | L2616: Urbano | M2616: Sin Informacion de Barrios | N2616: Sin Informacion de Veredas | O2616: =IFERROR(IF(VLOOKUP(D2616,'КЛАДС СЕРВИНТРЕГА'!$H$1:$H$524,1,FALSE),"COD",),"NO COD") -> NO COD
A2617: 546 | B2617: 13 | C2617: BOLIVAR | D2617: 13001 | E2617: CARTAGENA | F2617: 1300 | G2617: 130005 | H2617: MAR CARIBE | I2617: DG 31 Y TV 53 | J2617: CL 33 | K2617: KR 0 Y 60B | L2617: Urbano | M2617: Chapacua- Chipre- El Gallo- La Castellana- La Floresta- Las Gaviotas- Las Palmeras- Los Alpes- Nuevo Porvenir- Olaya Sr Central- Olaya Sr La Magdalena- Olaya Sr La Puntilla- Olaya Sr Playa Blanca- Olaya Sr Progreso- Olaya Sr Stella- Olaya Sr Zarabanda- Re | N2617: Sin Informacion de Veredas | O2617: =IFERROR(IF(VLOOKUP(D2617,'КЛАДС СЕРВИНТРЕГА'!$H$1:$H$524,1,FALSE),"COD",),"NO COD") -> COD
A2618: 809 | B2618: 15 | C2618: BOYACA | D2618: 15806 | E2618: TIBASOSA | F2618: 1522 | G2618: 152260 | H2618: CL 7 | I2618: DG 3 | J2618: KR 4 E | K2618: KR 12 | L2618: Urbano | M2618: Sin Informacion de Barrios | N2618: Sin Informacion de Veredas | O2618: =IFERROR(IF(VLOOKUP(D2618,'КЛАДС СЕРВИНТРЕГА'!$H$1:$H$524,1,FALSE),"COD",),"NO COD") -> COD
A2619: 124 | B2619: 5 | C2619: ANTIOQUIA | D2619: 5120 | E2619: CACERES | F2619: 524 | G2619: 52450 | H2619: CL 51 | I2619: LIMITE URBANO | J2619: LIMITE URBANO | K2619: LIMITE URBANO | L2619: Urbano | M2619: Sin Informacion de Barrios | N2619: Sin Informacion de Veredas | O2619: =IFERROR(IF(VLOOKUP(D2619,'КЛАДС СЕРВИНТРЕГА'!$H$1:$H$524,1,FALSE),"COD",),"NO COD") -> NO COD
A2620: 1367 | B2620: 20 | C2620: CESAR | D2620: 20517 | E2620: PAILITAS | F2620: 2040 | G2620: 204007 | H2620: MUNICIPIO CHIMICHAGUA | I2620: MUNICIPIO PELAYA | J2620: MUNICIPIO EL CARMEN | K2620: MUNICIPIO TAMALAMEQUE | L2620: Rural | M2620: Sin Informacion de Barrios | N2620: Sin Informacion de Veredas | O2620: =IFERROR(IF(VLOOKUP(D2620,'КЛАДС СЕРВИНТРЕГА'!$H$1:$H$524,1,FALSE),"COD",),"NO COD") -> COD
A2621: 506 | B2621: 11 | C2621: BOGOTA D.C. | D2621: 11001 | E2621: LOCALIDAD SUBA | F2621: 1111 | G2621: 111111 | H2621: CL 138 | I2621: AC 100 | J2621: AU NORTE | K2621: AK SUBA | L2621: Urbano | M2621: Batán- Canódromo- Ciudad Jardín Norte- Estoril- Iberia- Las Villas- Mónaco- Pasadena- Prado Veraniego- Prado Veraniego Norte- Prado Veraniego Sur- Puente Largo- San José del Prado | N2621: Sin Informacion de Veredas | O2621: =IFERROR(IF(VLOOKUP(D2621,'КЛАДС СЕРВИНТРЕГА'!$H$1:$H$524,1,FALSE),"COD",),"NO COD") -> NO COD
A2622: 1465 | B2622: 23 | C2622: CORDOBA | D2622: 23189 | E2622: CIENAGA DE ORO | F2622: 2325 | G2622: 232538 | H2622: CAÑO SOLEDAD Y RÍO (PERMANENTE) | I2622: RÍO (PERMANENTE) | J2622: ARROYO TORRENTES Y RÍO (PERMANENTE) | K2622: MUNICIPIO SAN CARLOS | L2622: Rural | M2622: Sin Informacion de Barrios | N2622: Sin Informacion de Veredas | O2622: =IFERROR(IF(VLOOKUP(D2622,'КЛАДС СЕРВИНТРЕГА'!$H$1:$H$524,1,FALSE),"COD",),"NO COD") -> COD
A2623: 1549 | B2623: 25 | C2623: CUNDINAMARCA | D2623: 25769 | E2623: SUBACHOQUE | F2623: 2502 | G2623: 250228 | H2623: VIA ZIPAQUIRA - LA PRADERA | I2623: MPIO. MADRID Y EL ROSAL | J2623: MUNICIPIO TABIO Y TENJO | K2623: VIA EL ROSAL - LA PRADERA | L2623: Rural | M2623: Sin Informacion de Barrios | N2623: SANTA ROSA | O2623: =IFERROR(IF(VLOOKUP(D2623,'КЛАДС СЕРВИНТРЕГА'!$H$1:$H$524,1,FALSE),"COD",),"NO COD") -> COD
A2624: 953 | B2624: 15 | C2624: BOYACA | D2624: 15176 | E2624: CHIQUINQUIRA | F2624: 1546 | G2624: 154648 | H2624: M. BRICEÑO Y SABOYA | I2624: VÍA CALDAS - CHIQUINQUIRA - SABOYA | J2624: MUNICIPIO SABOYA | K2624: M. BRICEÑO Y CALDAS | L2624: Rural | M2624: Sin Informacion de Barrios | N2624: Sin Informacion de Veredas | O2624: =IFERROR(IF(VLOOKUP(D2624,'КЛАДС СЕРВИНТРЕГА'!$H$1:$H$524,1,FALSE),"COD",),"NO COD") -> COD
...

Sheet Лист1
A1: nombre_departamento | B1: nombre_municipio | C1: codigo_postal | D1: Coordinadora covering 1
A2: SANTANDER | B2: RIONEGRO | C2: 687519 | D2: NO
A3: SUCRE | B3: COLOSO | C3: 707030 | D3: NO
A4: ANTIOQUIA | B4: SAN VICENTE | C4: 54018 | D4: NO
A5: LA GUAJIRA | B5: DIBULLA | C5: 446007 | D5: NO
A6: BOYACA | B6: RONDON | C6: 153420 | D6: NO
A7: MAGDALENA | B7: PIJIÑO DEL CARMEN | C7: 474048 | D7: NO
A8: CUNDINAMARCA | B8: QUEBRADANEGRA | C8: 253427 | D8: NO
A9: ANTIOQUIA | B9: ABEJORRAL | C9: 55030 | D9: NO
A10: BOYACA | B10: SOATA | C10: 151007 | D10: NO
A11: META | B11: VISTAHERMOSA | C11: 504068 | D11: NO
A12: TOLIMA | B12: MELGAR | C12: 734007 | D12: SI
A13: ANTIOQUIA | B13: ENTRERRIOS | C13: 51437 | D13: NO
... A3682: HUILA | B3682: ALGECIRAS | C3682: 413048 | D3682: NO

Sheet Coordinadora cover area
A1: codigo_postal | B1: codigo_departamento | C1: nombre_departamento | D1: codigo_municipio | E1: nombre_municipio | F1: zona_postal | G1: codigo_postal | H1: COD/NO COD
A2: 913057 | B2: 91 | C2: AMAZONAS | D2: 91530 | E2: PUERTO ALEGRIA | F2: 9130 | G2: 913057 | H2: NO COD
A3: 915010 | B3: 91 | C3: AMAZONAS | D3: 91669 | E3: PUERTO SANTANDER | F3: 9150 | G3: 915010 | H3: NO COD
A4: 911018 | B4: 91 | C4: AMAZONAS | D4: 91540 | E4: PUERTO NARIÑO | F4: 9110 | G4: 911018 | H4: NO COD
A5: 913050 | B5: 91 | C5: AMAZONAS | D5: 91530 | E5: PUERTO ALEGRIA | F5: 9130 | G5: 913050 | H5: NO COD
A6: 915019 | B6: 91 | C6: AMAZONAS | D6: 91669 | E6: PUERTO SANTANDER | F6: 9150 | G6: 915019 | H6: NO COD
A7: 914050 | B7: 91 | C7: AMAZONAS | D7: 91405 | E7: LA CHORRERA | F7: 9140 | G7: 914050 | H7: NO COD
A8: 917010 | B8: 91 | C8: AMAZONAS | D8: 91407 | E8: LA PEDRERA | F8: 9170 | G8: 917010 | H8: NO COD
A9: 911039 | B9: 91 | C9: AMAZONAS | D9: 91798 | E9: TARAPACA | F9: 9110 | G9: 911039 | H9: NO COD
A10: 911037 | B10: 91 | C10: AMAZONAS | D10: 91798 | E10: TARAPACA | F10: 9110 | G10: 911037 | H10: NO COD
A11: 911017 | B11: 91 | C11: AMAZONAS | D11: 91540 | E11: PUERTO NARIÑO | F11: 9110 | G11: 911017 | H11: NO COD
A12: 916017 | B12: 91 | C12: AMAZONAS | D12: 91430 | E12: LA VICTORIA | F12: 9160 | G12: 916017 | H12: NO COD
A13: 915017 | B13: 91 | C13: AMAZONAS | D13: 91669 | E13: PUERTO SANTANDER | F13: 9150 | G13: 915017 | H13: NO COD
... A36: 51437 | B36: 5 | C36: ANTIOQUIA | D36: 5264 | E36: ENTRERRIOS | F36: 514 | G36: 51437 | H36: NO COD
A37: 50032 | B37: 5 | C37: ANTIOQUIA | D37: 5001 | E37: MEDELLIN | F37: 500 | G37: 50032 | H37: =VLOOKUP(E37,'[2]Cubrimiento RCE'!A$2:I$136,1,FALSE) -> MEDELLIN
A38: 57067 | B38: 5 | C38: ANTIOQUIA | D38: 5138 | E38: CAÑASGORDAS | F38: 570 | G38: 57067 | H38: NO COD
A39: 51430 | B39: 5 | C39: ANTIOQUIA | D39: 5264 | E39: ENTRERRIOS | F39: 514 | G39: 51430 | H39: NO COD
A40: 56040 | B40: 5 | C40: ANTIOQUIA | D40: 5145 | E40: CARAMANTA | F40: 560 | G40: 56040 | H40: NO COD
A41: 56417 | B41: 5 | C41: ANTIOQUIA | D41: 5209 | E41: CONCORDIA | F41: 564 | G41: 56417 | H41: NO COD
A42: 54438 | B42: 5 | C42: ANTIOQUIA | D42: 5660 | E42: SAN LUIS | F42: 544 | G42: 54438 | H42: NO COD
A43: 51037 | B43: 5 | C43: ANTIOQUIA | D43: 5308 | E43: GIRARDOTA | F43: 510 | G43: 51037 | H43: =VLOOKUP(E43,'[2]Cubrimiento RCE'!A$2:I$136,1,FALSE) -> GIRARDOTA
A44: 55068 | B44: 5 | C44: ANTIOQUIA | D44: 5390 | E44: LA PINTADA | F44: 550 | G44: 55068 | H44: NO COD
A45: 56847 | B45: 5 | C45: ANTIOQUIA | D45: 5125 | E45: CAICEDO | F45: 568 | G45: 56847 | H45: NO COD
A46: 55020 | B46: 5 | C46: ANTIOQUIA | D46: 5400 | E46: LA UNION | F46: 550 | G46: 55020 | H46: NO COD
A47: 53838 | B47: 5 | C47: ANTIOQUIA | D47: 5667 | E47: SAN RAFAEL | F47: 538 | G47: 53838 | H47: NO COD
A48: 55840 | B48: 5 | C48: ANTIOQUIA | D48: 5030 | E48: AMAGA | F48: 558 | G48: 55840 | H48: NO COD
A49: 52050 | B49: 5 | C49: ANTIOQUIA | D49: 5819 | E49: TOLEDO | F49: 520 | G49: 52050 | H49: NO COD
A50: 57040 | B50: 5 | C50: ANTIOQUIA | D50: 5306 | E50: GIRALDO | F50: 570 | G50: 57040 | H50: NO COD
A51: 54848 | B51: 5 | C51: ANTIOQUIA | D51: 5483 | E51: NARIÑO | F51: 548 | G51: 54848 | H51: NO COD
A52: 57030 | B52: 5 | C52: ANTIOQUIA | D52: 5113 | E52: BURITICA | F52: 570 | G52: 57030 | H52: NO COD
A53: 51448 | B53: 5 | C53: ANTIOQUIA | D53: 5761 | E53: SOPETRAN | F53: 514 | G53: 51448 | H53: NO COD
A54: 51030 | B54: 5 | C54: ANTIOQUIA | D54: 5308 | E54: GIRARDOTA | F54: 510 | G54: 51030 | H54: =VLOOKUP(E54,'[2]Cubrimiento RCE'!A$2:I$136,1,FALSE) -> GIRARDOTA
A55: 57050 | B55: 5 | C55: ANTIOQUIA | D55: 5042 | E55: SANTAFE DE ANTIOQUIA | F55: 570 | G55: 57050 | H55: NO COD
A56: 54828 | B56: 5 | C56: ANTIOQUIA | D56: 5756 | E56: SONSON | F56: 548 | G56: 54828 | H56: NO COD
A57: 53467 | B57: 5 | C57: ANTIOQUIA | D57: 5425 | E57: MACEO | F57: 534 | G57: 53467 | H57: NO COD
A58: 57457 | B58: 5 | C58: ANTIOQUIA | D58: 5284 | E58: FRONTINO | F58: 574 | G58: 57457 | H58: NO COD
A59: 56438 | B59: 5 | C59: ANTIOQUIA | D59: 5792 | E59: TARSO | F59: 564 | G59: 56438 | H59: NO COD
A60: 57857 | B60: 5 | C60: ANTIOQUIA | D60: 5147 | E60: CAREPA | F60: 578 | G60: 57857 | H60: NO COD
A61: 57837 | B61: 5 | C61: ANTIOQUIA | D61: 5665 | E61: SAN PEDRO DE URABA | F61: 578 | G61: 57837 | H61: NO COD
A62: 50040 | B62: 5 | C62: ANTIOQUIA | D62: 5001 | E62: MEDELLIN | F62: 500 | G62: 50040 | H62: =VLOOKUP(E62,'[2]Cubrimiento RCE'!A$2:I$136,1,FALSE) -> MEDELLIN
...

Sheet Лист3
A1: codigo_postal | B1: noid | C1: codigo_departamento | D1: nombre_departamento | E1: codigo_municipio | F1: nombre_municipio | G1: zona_postal | H1: codigo_postal | I1: limite_norte | J1: limite_sur | K1: limite_este | L1: limite_oeste | M1: tipo | N1: barrios_contenidos_en_el_codigo_postal | O1: veredas_contenidas_en_el_codigo_postal | P1: RECAUDO CONTRA ENTREGA
A2: 734007 | B2: 3190 | C2: 73 | D2: TOLIMA | E2: 73449 | F2: MELGAR | G2: 7340 | H2: 734007 | I2: MUNICIPIO NILO | J2: MUNICIPIO CUNDAY | K2: MUNICIPIO ICONONZO | L2: MPIO. CARMEN DE APICALÁ | M2: Rural | N2: Sin Informacion de Barrios | O2: Buenavista- Calcuta- Cualamaná- El Águila- El Águila Baja- El Floral- Inalí- La Primavera | P2: SI
A3: 191077 | B3: 1185 | C3: 19 | D3: CAUCA | E3: 19142 | F3: CALOTO | G3: 1910 | H3: 191077 | I3: VÍA S/DER. DE QUILICHAO-NATALA | J3: M. S. DE QUILICHAO Y JAMBALÓ | K3: M. JAMBALÓ Y TORIBÍO | L3: MPIO. S. DE QUILICHAO | M3: Rural | N3: Sin Informacion de Barrios | O3: Altamira- Campo Alegre- Carpintero- Dominga Alta- El Arrayán- El Chocho- El Poblado- El Socorro- Guadualito- Guataba- Huellas- La Buitrera- La Estrella- La Guinea- La Palma- La Pila- La Placa- Loma Gruesa- Loma Pelada- Los Chorros- Los | P3: SI
A4: 50032 | B4: 29 | C4: 5 | D4: ANTIOQUIA | E4: 5001 | F4: MEDELLIN | G4: 500 | H4: 50032 | I4: CL 47D Y KR 96 | J4: CL 32- 31B Y 31D | K4: KR 81 Y 80 | L4: KR 106A- 93 Y LIM URB | M4: Urbano | N4: Barrio Cristóbal- Belencito- Campo Alegre- El Danubio- La América- La Castellana- La Floresta- Las Mercedes- Nueva Villa del Aburrá- Santa Mónica- Santa Teresita- Simón Bolívar | O4: Sin Informacion de Veredas | P4: SI
A5: 730002 | B5: 3094 | C5: 73 | D5: TOLIMA | E5: 73001 | F5: IBAGUE | G5: 7300 | H5: 730002 | I5: LIMITE URBANO | J5: KR 5 | K5: CL 70 | L5: CL 60 Y LIMITE URBANO | M5: Urbano | N5: Sin Informacion de Barrios | O5: Bellavista- El Triunfo- La Pedreguera | P5: SI
A6: 200009 | B6: 1326 | C6: 20 | D6: CESAR | E6: 20001 | F6: VALLEDUPAR | G6: 2000 | H6: 200009 | I6: MUNICIPIO SAN J. DEL CESAR | J6: RIO AZUCAR BUENO | K6: M. VILLANUE.- LA J. DEL PI. Y SAN D. | L6: VIA BOSC.-VALLED.-SAN J. DEL C. | M6: Rural | N6: Sin Informacion de Barrios | O6: EL ENEAL- LOS SANJONES- SAN JERONIMO | P6: SI
A7: 191088 | B7: 1189 | C7: 19 | D7: CAUCA | E7: 19142 | F7: CALOTO | G7: 1910 | H7: 191088 | I7: MUNICIPIO PUERTO TEJADA | J7: VÍA VILLA RICA-PADILLA | K7: MUNICIPIO PADILLA | L7: MUNICIPIO VILLA RICA | M7: Rural | N7: Sin Informacion de Barrios | O7: Sin Informacion de Veredas | P7: SI
A8: 410003 | B8: 1908 | C8: 41 | D8: HUILA | E8: 41001 | F8: NEIVA | G8: 4100 | H8: 410003 | I8: LIMITE URBANO | J8: CL 23 Y KR 49 | K8: LIMITE URBANO | L8: CL 25A | M8: Urbano | N8: Alberto Yepes- Antonio Nariño- Camino Real- Campo Real- Ciudad Salitre- Ciudadela Antonio Baraya- El Oasis- El Pedregal- El Triunfo- Enrique Olaya Herrera- Granja San Bernardo- Katakandru- La Amistad- La Palma II Etapa- La Pradera- La Rioja- La Victoria- | O8: Sin Informacion de Veredas | P8: SI
A9: 500004 | B9: 2192 | C9: 50 | D9: META | E9: 50001 | F9: VILLAVICENCIO | G9: 5000 | H9: 500004 | I9: AK 40 Y KR 33 | J9: RIO OCOA Y LIM URB | K9: KR 22 | L9: KR 48 Y VIA P/LELA C. TIGRE | M9: Urbano | N9: Sin Informacion de Barrios | O9: Sin Informacion de Veredas | P9: SI
A10: 705070 | B10: 3075 | C10: 70 | D10: SUCRE | E10: 70670 | F10: SAMPUES | G10: 7050 | H10: 705070 | I10: LIMITE URBANO | J10: LIMITE URBANO | K10: LIMITE URBANO | L10: LIMITE URBANO | M10: Urbano | N10: 12 de Octubre- 7 de Agosto- 9 de Marzo- Balcones Del Río- Barranquillita- El Campano- El Carmen- Fátima- Gustavo Dajer- La Balsa- La Palma- Las Colinas- Las Flores- Las Mercedes- Millán Vargas- Pera Alonso- Sampumas- San José- San Juan de Dios- Santa Mart | O10: Sin Informacion de Veredas | P10: SI
A11: 51037 | B11: 48 | C11: 5 | D11: ANTIOQUIA | E11: 5308 | F11: GIRARDOTA | G11: 510 | H11: 51037 | I11: MUNICIPIO DON MATIAS | J11: LIMITE URBANO | K11: MUNICIPIO BARBOSA | L11: MUNICIPIO COPACABANA | M11: Rural | N11: Sin Informacion de Barrios | O11: El Socorro- El Tigre- La Mata- La Matica- Loma de los Ochoa- Mercedes abrego- Potrerito | P11: SI
A12: 661007 | B12: 2698 | C12: 66 | D12: RISARALDA | E12: 66170 | F12: DOSQUEBRADAS | G12: 6610 | H12: 661007 | I12: MPIO. MARSELLA Y SANTA RO. DE CABAL | J12: LIMITE URBANO | K12: MPIO. SANTA ROSA DE CABAL | L12: MUNICIPIO PEREIRA | M12: Rural | N12: Sin Informacion de Barrios | O12: Alto Erazo- El Nudo- El Sinai- El Tobanito- Estanquillo- La Argentina- La Cima- La Esperanza- La Esperanza- La Fría- La Palma- La Unión- Llano Grande- Minas del Socorro- Nueva Independencia- Pital de Combia- Santana | P12: SI
A13: 660004 | B13: 2689 | C13: 66 | D13: RISARALDA | E13: 66001 | F13: PEREIRA | G13: 6600 | H13: 660004 | I13: AK 30 AGO - KR 13 | J13: LIMITE URBANO | K13: CL 17 | L13: CL 51 -SANJÓN LA UNIÓN | M13: Urbano | N13: Alcazar de Maraya- Altos de Tanambi- Balcones Villa del Prado- Barajas Central- Barajas I- Barajas II- Belalcázar- Bloques Ciudad Pereira- Bosque de La Salle- Boston- Brasilia- Brisas de Las Américas- Cachipay- Caminos de Maraya- Casas Tulcán- Centenario- | O13: Naranjito | P13: SI
... A1187: 152047 | B1187: 791 | C1187: 15 | D1187: BOYACA | E1187: 15820 | F1187: TOPAGA | G1187: 1520 | H1187: 152047 | I1187: MPIO. CORRALES Y GAMEZA | J1187: MPIO. MONGUI Y MONGUA | K1187: MPIO. GAMEZA Y MONGUA | L1187: MPIO. NOBSA Y SOGAMOSO | M1187: Rural | N1187: Sin Informacion de Barrios | O1187: Sin Informacion de Veredas | P1187: NO
A1188: 57447 | B1188: 356 | C1188: 5 | D1188: ANTIOQUIA | E1188: 5842 | F1188: URAMITA | G1188: 574 | H1188: 57447 | I1188: MUNICIPIO BEBEIBA | J1188: M. C. GORDAS Y FRONTINO | K1188: M. CAÑASGORDAS Y PEQUE | L1188: 0 | M1188: Rural | N1188: Sin Informacion de Barrios | O1188: Alto del Pital- Ambalema- Arenales- Balcon- Barrancon- Botija Arriba- Buena Vista- Caliche- Caracolal- Caunce- Chachafrutal- Chontadural- Chontaduro- Cominal- Corozo- Cumbre- El Llano- El Palón- El Pital- Encalichada- Esperanza Botija- | P1188: NO
A1189: 680541 | B1189: 2748 | C1189: 68 | D1189: SANTANDER | E1189: 68820 | F1189: TONA | G1189: 6805 | H1189: 680541 | I1189: LIMITE URBANO | J1189: CL 1 | K1189: TV 1 | L1189: KR 5A | M1189: Urbano | N1189: Sin Informacion de Barrios | O1189: Sin Informacion de Veredas | P1189: NO
A1190: 547057 | B1190: 2638 | C1190: 54 | D1190: NORTE DE SANTANDER | E1190: 54206 | F1190: CONVENCION | G1190: 5470 | H1190: 547057 | I1190: MPIO. EL CARMEN Y PAÍS VENEZUELA | J1190: MUNICIPIO TEORAMA | K1190: PAÍS VENEZUELA | L1190: RÍO SAYÁN BOKY Y M. EL CARMEN | M1190: Rural | N1190: Sin Informacion de Barrios | O1190: Sin Informacion de Veredas | P1190: NO
A1191: 152080 | B1191: 794 | C1191: 15 | D1191: BOYACA | E1191: 15114 | F1191: BUSBANZA | G1191: 1520 | H1191: 152080 | I1191: KR 1 | J1191: KR 5 | K1191: CL 0 | L1191: CL 6 | M1191: Urbano | N1191: Sin Informacion de Barrios | O1191: Sin Informacion de Veredas | P1191: NO
A1192: 111971 | B1192: 536 | C1192: 11 | D1192: BOGOTA D.C. | E1192: 11001 | F1192: LOCALIDAD CIUDAD BOLIVAR | G1192: 1119 | H1192: 111971 | I1192: CL 97 S | J1192: BARRIO MUCHUELO ALTO RURAL | K1192: RIO TUNJUELITO | L1192: M. SOACHA | M1192: Rural | N1192: Brazuelos Occidental- Brazuelos Occidental Rural- Mochuelo Alto- Mochuelo Alto Rural- Quiba Alto | O1192: Cabecera Municipal- SAN JORGE | P1192: NO
A1193: 862080 | B1193: 3530 | C1193: 86 | D1193: PUTUMAYO | E1193: 86569 | F1193: PUERTO CAICEDO | G1193: 8620 | H1193: 862080 | I1193: LIMITE URBANO | J1193: LIMITE URBANO | K1193: LIMITE URBANO | L1193: LIMITE URBANO | M1193: Urbano | N1193: Sin Informacion de Barrios | O1193: Sin Informacion de Veredas | P1193: NO
A1194: 276050 | B1194: 1883 | C1194: 27 | D1194: CHOCO | E1194: 27495 | F1194: NUQUI | G1194: 2760 | H1194: 276050 | I1194: LIMITE URBANO | J1194: LIMITE URBANO | K1194: LIMITE URBANO | L1194: LIMITE URBANO | M1194: Urbano | N1194: Sin Informacion de Barrios | O1194: Sin Informacion de Veredas | P1194: NO
A1195: 528078 | B1195: 2509 | C1195: 52 | D1195: NARIÑO | E1195: 52079 | F1195: BARBACOAS | G1195: 5280 | H1195: 528078 | I1195: RÍO GUIZA | J1195: ECUADOR Y MPIO. RICAURTE | K1195: RÍO GUIZA | L1195: MPIO. SAN ANDRES DE TUMACO | M1195: Rural | N1195: Sin Informacion de Barrios | O1195: Sin Informacion de Veredas | P1195: NO
A1196: 111941 | B1196: 533 | C1196: 11 | D1196: BOGOTA D.C. | E1196: 11001 | F1196: LOCALIDAD CIUDAD BOLIVAR | G1196: 1119 | H1196: 111941 | I1196: KR 40- 42 Y 45B | J1196: KR 18Z Y 19D | K1196: AC VILLAVICENCIO | L1196: M. SOACHA | M1196: Urbano | N1196: Arborizadora Alta- Arborizadora Alta- Arborizadora Alta- Arborizadora Alta- Candelaria La Nueva- Cerro Colorado- Ciudad Bolívar- Ciudad Bolívar Rural III- El Satélite- Juan José Rondón- Las Acacias- Las Manas- Los Laureles II- Ronda- San Francisco- Villa | O1196: Sin Informacion de Veredas | P1196: NO
A1197: 233538 | B1197: 1489 | C1197: 23 | D1197: CORDOBA | E1197: 23068 | F1197: AYAPEL | G1197: 2335 | H1197: 233538 | I1197: MUNICIPIO SAN BENITO ABAD | J1197: VÍA COLORADO-LAS ESCOBILLAS | K1197: M. MAJAGUAL- GUARANDA Y SAN JA. CA. | L1197: CIENAGA ESCOBITAS Y AYAPEL | M1197: Rural | N1197: Sin Informacion de Barrios | O1197: Sin Informacion de Veredas | P1197: NO
A1198: 153227 | B1198: 865 | C1198: 15 | D1198: BOYACA | E1198: 15380 | F1198: LA CAPILLA | G1198: 1532 | H1198: 153227 | I1198: MUNICIPIO UMBITA | J1198: MUNICIPIO TENZA | K1198: MUNICIPIO TENZA | L1198: M. VILLAPINZON Y UMBITA | M1198: Rural | N1198: Sin Informacion de Barrios | O1198: Barro Blanco Abajo- Barro Blanco Arriba- Bosque- Cabecera Municipal- Camagoa- Centro- Chaguatoque- Chucio- Gaunza Arriba- GUSVITA- Hato- Palma Abajo- Palma Arriba- PARAMO- Páramo- Peñas- SAN ANTONIO- Sisa- Sisa- Soatama- Suntafita- Tam | P1198: NO
A1199: 184017 | B1199: 1111 | C1199: 18 | D1199: CAQUETA | E1199: 18756 | F1199: SOLANO | G1199: 1840 | H1199: 184017 | I1199: MPIO. CALAMAR Y MIRAFLORES | J1199: M. MIRITI-PARÁN- PTO. S/DER. Y RÍO YARÍ | K1199: MPIO. PACOA Y PTO. ALEGRIA | L1199: M. CARTA. DEL CAHIRÁ Y SAN V. DEL CA. | M1199: Rural | N1199: Sin Informacion de Barrios | O1199: Sin Informacion de Veredas | P1199: NO
A1200: 760538 | B1200: 3293 | C1200: 76 | D1200: VALLE DEL CAUCA | E1200: 76126 | F1200: CALIMA | G1200: 7605 | H1200: 760538 | I1200: M. EL LITORAL DEL SAN JUAN | J1200: M. DAGUA Y BUENAVENTURA | K1200: RÍO BRAVO Y (PERMANENTE) | L1200: MPIO. BUENAVENTURA | M1200: Rural | N1200: Sin Informacion de Barrios | O1200: Sin Informacion de Veredas | P1200: NO
... A2753: 734508 | B2753: 3202 | C2753: 73 | D2753: TOLIMA | E2753: 73585 | F2753: PURIFICACION | G2753: 7345 | H2753: 734508 | I2753: VÍA SALDAÑA-EL BAURA-SAN CAYETANO | J2753: MPIO. COYAIMA Y PRADO | K2753: VÍA PRADO-SAN CAYETANO | L2753: MUNICIPIO SALDAÑA | M2753: Rural | N2753: Sin Informacion de Barrios | O2753: Añiles- Buenavista- Cabecera Municipal- Catalan- Chenche A Sector 2- Chenche A.Sector Palmas- Chenche Tres- Chenches Asoleados- Conchal- El Salitre- El Tambo- Hilarco- La Holanda- La Mata- La Ovejera- Primavera- Purificación- Romolinos- S | P2753: NO
A2754: 521050 | B2754: 2327 | C2754: 52 | D2754: NARIÑO | E2754: 52019 | F2754: SAN JOSE DE ALBAN | G2754: 5210 | H2754: 521050 | I2754: LIMITE URBANO | J2754: LIMITE URBANO | K2754: LIMITE URBNO | M2754: Urbano | N2754: Sin Informacion de Barrios | O2754: Buenavista- Cabecera Municipal- El Carmelo- Fátima- San Luis | P2754: NO
A2755: 131010 | B2755: 576 | C2755: 13 | D2755: BOLIVAR | E2755: 13838 | F2755: TURBANA | G2755: 1310 | H2755: 131010 | I2755: CL 27 | J2755: CL 1 | K2755: KR 1 | L2755: KR 22 | M2755: Urbano | N2755: Sin Informacion de Barrios | O2755: Sin Informacion de Veredas | P2755: NO
A2756: 111411 | B2756: 520 | C2756: 11 | D2756: BOGOTA D.C. | E2756: 11001 | F2756: LOCALIDAD LOS MARTIRES | G2756: 1114 | H2756: 111411 | I2756: AC 26 | J2756: AC 1 | K2756: AK CARACAS - AK 14 | L2756: AK 30 | M2756: Urbano | N2756: Colseguros- Eduardo Santos- El Listón- El Progreso- El Vergel- Florida- La Estanzuela- La Favorita- La Pepita- La Sabana- Paloquemao- Ricaurte- Samper Mendoza- San Victorino- Santa Fé- Santa Isabel- Santa Isabel Sur- Usatama- Veraguas- Voto Nacional | O2756: Sin Informacion de Veredas | P2756: NO
A2757: 477040 | B2757: 2170 | C2757: 47 | D2757: MAGDALENA | E2757: 47675 | F2757: SALAMINA | G2757: 4770 | H2757: 477040 | I2757: CL 22 | J2757: LIMITE URBANO | K2757: KR 24 | L2757: KR 0 | M2757: Urbano | N2757: Sin Informacion de Barrios | O2757: Sin Informacion de Veredas | P2757: NO
A2758: 52450 | B2758: 124 | C2758: 5 | D2758: ANTIOQUIA | E2758: 5120 | F2758: CACERES | G2758: 524 | H2758: 52450 | I2758: CL 51 | J2758: LIMITE URBANO | K2758: LIMITE URBANO | L2758: LIMITE URBANO | M2758: Urbano | N2758: Sin Informacion de Barrios | O2758: Sin Informacion de Veredas | P2758: NO
A2759: 204007 | B2759: 1367 | C2759: 20 | D2759: CESAR | E2759: 20517 | F2759: PAILITAS | G2759: 2040 | H2759: 204007 | I2759: MUNICIPIO CHIMICHAGUA | J2759: MUNICIPIO PELAYA | K2759: MUNICIPIO EL CARMEN | L2759: MUNICIPIO TAMALAMEQUE | M2759: Rural | N2759: Sin Informacion de Barrios | O2759: Sin Informacion de Veredas | P2759: NO
A2760: 111111 | B2760: 506 | C2760: 11 | D2760: BOGOTA D.C. | E2760: 11001 | F2760: LOCALIDAD SUBA | G2760: 1111 | H2760: 111111 | I2760: CL 138 | J2760: AC 100 | K2760: AU NORTE | L2760: AK SUBA | M2760: Urbano | N2760: Batán- Canódromo- Ciudad Jardín Norte- Estoril- Iberia- Las Villas- Mónaco- Pasadena- Prado Veraniego- Prado Veraniego Norte- Prado Veraniego Sur- Puente Largo- San José del Prado | O2760: Sin Informacion de Veredas | P2760: NO
A2761: 250228 | B2761: 1549 | C2761: 25 | D2761: CUNDINAMARCA | E2761: 25769 | F2761: SUBACHOQUE | G2761: 2502 | H2761: 250228 | I2761: VIA ZIPAQUIRA - LA PRADERA | J2761: MPIO. MADRID Y EL ROSAL | K2761: MUNICIPIO TABIO Y TENJO | L2761: VIA EL ROSAL - LA PRADERA | M2761: Rural | N2761: Sin Informacion de Barrios | O2761: SANTA ROSA | P2761: NO
A2762: 154007 | B2762: 917 | C2762: 15 | D2762: BOYACA | E2762: 15407 | F2762: VILLA DE LEYVA | G2762: 1540 | H2762: 154007 | I2762: MPIO. GACHANTIVA Y ARCABUCO | J2762: MUNICIPIO SACHICA | K2762: MUNICIPIO CHIQUIZA | L2762: M. STA. SOFIA Y SUTAMARCHÁN | M2762: Rural | N2762: Sin Informacion de Barrios | O2762: Centro- Espinal- Gachantiva Viejo- Guitoque- Hornillas- Las Vegas- Monte Suárez- Quemados- Ritoque- Rupavita- Saavedra de Morales- Saavedra de Roncancio | P2762: NO
A2763: 174030 | B2763: 1037 | C2763: 17 | D2763: CALDAS | E2763: 17867 | F2763: VICTORIA | G2763: 1740 | H2763: 174030 | I2763: LIMITE URBANO | J2763: LIMITE URBANO | K2763: LIMITE URBANO | L2763: LIMITE URBANO | M2763: Urbano | N2763: Sin Informacion de Barrios | O2763: Canaan- El Aguacate | P2763: NO
A2764: 231527 | B2764: 1436 | C2764: 23 | D2764: CORDOBA | E2764: 23672 | F2764: SAN ANTERO | G2764: 2315 | H2764: 231527 | I2764: MAR CARIBE | J2764: MUNICIPIO LORICA | K2764: VÍA LORICA-CAÑO LOBO | L2764: M. SAN BER. DEL VIENTO Y LORICA | M2764: Rural | N2764: Sin Informacion de Barrios | O2764: Cabecera Municipal- Las Nubes- Nuevo Agrado- Santa Cruz- Tijereta | P2764: NO
A2765: 760050 | B2765: 3279 | C2765: 76 | D2765: VALLE DEL CAUCA | E2765: 76001 | F2765: CALI | G2765: 7600 | H2765: 760050 | I2765: M. YUMBO | J2765: AC 4 N | K2765: RIO CALI | L2765: AC 4 | M2765: Urbano | N2765: Brisas de Los Álamos- Ciudad Los Álamos- Prados del Norte- Urbanización La Flora- Urbanización La Merced- Vipasa | O2765: Sin Informacion de Veredas | P2765: NO
...

Sheet Лист2
C1: ОКТРУГ | D1: КОД ОКРУГА | E1: ГОРОД/ПОСЕЛЕНИЕ | G1: ИНДЕКС | O1: Servientrega covering | P1: Coordinadora covering
A2: noid | B2: codigo_departamento | C2: nombre_departamento | D2: codigo_municipio | E2: nombre_municipio | F2: zona_postal | G2: codigo_postal | H2: limite_norte | I2: limite_sur | J2: limite_este | K2: limite_oeste | L2: tipo | M2: barrios_contenidos_en_el_codigo_postal | N2: veredas_contenidas_en_el_codigo_postal
A3: 3003 | B3: 68 | C3: SANTANDER | D3: 68615 | E3: RIONEGRO | F3: 6875 | G3: 687519 | H3: M. LA ESPE.- CACHI. Y RÍO CÁCHI. | I3: M. LEBRIJA Y RÍO CÁCHI. DEL SUR | J3: MUNICIPIO EL PLAYÓN | K3: MUNICIPIO SABANA DE TORRES | L3: Rural | M3: Sin Informacion de Barrios | N3: Caribe- Irlanda- Puerto Limón- Villa Eva- Bocas | O3: COD | P3: NO
A4: 3089 | B4: 70 | C4: SUCRE | D4: 70204 | E4: COLOSO | F4: 7070 | G4: 707030 | H4: KR 2 | I4: LIMITE URBANO | J4: CL 1 | K4: LIMITE URBANO | L4: Urbano | M4: 6 de Enero- Calle Nueva- Villa María | N4: Sin Informacion de Veredas | O4: NO COD | P4: NO
A5: 183 | B5: 5 | C5: ANTIOQUIA | D5: 5674 | E5: SAN VICENTE | F5: 540 | G5: 54018 | H5: VIA SAN VICENTE - CONCEPCION | I5: M. MARINILLA Y RÍO NEGRO | J5: MUNICIPIO PEÑOL | K5: MUNICIPIO GUARNE | L5: Rural | M5: Sin Informacion de Barrios | N5: Compañia Abajo- El Canelo- El Carmelo- La Cabaña- La Peña- Piedra Gorda- Salto Arriba | O5: NO COD | P5: NO
A6: 2089 | B6: 44 | C6: LA GUAJIRA | D6: 44090 | E6: DIBULLA | F6: 4460 | G6: 446007 | H6: MAR CARIBE | I6: VÍA RIOHACHA-SANTA MARTA | J6: MUNICIPIO RIOHACHA | K6: VÍA CASA DE ALUMINIO-MAR CARIBE | L6: Rural | M6: Sin Informacion de Barrios | N6: Sin Informacion de Veredas | O6: COD | P6: NO
A7: 877 | B7: 15 | C7: BOYACA | D7: 15621 | E7: RONDON | F7: 1534 | G7: 153420 | H7: LIMITE URBANO | I7: LIMITE URBANO | J7: LIMITE URBANO | K7: LIMITE URBANO | L7: Urbano | M7: Sin Informacion de Barrios | N7: Sin Informacion de Veredas | O7: NO COD | P7: NO
A8: 2129 | B8: 47 | C8: MAGDALENA | D8: 47545 | E8: PIJIÑO DEL CARMEN | F8: 4740 | G8: 474048 | H8: MUNICIPIO SANTA ANA | I8: M. ASTREA Y SAN SEBAS. DE BUENAVIS. | J8: MUNICIPIO EL PASO | K8: RÍO (PERMANENTE) | L8: Rural | M8: Sin Informacion de Barrios | N8: Casa Blanca- San Jose de Prevension | O8: NO COD | P8: NO
A9: 1765 | B9: 25 | C9: CUNDINAMARCA | D9: 25592 | E9: QUEBRADANEGRA | F9: 2534 | G9: 253427 | H9: MUNICIPIO UTICA | I9: MUNICIPIO VILLETA | J9: MUNICIPIO NIMAIMA | K9: MUNICIPIO GUADUAS | L9: Rural | M9: Sin Informacion de Barrios | N9: Cune- GALETA- HATO- LA ESPERANZA- LA FLORIDA- LA UNION- NACEDEROS- Salitre Blanco- Salitre Negro | O9: NO COD | P9: NO
A10: 228 | B10: 5 | C10: ANTIOQUIA | D10: 5002 | E10: ABEJORRAL | F10: 550 | G10: 55030 | H10: LIMITE URBANO | I10: LIMITE URBANO | J10: LIMITE URBANO | K10: LIMITE URBANO | L10: Urbano | M10: Sin Informacion de Barrios | N10: Alto de Letras | O10: NO COD | P10: NO
A11: 745 | B11: 15 | C11: BOYACA | D11: 15753 | E11: SOATA | F11: 1510 | G11: 151007 | H11: MPIO. TIPACOQUE | I11: MUNICIPIO SUSACÓN | J11: MUNICIPIO BOAVITA | K11: MUNICIPIO ONZAGA | L11: Rural | M11: Sin Informacion de Barrios | N11: Cabecera Municipal- Cañabravo- Centro- Centro- El Espinal- El Espinal- La Chorrera- Llano Grande- LLanoGrande | O11: COD | P11: NO
